BEGIN:VCALENDAR
VERSION:2.0
PRODID:-//Park Place Christian Academy - ECPv6.15.20//NONSGML v1.0//EN
CALSCALE:GREGORIAN
METHOD:PUBLISH
X-ORIGINAL-URL:https://www.goppca.com
X-WR-CALDESC:Events for Park Place Christian Academy
REFRESH-INTERVAL;VALUE=DURATION:PT1H
X-Robots-Tag:noindex
X-PUBLISHED-TTL:PT1H
BEGIN:VTIMEZONE
TZID:America/Chicago
BEGIN:DAYLIGHT
TZOFFSETFROM:-0600
TZOFFSETTO:-0500
TZNAME:CDT
DTSTART:20200308T080000
END:DAYLIGHT
BEGIN:STANDARD
TZOFFSETFROM:-0500
TZOFFSETTO:-0600
TZNAME:CST
DTSTART:20201101T070000
END:STANDARD
BEGIN:DAYLIGHT
TZOFFSETFROM:-0600
TZOFFSETTO:-0500
TZNAME:CDT
DTSTART:20210314T080000
END:DAYLIGHT
BEGIN:STANDARD
TZOFFSETFROM:-0500
TZOFFSETTO:-0600
TZNAME:CST
DTSTART:20211107T070000
END:STANDARD
BEGIN:DAYLIGHT
TZOFFSETFROM:-0600
TZOFFSETTO:-0500
TZNAME:CDT
DTSTART:20220313T080000
END:DAYLIGHT
BEGIN:STANDARD
TZOFFSETFROM:-0500
TZOFFSETTO:-0600
TZNAME:CST
DTSTART:20221106T070000
END:STANDARD
END:VTIMEZONE
BEGIN:VEVENT
DTSTART;TZID=America/Chicago:20210330T140000
DTEND;TZID=America/Chicago:20210330T200000
DTSTAMP:20260424T155558
CREATED:20210330T164822Z
LAST-MODIFIED:20210330T164822Z
UID:1913-1617112800-1617134400@www.goppca.com
SUMMARY:North State Archery Meet @ PPCA
DESCRIPTION:1st Flight – 2pm (NWR & Vicksburg High); 2nd Flight – 3:30pm (Christ Covenant & NWR); 3rd Flight – 5:00pm (Christ Covenant & PPCA); 4th Flight – 6:30pm (Christ Covenant & PPCA)
URL:https://www.goppca.com/calendar/north-state-archery-meet-ppca/
LOCATION:PPCA Campus Gym\, 5701 Hwy 80 East\, Pearl\, MS\, 39208
CATEGORIES:Athletics Calendar
END:VEVENT
BEGIN:VEVENT
DTSTART;TZID=America/Chicago:20210330T160000
DTEND;TZID=America/Chicago:20210330T193000
DTSTAMP:20260424T155558
CREATED:20210330T154559Z
LAST-MODIFIED:20210330T154559Z
UID:1896-1617120000-1617132600@www.goppca.com
SUMMARY:Away JH Baseball Game @ Tri County - 4:00pm & 6:00pm
DESCRIPTION:
URL:https://www.goppca.com/calendar/away-jh-baseball-game-tri-county-400pm-600pm/
LOCATION:Tri-County Academy\, 400 Cox Ferry Rd\, Flora\, Mississippi\, 39071
CATEGORIES:Athletics Calendar
END:VEVENT
BEGIN:VEVENT
DTSTART;TZID=America/Chicago:20210331T100000
DTEND;TZID=America/Chicago:20210331T210000
DTSTAMP:20260424T155558
CREATED:20210330T161651Z
LAST-MODIFIED:20210330T171614Z
UID:1902-1617184800-1617224400@www.goppca.com
SUMMARY:Jackson Prep Track Meet
DESCRIPTION:
URL:https://www.goppca.com/calendar/jackson-prep-track-meet/
LOCATION:Jackson Prep\, 3100 Lakeland Dr.\, Flowood\, MS\, 39232
CATEGORIES:Athletics Calendar
END:VEVENT
END:VCALENDAR