BEGIN:VCALENDAR
VERSION:2.0
PRODID:-//Park Place Christian Academy - ECPv6.15.20//NONSGML v1.0//EN
CALSCALE:GREGORIAN
METHOD:PUBLISH
X-ORIGINAL-URL:https://www.goppca.com
X-WR-CALDESC:Events for Park Place Christian Academy
REFRESH-INTERVAL;VALUE=DURATION:PT1H
X-Robots-Tag:noindex
X-PUBLISHED-TTL:PT1H
BEGIN:VTIMEZONE
TZID:America/Chicago
BEGIN:DAYLIGHT
TZOFFSETFROM:-0600
TZOFFSETTO:-0500
TZNAME:CDT
DTSTART:20200308T080000
END:DAYLIGHT
BEGIN:STANDARD
TZOFFSETFROM:-0500
TZOFFSETTO:-0600
TZNAME:CST
DTSTART:20201101T070000
END:STANDARD
BEGIN:DAYLIGHT
TZOFFSETFROM:-0600
TZOFFSETTO:-0500
TZNAME:CDT
DTSTART:20210314T080000
END:DAYLIGHT
BEGIN:STANDARD
TZOFFSETFROM:-0500
TZOFFSETTO:-0600
TZNAME:CST
DTSTART:20211107T070000
END:STANDARD
BEGIN:DAYLIGHT
TZOFFSETFROM:-0600
TZOFFSETTO:-0500
TZNAME:CDT
DTSTART:20220313T080000
END:DAYLIGHT
BEGIN:STANDARD
TZOFFSETFROM:-0500
TZOFFSETTO:-0600
TZNAME:CST
DTSTART:20221106T070000
END:STANDARD
END:VTIMEZONE
BEGIN:VEVENT
DTSTART;VALUE=DATE:20210501
DTEND;VALUE=DATE:20210502
DTSTAMP:20260424T131610
CREATED:20210430T152359Z
LAST-MODIFIED:20210430T152521Z
UID:2104-1619827200-1619913599@www.goppca.com
SUMMARY:State Track Meet @ PREP - Running Events
DESCRIPTION:
URL:https://www.goppca.com/calendar/state-track-meet-running-events/
LOCATION:Jackson Prep\, 3100 Lakeland Dr.\, Flowood\, MS\, 39232
CATEGORIES:Athletics Calendar
END:VEVENT
BEGIN:VEVENT
DTSTART;VALUE=DATE:20210506
DTEND;VALUE=DATE:20210507
DTSTAMP:20260424T131610
CREATED:20210504T164824Z
LAST-MODIFIED:20210504T164824Z
UID:2114-1620259200-1620345599@www.goppca.com
SUMMARY:MAIS State Tennis Tourn in Vicksburg
DESCRIPTION:
URL:https://www.goppca.com/calendar/mais-state-tennis-tourn-in-vicksburg/
LOCATION:Vicksburg Tennis Center 257 Halls Ferry Park Road. Vicksburg\, MS 39180\, 257 Halls Ferry Park Road\, Vicksburg\, MS\, 39180
CATEGORIES:Athletics Calendar
END:VEVENT
BEGIN:VEVENT
DTSTART;TZID=America/Chicago:20210510T180000
DTEND;TZID=America/Chicago:20210510T200000
DTSTAMP:20260424T131610
CREATED:20210504T170002Z
LAST-MODIFIED:20210504T170002Z
UID:2119-1620669600-1620676800@www.goppca.com
SUMMARY:Baseball Awards Ceremony - 6pm
DESCRIPTION:BOATNER HALL
URL:https://www.goppca.com/calendar/baseball-awards-ceremony-6pm/
LOCATION:MS
CATEGORIES:Athletics Calendar
END:VEVENT
BEGIN:VEVENT
DTSTART;TZID=America/Chicago:20210511T180000
DTEND;TZID=America/Chicago:20210511T183000
DTSTAMP:20260424T131610
CREATED:20210510T140617Z
LAST-MODIFIED:20210510T155501Z
UID:2151-1620756000-1620757800@www.goppca.com
SUMMARY:JH Football Parent Meeting - 6pm
DESCRIPTION:The meeting will be in the upstairs chapel room located in the 201 building.
URL:https://www.goppca.com/calendar/jh-football-parent-meeting-6pm/
LOCATION:MS
CATEGORIES:Athletics Calendar
END:VEVENT
BEGIN:VEVENT
DTSTART;TZID=America/Chicago:20210511T184500
DTEND;TZID=America/Chicago:20210511T191500
DTSTAMP:20260424T131610
CREATED:20210510T140816Z
LAST-MODIFIED:20210510T155426Z
UID:2152-1620758700-1620760500@www.goppca.com
SUMMARY:HS Football Parent Meeting - 6:45pm
DESCRIPTION:The meeting will be in the upstairs chapel room located in the 201 building.
URL:https://www.goppca.com/calendar/hs-football-parent-meeting-645pm/
LOCATION:MS
CATEGORIES:Athletics Calendar
END:VEVENT
BEGIN:VEVENT
DTSTART;TZID=America/Chicago:20210513T171500
DTEND;TZID=America/Chicago:20210513T183000
DTSTAMP:20260424T131610
CREATED:20210504T165159Z
LAST-MODIFIED:20210510T155341Z
UID:2116-1620926100-1620930600@www.goppca.com
SUMMARY:Varsity Boys Basketball Awards Ceremony - 5:15pm
DESCRIPTION:It will be in the upstairs of the 201 building.  It will be from 5:15pm-6:30pm.
URL:https://www.goppca.com/calendar/varsity-boys-basketball-awards-ceremony/
LOCATION:MS
CATEGORIES:Athletics Calendar
END:VEVENT
BEGIN:VEVENT
DTSTART;TZID=America/Chicago:20210513T180000
DTEND;TZID=America/Chicago:20210513T193000
DTSTAMP:20260424T131610
CREATED:20210504T164955Z
LAST-MODIFIED:20210504T164955Z
UID:2115-1620928800-1620934200@www.goppca.com
SUMMARY:Tennis Awards Ceremony - 6pm
DESCRIPTION:It will be at the Cornerstone Clubhouse
URL:https://www.goppca.com/calendar/tennis-awards-ceremony-6pm/
LOCATION:MS
CATEGORIES:Athletics Calendar
END:VEVENT
BEGIN:VEVENT
DTSTART;VALUE=DATE:20210515
DTEND;VALUE=DATE:20210516
DTSTAMP:20260424T131610
CREATED:20210504T165309Z
LAST-MODIFIED:20210514T163522Z
UID:2117-1621036800-1621123199@www.goppca.com
SUMMARY:Winter Guard Awards Ceremony
DESCRIPTION:
URL:https://www.goppca.com/calendar/winter-guard-awards-ceremony-6pm/
LOCATION:MS
CATEGORIES:Athletics Calendar
END:VEVENT
BEGIN:VEVENT
DTSTART;TZID=America/Chicago:20210518T180000
DTEND;TZID=America/Chicago:20210518T190000
DTSTAMP:20260424T131610
CREATED:20210514T163201Z
LAST-MODIFIED:20210514T163201Z
UID:2214-1621360800-1621364400@www.goppca.com
SUMMARY:Pee Wee Football Parent Meeting - 6:00pm
DESCRIPTION:6:00pm in the Chapel Room (upstairs in the 201 bldg)
URL:https://www.goppca.com/calendar/pee-wee-football-parent-meeting-600pm/
LOCATION:MS
CATEGORIES:Athletics Calendar
END:VEVENT
BEGIN:VEVENT
DTSTART;TZID=America/Chicago:20210520T173000
DTEND;TZID=America/Chicago:20210520T183000
DTSTAMP:20260424T131610
CREATED:20210514T161924Z
LAST-MODIFIED:20210514T161924Z
UID:2210-1621531800-1621535400@www.goppca.com
SUMMARY:Pee Wee Cheer Parent Meeting - 5:30pm
DESCRIPTION:It will be in the Chapel Room (upstairs in the 201 bldg)
URL:https://www.goppca.com/calendar/pee-wee-cheer-parent-meeting-530pm/
LOCATION:MS
CATEGORIES:Athletics Calendar
END:VEVENT
BEGIN:VEVENT
DTSTART;TZID=America/Chicago:20210520T183000
DTEND;TZID=America/Chicago:20210520T193000
DTSTAMP:20260424T131610
CREATED:20210517T163931Z
LAST-MODIFIED:20210517T163931Z
UID:2220-1621535400-1621539000@www.goppca.com
SUMMARY:Varsity Girls Basketball & Track Awards Ceremony
DESCRIPTION:6:30pm – 7:30pm – Chapel Room (upstairs in the 201 bldg)
URL:https://www.goppca.com/calendar/varsity-girls-basketball-track-awards-ceremony/
LOCATION:MS
CATEGORIES:Athletics Calendar
END:VEVENT
BEGIN:VEVENT
DTSTART;VALUE=DATE:20210524
DTEND;VALUE=DATE:20210525
DTSTAMP:20260424T131610
CREATED:20210514T162907Z
LAST-MODIFIED:20210514T164308Z
UID:2213-1621814400-1621900799@www.goppca.com
SUMMARY:Pee Wee Cheer Fitting
DESCRIPTION:Time & Location – TBA
URL:https://www.goppca.com/calendar/pee-wee-cheer-fitting/
LOCATION:MS
CATEGORIES:Athletics Calendar
END:VEVENT
BEGIN:VEVENT
DTSTART;TZID=America/Chicago:20210524T080000
DTEND;TZID=America/Chicago:20210527T110000
DTSTAMP:20260424T131610
CREATED:20210416T144019Z
LAST-MODIFIED:20210416T144525Z
UID:2025-1621843200-1622113200@www.goppca.com
SUMMARY:Young Crusaders Sports Camp
DESCRIPTION:Young Crusaders Sports Camp
URL:https://www.goppca.com/calendar/2025/
LOCATION:MS
CATEGORIES:Athletics Calendar,PPCA School Calendar
END:VEVENT
BEGIN:VEVENT
DTSTART;TZID=America/Chicago:20210525T180000
DTEND;TZID=America/Chicago:20210525T200000
DTSTAMP:20260424T131610
CREATED:20210517T170554Z
LAST-MODIFIED:20210517T170603Z
UID:2221-1621965600-1621972800@www.goppca.com
SUMMARY:Fast Pitch Softball Tryouts - 6pm
DESCRIPTION:The tryouts will be at Shiloh Park on Field #9 – 6pm
URL:https://www.goppca.com/calendar/fast-pitch-softball-tryouts-6pm/
LOCATION:MS
CATEGORIES:Athletics Calendar
END:VEVENT
END:VCALENDAR