BEGIN:VCALENDAR
VERSION:2.0
PRODID:-//Park Place Christian Academy - ECPv6.15.20//NONSGML v1.0//EN
CALSCALE:GREGORIAN
METHOD:PUBLISH
X-ORIGINAL-URL:https://www.goppca.com
X-WR-CALDESC:Events for Park Place Christian Academy
REFRESH-INTERVAL;VALUE=DURATION:PT1H
X-Robots-Tag:noindex
X-PUBLISHED-TTL:PT1H
BEGIN:VTIMEZONE
TZID:America/Chicago
BEGIN:DAYLIGHT
TZOFFSETFROM:-0600
TZOFFSETTO:-0500
TZNAME:CDT
DTSTART:20200308T080000
END:DAYLIGHT
BEGIN:STANDARD
TZOFFSETFROM:-0500
TZOFFSETTO:-0600
TZNAME:CST
DTSTART:20201101T070000
END:STANDARD
BEGIN:DAYLIGHT
TZOFFSETFROM:-0600
TZOFFSETTO:-0500
TZNAME:CDT
DTSTART:20210314T080000
END:DAYLIGHT
BEGIN:STANDARD
TZOFFSETFROM:-0500
TZOFFSETTO:-0600
TZNAME:CST
DTSTART:20211107T070000
END:STANDARD
BEGIN:DAYLIGHT
TZOFFSETFROM:-0600
TZOFFSETTO:-0500
TZNAME:CDT
DTSTART:20220313T080000
END:DAYLIGHT
BEGIN:STANDARD
TZOFFSETFROM:-0500
TZOFFSETTO:-0600
TZNAME:CST
DTSTART:20221106T070000
END:STANDARD
END:VTIMEZONE
BEGIN:VEVENT
DTSTART;TZID=America/Chicago:20210802T000000
DTEND;TZID=America/Chicago:20210802T000000
DTSTAMP:20260424T090013
CREATED:20210702T211915Z
LAST-MODIFIED:20210802T174428Z
UID:2395-1627862400-1627862400@www.goppca.com
SUMMARY:Softball Game @ Prentiss Christian - CANCELLED
DESCRIPTION:JV/Varsity 5:00 & 6:30 – CANCELLED
URL:https://www.goppca.com/calendar/softball-game-prentiss-christian-school/
LOCATION:Prentiss Christian\, 1643 Amanda St\, Prentiss\, Ms\, 39474
CATEGORIES:Athletics Calendar
END:VEVENT
BEGIN:VEVENT
DTSTART;VALUE=DATE:20210803
DTEND;VALUE=DATE:20210804
DTSTAMP:20260424T090013
CREATED:20210702T212835Z
LAST-MODIFIED:20210803T162845Z
UID:2397-1627948800-1628035199@www.goppca.com
SUMMARY:Softball Game vs Central Holmes Christian School
DESCRIPTION:JV/Varsity – 5:00 & 6:30
URL:https://www.goppca.com/calendar/softball-game-vs-central-holmes-christian-school/
LOCATION:Quarry – Field #4\, Boyce Thompson Dr\, Brandon\, MS\, 39042
CATEGORIES:Athletics Calendar
END:VEVENT
BEGIN:VEVENT
DTSTART;TZID=America/Chicago:20210805T173000
DTEND;TZID=America/Chicago:20210805T190000
DTSTAMP:20260424T090013
CREATED:20210719T190042Z
LAST-MODIFIED:20210719T190211Z
UID:2459-1628184600-1628190000@www.goppca.com
SUMMARY:Girls Soccer Game @ East Rankin
DESCRIPTION:
URL:https://www.goppca.com/calendar/girls-soccer-game-vs-east-rankin/
LOCATION:East Rankin Academy\, 400 MS-43\, Pelahatchie\, MS\, 39145
CATEGORIES:Athletics Calendar
END:VEVENT
BEGIN:VEVENT
DTSTART;VALUE=DATE:20210806
DTEND;VALUE=DATE:20210808
DTSTAMP:20260424T090013
CREATED:20210719T190300Z
LAST-MODIFIED:20210719T190446Z
UID:2460-1628208000-1628380799@www.goppca.com
SUMMARY:Girls Soccer Tourn @ Brookhaven
DESCRIPTION:Time – TBD
URL:https://www.goppca.com/calendar/girls-soccer-tourn-brookhaven/
LOCATION:MS
CATEGORIES:Athletics Calendar
END:VEVENT
BEGIN:VEVENT
DTSTART;VALUE=DATE:20210810
DTEND;VALUE=DATE:20210811
DTSTAMP:20260424T090013
CREATED:20210702T213931Z
LAST-MODIFIED:20210702T213931Z
UID:2401-1628553600-1628639999@www.goppca.com
SUMMARY:Softball Game vs Jackson Academy
DESCRIPTION:JV/Varsity – 5:00 & 6:15
URL:https://www.goppca.com/calendar/softball-game-vs-jackson-academy/
LOCATION:Shiloh Park – Field #3\, 322 Shiloh Rd\, Brandon\, MS\, 39042
CATEGORIES:Athletics Calendar
END:VEVENT
BEGIN:VEVENT
DTSTART;TZID=America/Chicago:20210810T170000
DTEND;TZID=America/Chicago:20210810T183000
DTSTAMP:20260424T090013
CREATED:20210719T190742Z
LAST-MODIFIED:20210719T190750Z
UID:2463-1628614800-1628620200@www.goppca.com
SUMMARY:Girls Soccer Game vs St. Joe
DESCRIPTION:
URL:https://www.goppca.com/calendar/girls-soccer-game-vs-st-joe/
LOCATION:H.F. Shepherd Memorial Field\, 2420 Old Brandon Rd\, Pearl\, MS\, 39208\, United States
CATEGORIES:Athletics Calendar
END:VEVENT
BEGIN:VEVENT
DTSTART;VALUE=DATE:20210812
DTEND;VALUE=DATE:20210813
DTSTAMP:20260424T090013
CREATED:20210702T214044Z
LAST-MODIFIED:20210702T214044Z
UID:2402-1628726400-1628812799@www.goppca.com
SUMMARY:Softball Game vs Victors
DESCRIPTION:JV/Varsity – 5:00 & 6:30
URL:https://www.goppca.com/calendar/softball-game-vs-victors/
LOCATION:Shiloh Park – Field #3\, 322 Shiloh Rd\, Brandon\, MS\, 39042
CATEGORIES:Athletics Calendar
END:VEVENT
BEGIN:VEVENT
DTSTART;TZID=America/Chicago:20210813T000000
DTEND;TZID=America/Chicago:20210813T000000
DTSTAMP:20260424T090013
CREATED:20210616T153702Z
LAST-MODIFIED:20210616T153702Z
UID:2289-1628812800-1628812800@www.goppca.com
SUMMARY:PPCA Meet the Crusaders
DESCRIPTION:Watch for information regarding location and times of this fun family event when members and coaches or sponsors of PPCA’s athletic groups are introduced.
URL:https://www.goppca.com/calendar/ppca-meet-the-crusaders/
LOCATION:MS
CATEGORIES:Athletics Calendar,PPCA School Calendar
END:VEVENT
BEGIN:VEVENT
DTSTART;VALUE=DATE:20210816
DTEND;VALUE=DATE:20210817
DTSTAMP:20260424T090013
CREATED:20210702T214403Z
LAST-MODIFIED:20210702T214403Z
UID:2403-1629072000-1629158399@www.goppca.com
SUMMARY:Softball Game @ Jackson Academy
DESCRIPTION:JV/Varsity – Time TBD
URL:https://www.goppca.com/calendar/softball-game-jackson-academy/
LOCATION:MS
CATEGORIES:Athletics Calendar
END:VEVENT
BEGIN:VEVENT
DTSTART;VALUE=DATE:20210817
DTEND;VALUE=DATE:20210818
DTSTAMP:20260424T090013
CREATED:20210702T214506Z
LAST-MODIFIED:20210702T214506Z
UID:2404-1629158400-1629244799@www.goppca.com
SUMMARY:Softball Game @ East Rankin
DESCRIPTION:JV/Varsity – 5:00 & 6:30
URL:https://www.goppca.com/calendar/softball-game-east-rankin/
LOCATION:East Rankin Academy\, 400 MS-43\, Pelahatchie\, MS\, 39145
CATEGORIES:Athletics Calendar
END:VEVENT
BEGIN:VEVENT
DTSTART;TZID=America/Chicago:20210817T153000
DTEND;TZID=America/Chicago:20210817T170000
DTSTAMP:20260424T090013
CREATED:20210514T162315Z
LAST-MODIFIED:20210514T164205Z
UID:2211-1629214200-1629219600@www.goppca.com
SUMMARY:Mini Sader Cheer Clinic - 3:30pm - 5:00pm
DESCRIPTION:3:30pm until 5:00pm – PPCA campus gym
URL:https://www.goppca.com/calendar/mini-sader-cheer-clinic-330pm-500pm/
LOCATION:MS
CATEGORIES:Athletics Calendar
END:VEVENT
BEGIN:VEVENT
DTSTART;VALUE=DATE:20210819
DTEND;VALUE=DATE:20210820
DTSTAMP:20260424T090013
CREATED:20210701T210545Z
LAST-MODIFIED:20210701T210545Z
UID:2382-1629331200-1629417599@www.goppca.com
SUMMARY:JH Football Game - Open Date
DESCRIPTION:
URL:https://www.goppca.com/calendar/jh-football-game-open-date/
LOCATION:MS
CATEGORIES:Athletics Calendar
END:VEVENT
BEGIN:VEVENT
DTSTART;VALUE=DATE:20210819
DTEND;VALUE=DATE:20210820
DTSTAMP:20260424T090013
CREATED:20210702T214631Z
LAST-MODIFIED:20210819T190320Z
UID:2405-1629331200-1629417599@www.goppca.com
SUMMARY:Softball Game vs Winston Academy - CANCELLED
DESCRIPTION:Varsity Only – 5:30
URL:https://www.goppca.com/calendar/softball-game-vs-winston-academy/
LOCATION:Winston Academy
CATEGORIES:Athletics Calendar
END:VEVENT
BEGIN:VEVENT
DTSTART;TZID=America/Chicago:20210819T153000
DTEND;TZID=America/Chicago:20210819T170000
DTSTAMP:20260424T090013
CREATED:20210719T190903Z
LAST-MODIFIED:20210813T174619Z
UID:2464-1629387000-1629392400@www.goppca.com
SUMMARY:Girls Soccer Game vs Central Hinds
DESCRIPTION:
URL:https://www.goppca.com/calendar/girls-soccer-game-vs-central-hinds/
LOCATION:H.F. Shepherd Memorial Field\, 2420 Old Brandon Rd\, Pearl\, MS\, 39208\, United States
CATEGORIES:Athletics Calendar
END:VEVENT
BEGIN:VEVENT
DTSTART;TZID=America/Chicago:20210820T190000
DTEND;TZID=America/Chicago:20210820T210000
DTSTAMP:20260424T090013
CREATED:20210701T200952Z
LAST-MODIFIED:20210701T201826Z
UID:2355-1629486000-1629493200@www.goppca.com
SUMMARY:Varsity Football Game vs St. Aloysius
DESCRIPTION:
URL:https://www.goppca.com/calendar/varsity-football-game-vs-st-aloysius/
LOCATION:H.F. Shepherd Memorial Field\, 2420 Old Brandon Rd\, Pearl\, MS\, 39208\, United States
CATEGORIES:Athletics Calendar
END:VEVENT
BEGIN:VEVENT
DTSTART;VALUE=DATE:20210821
DTEND;VALUE=DATE:20210822
DTSTAMP:20260424T090013
CREATED:20210701T205256Z
LAST-MODIFIED:20210701T205256Z
UID:2371-1629504000-1629590399@www.goppca.com
SUMMARY:Pee Wee Football Jamboree @ Christ Covenant
DESCRIPTION:Time-TBD
URL:https://www.goppca.com/calendar/pee-wee-football-jamboree-christ-covenant/
LOCATION:Christ Covenant\, 752 S Pear Orchard Rd\, Ridgeland\, MS\, 39157
CATEGORIES:Athletics Calendar
END:VEVENT
BEGIN:VEVENT
DTSTART;VALUE=DATE:20210823
DTEND;VALUE=DATE:20210824
DTSTAMP:20260424T090013
CREATED:20210702T214834Z
LAST-MODIFIED:20210702T214834Z
UID:2407-1629676800-1629763199@www.goppca.com
SUMMARY:Softball Game @ Central Holmes Christian School
DESCRIPTION:JV/Varsity – 5:00 & 6:30
URL:https://www.goppca.com/calendar/softball-game-central-holmes-christian-school/
LOCATION:MS
CATEGORIES:Athletics Calendar
END:VEVENT
BEGIN:VEVENT
DTSTART;TZID=America/Chicago:20210824T170000
DTEND;TZID=America/Chicago:20210824T183000
DTSTAMP:20260424T090013
CREATED:20210719T192358Z
LAST-MODIFIED:20210824T142604Z
UID:2465-1629824400-1629829800@www.goppca.com
SUMMARY:Girls Soccer Game vs Lamar School - CANCELLED
DESCRIPTION:
URL:https://www.goppca.com/calendar/girls-soccer-game-vs-lamar-school/
LOCATION:H.F. Shepherd Memorial Field\, 2420 Old Brandon Rd\, Pearl\, MS\, 39208\, United States
CATEGORIES:Athletics Calendar
END:VEVENT
BEGIN:VEVENT
DTSTART;VALUE=DATE:20210826
DTEND;VALUE=DATE:20210827
DTSTAMP:20260424T090013
CREATED:20210701T205339Z
LAST-MODIFIED:20210701T210122Z
UID:2373-1629936000-1630022399@www.goppca.com
SUMMARY:Pee Wee Football Game - Open Date
DESCRIPTION:
URL:https://www.goppca.com/calendar/pee-wee-football-open-date/
LOCATION:MS
CATEGORIES:Athletics Calendar
END:VEVENT
BEGIN:VEVENT
DTSTART;TZID=America/Chicago:20210826T180000
DTEND;TZID=America/Chicago:20210826T190000
DTSTAMP:20260424T090013
CREATED:20210701T210649Z
LAST-MODIFIED:20210806T184820Z
UID:2383-1630000800-1630004400@www.goppca.com
SUMMARY:JH Football Game vs Lamar School
DESCRIPTION:
URL:https://www.goppca.com/calendar/jh-football-game-vs-lamar-school/
LOCATION:H.F. Shepherd Memorial Field\, 2420 Old Brandon Rd\, Pearl\, MS\, 39208\, United States
CATEGORIES:Athletics Calendar
END:VEVENT
BEGIN:VEVENT
DTSTART;TZID=America/Chicago:20210827T190000
DTEND;TZID=America/Chicago:20210827T210000
DTSTAMP:20260424T090013
CREATED:20210701T204531Z
LAST-MODIFIED:20210701T204531Z
UID:2370-1630090800-1630098000@www.goppca.com
SUMMARY:Varsity Football Game @ Central Hinds
DESCRIPTION:
URL:https://www.goppca.com/calendar/varsity-football-game-central-hinds/
LOCATION:Central Hinds Academy\, 2894 Raymond Bolton Rd\, Raymond\, MS\, 39154
CATEGORIES:Athletics Calendar
END:VEVENT
BEGIN:VEVENT
DTSTART;VALUE=DATE:20210830
DTEND;VALUE=DATE:20210831
DTSTAMP:20260424T090013
CREATED:20210712T220358Z
LAST-MODIFIED:20210712T220729Z
UID:2414-1630281600-1630367999@www.goppca.com
SUMMARY:Softball Game @ Victors
DESCRIPTION:JV/Varsity – 5:00pm & 6:30pm
URL:https://www.goppca.com/calendar/softball-game-victors/
LOCATION:MS
CATEGORIES:Athletics Calendar
END:VEVENT
BEGIN:VEVENT
DTSTART;TZID=America/Chicago:20210831T160000
DTEND;TZID=America/Chicago:20210831T173000
DTSTAMP:20260424T090013
CREATED:20210719T192612Z
LAST-MODIFIED:20210831T143525Z
UID:2466-1630425600-1630431000@www.goppca.com
SUMMARY:Girls Soccer Game @ Discovery Christian - CANCELLED
DESCRIPTION:
URL:https://www.goppca.com/calendar/girls-soccer-game-discovery-christian/
LOCATION:Discovery Christian\, 111 Wesley Cir\, Florence\, MS\, 39073
CATEGORIES:Athletics Calendar
END:VEVENT
END:VCALENDAR