BEGIN:VCALENDAR
VERSION:2.0
PRODID:-//Park Place Christian Academy - ECPv6.15.20//NONSGML v1.0//EN
CALSCALE:GREGORIAN
METHOD:PUBLISH
X-WR-CALNAME:Park Place Christian Academy
X-ORIGINAL-URL:https://www.goppca.com
X-WR-CALDESC:Events for Park Place Christian Academy
REFRESH-INTERVAL;VALUE=DURATION:PT1H
X-Robots-Tag:noindex
X-PUBLISHED-TTL:PT1H
BEGIN:VTIMEZONE
TZID:America/Chicago
BEGIN:DAYLIGHT
TZOFFSETFROM:-0600
TZOFFSETTO:-0500
TZNAME:CDT
DTSTART:20200308T080000
END:DAYLIGHT
BEGIN:STANDARD
TZOFFSETFROM:-0500
TZOFFSETTO:-0600
TZNAME:CST
DTSTART:20201101T070000
END:STANDARD
BEGIN:DAYLIGHT
TZOFFSETFROM:-0600
TZOFFSETTO:-0500
TZNAME:CDT
DTSTART:20210314T080000
END:DAYLIGHT
BEGIN:STANDARD
TZOFFSETFROM:-0500
TZOFFSETTO:-0600
TZNAME:CST
DTSTART:20211107T070000
END:STANDARD
BEGIN:DAYLIGHT
TZOFFSETFROM:-0600
TZOFFSETTO:-0500
TZNAME:CDT
DTSTART:20220313T080000
END:DAYLIGHT
BEGIN:STANDARD
TZOFFSETFROM:-0500
TZOFFSETTO:-0600
TZNAME:CST
DTSTART:20221106T070000
END:STANDARD
END:VTIMEZONE
BEGIN:VEVENT
DTSTART;VALUE=DATE:20210902
DTEND;VALUE=DATE:20210903
DTSTAMP:20260424T074203
CREATED:20210712T223745Z
LAST-MODIFIED:20210820T140928Z
UID:2424-1630540800-1630627199@www.goppca.com
SUMMARY:Softball Game vs Sylva Bay Academy - CANCELLED
DESCRIPTION:JV/Varsity – 5:00pm & 6:30pm
URL:https://www.goppca.com/calendar/softball-game-vs-sylva-bay-academy-2/
LOCATION:Shiloh Park – Field #3\, 322 Shiloh Rd\, Brandon\, MS\, 39042
CATEGORIES:Athletics Calendar
END:VEVENT
BEGIN:VEVENT
DTSTART;TZID=America/Chicago:20210902T173000
DTEND;TZID=America/Chicago:20210902T190000
DTSTAMP:20260424T074203
CREATED:20210701T210929Z
LAST-MODIFIED:20210806T184909Z
UID:2384-1630603800-1630609200@www.goppca.com
SUMMARY:JH Football Game @ St. Joe - Madison
DESCRIPTION:
URL:https://www.goppca.com/calendar/jh-football-game-st-joe-madiosn/
LOCATION:St. Joe – Madison\, 308 New Mannsdale Road\, Madison\, MS\, 39110\, United States
CATEGORIES:Athletics Calendar
END:VEVENT
BEGIN:VEVENT
DTSTART;TZID=America/Chicago:20210902T180000
DTEND;TZID=America/Chicago:20210902T190000
DTSTAMP:20260424T074203
CREATED:20210701T205433Z
LAST-MODIFIED:20210806T184320Z
UID:2374-1630605600-1630609200@www.goppca.com
SUMMARY:Pee Wee Football Game vs St. Andrews
DESCRIPTION:
URL:https://www.goppca.com/calendar/pee-wee-football-game-vs-st-andrews/
LOCATION:H.F. Shepherd Memorial Field\, 2420 Old Brandon Rd\, Pearl\, MS\, 39208\, United States
CATEGORIES:Athletics Calendar
END:VEVENT
BEGIN:VEVENT
DTSTART;TZID=America/Chicago:20210903T190000
DTEND;TZID=America/Chicago:20210903T210000
DTSTAMP:20260424T074203
CREATED:20210701T202032Z
LAST-MODIFIED:20210701T202052Z
UID:2357-1630695600-1630702800@www.goppca.com
SUMMARY:Varsity Football Game vs Cathedral
DESCRIPTION:
URL:https://www.goppca.com/calendar/varsity-football-game-vs-cathedral/
LOCATION:H.F. Shepherd Memorial Field\, 2420 Old Brandon Rd\, Pearl\, MS\, 39208\, United States
CATEGORIES:Athletics Calendar
END:VEVENT
BEGIN:VEVENT
DTSTART;VALUE=DATE:20210907
DTEND;VALUE=DATE:20210908
DTSTAMP:20260424T074203
CREATED:20210712T221749Z
LAST-MODIFIED:20210712T221749Z
UID:2417-1630972800-1631059199@www.goppca.com
SUMMARY:Softball Game vs Simpson Academy
DESCRIPTION:JV/Varsity – 5:00pm & 6:30pm
URL:https://www.goppca.com/calendar/softball-game-vs-simpson-academy/
LOCATION:Shiloh Park – Field #3\, 322 Shiloh Rd\, Brandon\, MS\, 39042
CATEGORIES:Athletics Calendar
END:VEVENT
BEGIN:VEVENT
DTSTART;VALUE=DATE:20210909
DTEND;VALUE=DATE:20210910
DTSTAMP:20260424T074203
CREATED:20210712T221906Z
LAST-MODIFIED:20210908T172217Z
UID:2418-1631145600-1631231999@www.goppca.com
SUMMARY:Softball Game @ St. Aloysius
DESCRIPTION:Varsity Only – 4:30pm
URL:https://www.goppca.com/calendar/softball-game-st-aloysius/
CATEGORIES:Athletics Calendar
END:VEVENT
BEGIN:VEVENT
DTSTART;TZID=America/Chicago:20210909T170000
DTEND;TZID=America/Chicago:20210909T180000
DTSTAMP:20260424T074203
CREATED:20210701T205619Z
LAST-MODIFIED:20210806T184417Z
UID:2375-1631206800-1631210400@www.goppca.com
SUMMARY:Pee Wee Football Game @ St. Aloysius
DESCRIPTION:
URL:https://www.goppca.com/calendar/pee-wee-football-game-st-aloysius/
LOCATION:Central Hinds\, 2894 Raymond/Bolton Rd\, Raymond\, MS\, 39154
CATEGORIES:Athletics Calendar
END:VEVENT
BEGIN:VEVENT
DTSTART;TZID=America/Chicago:20210909T173000
DTEND;TZID=America/Chicago:20210909T190000
DTSTAMP:20260424T074203
CREATED:20210719T192717Z
LAST-MODIFIED:20210908T164457Z
UID:2468-1631208600-1631214000@www.goppca.com
SUMMARY:Girls Soccer Game vs Brookhaven Academy
DESCRIPTION:
URL:https://www.goppca.com/calendar/girls-soccer-game-vs-brookhaven-academy/
LOCATION:H.F. Shepherd Memorial Field\, 2420 Old Brandon Rd\, Pearl\, MS\, 39208\, United States
CATEGORIES:Athletics Calendar
END:VEVENT
BEGIN:VEVENT
DTSTART;TZID=America/Chicago:20210909T180000
DTEND;TZID=America/Chicago:20210909T193000
DTSTAMP:20260424T074203
CREATED:20210701T211035Z
LAST-MODIFIED:20210806T184951Z
UID:2386-1631210400-1631215800@www.goppca.com
SUMMARY:JH Football Game @ St. Aloysius
DESCRIPTION:
URL:https://www.goppca.com/calendar/jh-football-game-st-aloysius/
LOCATION:Central Hinds\, 2894 Raymond/Bolton Rd\, Raymond\, MS\, 39154
CATEGORIES:Athletics Calendar
END:VEVENT
BEGIN:VEVENT
DTSTART;TZID=America/Chicago:20210910T190000
DTEND;TZID=America/Chicago:20210910T210000
DTSTAMP:20260424T074203
CREATED:20210701T202152Z
LAST-MODIFIED:20210701T202152Z
UID:2358-1631300400-1631307600@www.goppca.com
SUMMARY:Varsity Football Game vs East Rankin
DESCRIPTION:
URL:https://www.goppca.com/calendar/varsity-football-game-vs-east-rankin/
LOCATION:H.F. Shepherd Memorial Field\, 2420 Old Brandon Rd\, Pearl\, MS\, 39208\, United States
CATEGORIES:Athletics Calendar
END:VEVENT
BEGIN:VEVENT
DTSTART;VALUE=DATE:20210913
DTEND;VALUE=DATE:20210914
DTSTAMP:20260424T074203
CREATED:20210712T223914Z
LAST-MODIFIED:20210712T223914Z
UID:2425-1631491200-1631577599@www.goppca.com
SUMMARY:Softball Game vs East Rankin
DESCRIPTION:JV/Varsity – 5:00pm & 6:30pm
URL:https://www.goppca.com/calendar/softball-game-vs-east-rankin-2/
LOCATION:Shiloh Park – Field #3\, 322 Shiloh Rd\, Brandon\, MS\, 39042
CATEGORIES:Athletics Calendar
END:VEVENT
BEGIN:VEVENT
DTSTART;TZID=America/Chicago:20210913T143000
DTEND;TZID=America/Chicago:20210913T160000
DTSTAMP:20260424T074203
CREATED:20210719T192840Z
LAST-MODIFIED:20210908T165830Z
UID:2469-1631543400-1631548800@www.goppca.com
SUMMARY:Girls Soccer Game @ Central Hinds
DESCRIPTION:
URL:https://www.goppca.com/calendar/girls-soccer-game-central-hinds/
LOCATION:Central Hinds Academy\, 2894 Raymond Bolton Rd\, Raymond\, MS\, 39154
CATEGORIES:Athletics Calendar
END:VEVENT
BEGIN:VEVENT
DTSTART;VALUE=DATE:20210914
DTEND;VALUE=DATE:20210915
DTSTAMP:20260424T074203
CREATED:20210712T222154Z
LAST-MODIFIED:20210820T141101Z
UID:2420-1631577600-1631663999@www.goppca.com
SUMMARY:Softball Game @ Winston Academy
DESCRIPTION:Teams -TBD – 5:00pm & 6:30pm
URL:https://www.goppca.com/calendar/softball-game-winston-academy/
CATEGORIES:Athletics Calendar
END:VEVENT
BEGIN:VEVENT
DTSTART;TZID=America/Chicago:20210914T180000
DTEND;TZID=America/Chicago:20210916T190000
DTSTAMP:20260424T074203
CREATED:20210701T205731Z
LAST-MODIFIED:20210806T184511Z
UID:2378-1631642400-1631818800@www.goppca.com
SUMMARY:Pee Wee Football Game vs Christ Covenant
DESCRIPTION:
URL:https://www.goppca.com/calendar/pee-wee-football-game-vs-christ-covenant/
LOCATION:H.F. Shepherd Memorial Field\, 2420 Old Brandon Rd\, Pearl\, MS\, 39208\, United States
CATEGORIES:Athletics Calendar
END:VEVENT
BEGIN:VEVENT
DTSTART;TZID=America/Chicago:20210915T150000
DTEND;TZID=America/Chicago:20210915T163000
DTSTAMP:20260424T074203
CREATED:20210719T192941Z
LAST-MODIFIED:20210719T192951Z
UID:2470-1631718000-1631723400@www.goppca.com
SUMMARY:Girls Soccer Game vs Manchester Academy
DESCRIPTION:
URL:https://www.goppca.com/calendar/girls-soccer-game-vs-manchester-academy/
LOCATION:H.F. Shepherd Memorial Field\, 2420 Old Brandon Rd\, Pearl\, MS\, 39208\, United States
CATEGORIES:Athletics Calendar
END:VEVENT
BEGIN:VEVENT
DTSTART;TZID=America/Chicago:20210916T180000
DTEND;TZID=America/Chicago:20210916T193000
DTSTAMP:20260424T074203
CREATED:20210701T211138Z
LAST-MODIFIED:20210806T185040Z
UID:2387-1631815200-1631820600@www.goppca.com
SUMMARY:JH Football Game @ Simpson Academy
DESCRIPTION:
URL:https://www.goppca.com/calendar/jh-football-game-simpson-academy/
LOCATION:Simpson Academy\, 124 Academy Circle\, Mendenhall\, MS\, 39114
CATEGORIES:Athletics Calendar
END:VEVENT
BEGIN:VEVENT
DTSTART;TZID=America/Chicago:20210917T190000
DTEND;TZID=America/Chicago:20210917T210000
DTSTAMP:20260424T074203
CREATED:20210701T202618Z
LAST-MODIFIED:20210701T202618Z
UID:2359-1631905200-1631912400@www.goppca.com
SUMMARY:Varsity Football Game @ Wayne Academy
DESCRIPTION:
URL:https://www.goppca.com/calendar/varsity-football-game-wayne-academy/
LOCATION:Wayne Academy\, 46 Joe Jordan Rd\, Waynesboro\, MS\, 39367\, United States
CATEGORIES:Athletics Calendar
END:VEVENT
BEGIN:VEVENT
DTSTART;VALUE=DATE:20210918
DTEND;VALUE=DATE:20210919
DTSTAMP:20260424T074203
CREATED:20210712T222409Z
LAST-MODIFIED:20210712T222409Z
UID:2421-1631923200-1632009599@www.goppca.com
SUMMARY:Softball Game @ Sylva Bay Academy
DESCRIPTION:JV/Varsity – 11:00am & 1:00pm
URL:https://www.goppca.com/calendar/softball-game-sylva-bay-academy/
LOCATION:Sylva Bay Academy\, 17 MS-531\, Bay Springs\, MS\, 39422
CATEGORIES:Athletics Calendar
END:VEVENT
BEGIN:VEVENT
DTSTART;VALUE=DATE:20210920
DTEND;VALUE=DATE:20210921
DTSTAMP:20260424T074203
CREATED:20210712T222514Z
LAST-MODIFIED:20210712T223541Z
UID:2422-1632096000-1632182399@www.goppca.com
SUMMARY:Softball Game @ Leake Academy
DESCRIPTION:JV/Varsity – 4:00pm & 6:00pm
URL:https://www.goppca.com/calendar/softball-game-leake-academy/
LOCATION:Leake Academy\, 1 Rebel Dr\, Madden\, MS 39109\, Madden\, MS\, 39109\, United States
CATEGORIES:Athletics Calendar
END:VEVENT
BEGIN:VEVENT
DTSTART;TZID=America/Chicago:20210920T173000
DTEND;TZID=America/Chicago:20210920T190000
DTSTAMP:20260424T074203
CREATED:20210719T193128Z
LAST-MODIFIED:20210719T193128Z
UID:2473-1632159000-1632164400@www.goppca.com
SUMMARY:Girls Soccer Game @ St. Joe
DESCRIPTION:
URL:https://www.goppca.com/calendar/girls-soccer-game-st-joe/
LOCATION:St. Joe – Madison\, 308 New Mannsdale Road\, Madison\, MS\, 39110\, United States
CATEGORIES:Athletics Calendar
END:VEVENT
BEGIN:VEVENT
DTSTART;VALUE=DATE:20210921
DTEND;VALUE=DATE:20210922
DTSTAMP:20260424T074203
CREATED:20210712T222637Z
LAST-MODIFIED:20210712T222637Z
UID:2423-1632182400-1632268799@www.goppca.com
SUMMARY:Softball Game vs Prentiss  Christian School
DESCRIPTION:JV/Varsity – 5:00pm & 6:30pm \nSENIOR NIGHT
URL:https://www.goppca.com/calendar/softball-game-vs-prentiss-christian-school/
LOCATION:Shiloh Park – Field #3\, 322 Shiloh Rd\, Brandon\, MS\, 39042
CATEGORIES:Athletics Calendar
END:VEVENT
BEGIN:VEVENT
DTSTART;TZID=America/Chicago:20210923T173000
DTEND;TZID=America/Chicago:20210923T183000
DTSTAMP:20260424T074203
CREATED:20210701T205817Z
LAST-MODIFIED:20210806T184606Z
UID:2379-1632418200-1632421800@www.goppca.com
SUMMARY:Pee Wee Football Game vs Central Hinds
DESCRIPTION:
URL:https://www.goppca.com/calendar/pee-wee-football-game-vs-central-hinds/
LOCATION:H.F. Shepherd Memorial Field\, 2420 Old Brandon Rd\, Pearl\, MS\, 39208\, United States
CATEGORIES:Athletics Calendar
END:VEVENT
BEGIN:VEVENT
DTSTART;TZID=America/Chicago:20210923T183000
DTEND;TZID=America/Chicago:20210923T203000
DTSTAMP:20260424T074203
CREATED:20210701T211253Z
LAST-MODIFIED:20210701T211253Z
UID:2388-1632421800-1632429000@www.goppca.com
SUMMARY:JH Football Game vs Leake Academy
DESCRIPTION:
URL:https://www.goppca.com/calendar/jh-football-game-vs-leake-academy/
LOCATION:H.F. Shepherd Memorial Field\, 2420 Old Brandon Rd\, Pearl\, MS\, 39208\, United States
CATEGORIES:Athletics Calendar
END:VEVENT
BEGIN:VEVENT
DTSTART;TZID=America/Chicago:20210924T190000
DTEND;TZID=America/Chicago:20210924T210000
DTSTAMP:20260424T074203
CREATED:20210701T202944Z
LAST-MODIFIED:20210701T202944Z
UID:2361-1632510000-1632517200@www.goppca.com
SUMMARY:Varsity Football Game @ Leake Academy
DESCRIPTION:
URL:https://www.goppca.com/calendar/varsity-football-game-leake-academy/
LOCATION:Leake Academy\, 1 Rebel Dr\, Madden\, MS 39109\, Madden\, MS\, 39109\, United States
CATEGORIES:Athletics Calendar
END:VEVENT
BEGIN:VEVENT
DTSTART;TZID=America/Chicago:20210928T163000
DTEND;TZID=America/Chicago:20210928T180000
DTSTAMP:20260424T074203
CREATED:20210719T193219Z
LAST-MODIFIED:20210719T193228Z
UID:2475-1632846600-1632852000@www.goppca.com
SUMMARY:Girls Soccer Game @ Lamar School
DESCRIPTION:
URL:https://www.goppca.com/calendar/girls-soccer-game-lamar-school/
LOCATION:Lamar School\, 544 Lindley Rd\, Meridian\, MS\, 39305
CATEGORIES:Athletics Calendar
END:VEVENT
BEGIN:VEVENT
DTSTART;TZID=America/Chicago:20210928T170000
DTEND;TZID=America/Chicago:20210928T180000
DTSTAMP:20260424T074203
CREATED:20210701T210023Z
LAST-MODIFIED:20210701T210023Z
UID:2380-1632848400-1632852000@www.goppca.com
SUMMARY:Pee Wee Football Game @ East Rankin
DESCRIPTION:
URL:https://www.goppca.com/calendar/pee-wee-football-game-east-rankin/
LOCATION:East Rankin Academy\, 400 MS-43\, Pelahatchie\, MS\, 39145
CATEGORIES:Athletics Calendar
END:VEVENT
BEGIN:VEVENT
DTSTART;TZID=America/Chicago:20210928T183000
DTEND;TZID=America/Chicago:20210928T203000
DTSTAMP:20260424T074203
CREATED:20210701T211354Z
LAST-MODIFIED:20210701T211354Z
UID:2390-1632853800-1632861000@www.goppca.com
SUMMARY:JH Football Game @ East Rankin Academy
DESCRIPTION:
URL:https://www.goppca.com/calendar/jh-football-game-east-rankin-academy/
LOCATION:East Rankin Academy\, 400 MS-43\, Pelahatchie\, MS\, 39145
CATEGORIES:Athletics Calendar
END:VEVENT
BEGIN:VEVENT
DTSTART;TZID=America/Chicago:20210929T153000
DTEND;TZID=America/Chicago:20210929T170000
DTSTAMP:20260424T074203
CREATED:20210719T193332Z
LAST-MODIFIED:20210901T165901Z
UID:2476-1632929400-1632934800@www.goppca.com
SUMMARY:Girls Soccer Game vs East Rankin
DESCRIPTION:
URL:https://www.goppca.com/calendar/girls-soccer-game-vs-east-rankin-2/
LOCATION:H.F. Shepherd Memorial Field\, 2420 Old Brandon Rd\, Pearl\, MS\, 39208\, United States
CATEGORIES:Athletics Calendar
END:VEVENT
END:VCALENDAR