BEGIN:VCALENDAR
VERSION:2.0
PRODID:-//Park Place Christian Academy - ECPv6.15.20//NONSGML v1.0//EN
CALSCALE:GREGORIAN
METHOD:PUBLISH
X-WR-CALNAME:Park Place Christian Academy
X-ORIGINAL-URL:https://www.goppca.com
X-WR-CALDESC:Events for Park Place Christian Academy
REFRESH-INTERVAL;VALUE=DURATION:PT1H
X-Robots-Tag:noindex
X-PUBLISHED-TTL:PT1H
BEGIN:VTIMEZONE
TZID:America/Chicago
BEGIN:DAYLIGHT
TZOFFSETFROM:-0600
TZOFFSETTO:-0500
TZNAME:CDT
DTSTART:20200308T080000
END:DAYLIGHT
BEGIN:STANDARD
TZOFFSETFROM:-0500
TZOFFSETTO:-0600
TZNAME:CST
DTSTART:20201101T070000
END:STANDARD
BEGIN:DAYLIGHT
TZOFFSETFROM:-0600
TZOFFSETTO:-0500
TZNAME:CDT
DTSTART:20210314T080000
END:DAYLIGHT
BEGIN:STANDARD
TZOFFSETFROM:-0500
TZOFFSETTO:-0600
TZNAME:CST
DTSTART:20211107T070000
END:STANDARD
BEGIN:DAYLIGHT
TZOFFSETFROM:-0600
TZOFFSETTO:-0500
TZNAME:CDT
DTSTART:20220313T080000
END:DAYLIGHT
BEGIN:STANDARD
TZOFFSETFROM:-0500
TZOFFSETTO:-0600
TZNAME:CST
DTSTART:20221106T070000
END:STANDARD
END:VTIMEZONE
BEGIN:VEVENT
DTSTART;VALUE=DATE:20211102
DTEND;VALUE=DATE:20211103
DTSTAMP:20260424T045643
CREATED:20210714T015937Z
LAST-MODIFIED:20211021T182504Z
UID:2428-1635811200-1635897599@www.goppca.com
SUMMARY:Basketball Game @ Canton
DESCRIPTION:g\,G – 4:00pm
URL:https://www.goppca.com/calendar/jv-varsity-basketball-game-canton/
LOCATION:Canton Academy\, 365 Van Buren St\, Canton\, MS\, 39046
CATEGORIES:Athletics Calendar
END:VEVENT
BEGIN:VEVENT
DTSTART;VALUE=DATE:20211104
DTEND;VALUE=DATE:20211105
DTSTAMP:20260424T045643
CREATED:20210714T020120Z
LAST-MODIFIED:20211102T164508Z
UID:2430-1635984000-1636070399@www.goppca.com
SUMMARY:JH & Varsity Girls Basketball Game vs Tri County; Varsity Boys vs Brookhaven Acad
DESCRIPTION:7th Grade Boys – 3:00pm\ng\,b\,G\,B – 4:00pm\, 5:00pm & 6:15pm\,7:30pm
URL:https://www.goppca.com/calendar/7th-gr-boys-jv-varsity-basketball-game-vs-tri-county/
LOCATION:Pearl Gym\, 2420 Old Brandon Rd\, Pearl\, MS\, 39042
CATEGORIES:Athletics Calendar
END:VEVENT
BEGIN:VEVENT
DTSTART;VALUE=DATE:20211109
DTEND;VALUE=DATE:20211110
DTSTAMP:20260424T045643
CREATED:20210714T020433Z
LAST-MODIFIED:20210721T195302Z
UID:2432-1636416000-1636502399@www.goppca.com
SUMMARY:Basketball Game @ Newton Academy
DESCRIPTION:g\,b\,G\,B – 4:00pm
URL:https://www.goppca.com/calendar/jv-varsity-basketball-game-newton-academy/
LOCATION:Newton Academy\, 14602 MS-15\, Decatur\, MS\, 39327
CATEGORIES:Athletics Calendar
END:VEVENT
BEGIN:VEVENT
DTSTART;VALUE=DATE:20211111
DTEND;VALUE=DATE:20211112
DTSTAMP:20260424T045643
CREATED:20210714T020547Z
LAST-MODIFIED:20211006T172707Z
UID:2434-1636588800-1636675199@www.goppca.com
SUMMARY:Basketball Game vs Jackson Victors
DESCRIPTION:7th boys\,b\,G\,B – 4:00pm
URL:https://www.goppca.com/calendar/jv-varsity-basketball-game-vs-jackson-victors/
LOCATION:Pearl Gym\, 2420 Old Brandon Rd\, Pearl\, MS\, 39042
CATEGORIES:Athletics Calendar
END:VEVENT
BEGIN:VEVENT
DTSTART;VALUE=DATE:20211112
DTEND;VALUE=DATE:20211113
DTSTAMP:20260424T045643
CREATED:20210714T020823Z
LAST-MODIFIED:20210721T195544Z
UID:2436-1636675200-1636761599@www.goppca.com
SUMMARY:Basketball Game @ St. Aloysius
DESCRIPTION:g\,b\,G\,B – 4:00pm
URL:https://www.goppca.com/calendar/jv-varsity-basketball-game-st-aloysius/
LOCATION:Central Hinds\, 2894 Raymond/Bolton Rd\, Raymond\, MS\, 39154
CATEGORIES:Athletics Calendar
END:VEVENT
BEGIN:VEVENT
DTSTART;VALUE=DATE:20211112
DTEND;VALUE=DATE:20211113
DTSTAMP:20260424T045643
CREATED:20211005T165846Z
LAST-MODIFIED:20211104T160756Z
UID:2811-1636675200-1636761599@www.goppca.com
SUMMARY:PW Basketball Game vs Christ Covenant - Pearl Gym
DESCRIPTION:5g\,5b\,6G\,6B – 4:00\,5:00\,6:00\,7:00
URL:https://www.goppca.com/calendar/pee-wee-basketball-game-vs-christ-covenant/
LOCATION:Pearl Gym\, 2420 Old Brandon Rd\, Pearl\, MS\, 39042
CATEGORIES:Athletics Calendar
END:VEVENT
BEGIN:VEVENT
DTSTART;VALUE=DATE:20211113
DTEND;VALUE=DATE:20211114
DTSTAMP:20260424T045643
CREATED:20210616T162834Z
LAST-MODIFIED:20210616T162834Z
UID:2299-1636761600-1636847999@www.goppca.com
SUMMARY:PPCA Candy Cane Marketplace & 'Sader Run
DESCRIPTION:Watch for information about location and times of these two important family-friendly fundraisers for PPCA. \nThe Candy Cane Marketplace is a great opportunity to get some Christmas shopping finished. \nThe ‘Sader Run is for runners (and walkers) of all ages. \nVendors and volunteers may call the school for more information\, 601-939-6229.
URL:https://www.goppca.com/calendar/ppca-candy-cane-marketplace-sader-run/
CATEGORIES:Athletics Calendar,PPCA School Calendar
END:VEVENT
BEGIN:VEVENT
DTSTART;VALUE=DATE:20211115
DTEND;VALUE=DATE:20211116
DTSTAMP:20260424T045643
CREATED:20211008T134054Z
LAST-MODIFIED:20211008T134335Z
UID:2840-1636934400-1637020799@www.goppca.com
SUMMARY:Boys Soccer Game vs ERA
DESCRIPTION:4:00pm
URL:https://www.goppca.com/calendar/boys-soccer-game-vs-era/
LOCATION:H.F. Shepherd Memorial Field\, 2420 Old Brandon Rd\, Pearl\, MS\, 39208\, United States
CATEGORIES:Athletics Calendar
END:VEVENT
BEGIN:VEVENT
DTSTART;VALUE=DATE:20211115
DTEND;VALUE=DATE:20211116
DTSTAMP:20260424T045643
CREATED:20211110T221315Z
LAST-MODIFIED:20211116T160951Z
UID:3017-1636934400-1637020799@www.goppca.com
SUMMARY:Varsity Boys Basketball Game @ Brookhaven
DESCRIPTION:7:30pm
URL:https://www.goppca.com/calendar/varsity-boys-basketball-game-brookhaven/
LOCATION:Brookhaven Academy\, 943 Brookway Boulevard Ext NW\, Brookhaven\, Mississippi\, 39601
CATEGORIES:Athletics Calendar
END:VEVENT
BEGIN:VEVENT
DTSTART;VALUE=DATE:20211116
DTEND;VALUE=DATE:20211117
DTSTAMP:20260424T045643
CREATED:20210714T021026Z
LAST-MODIFIED:20210721T195631Z
UID:2437-1637020800-1637107199@www.goppca.com
SUMMARY:Basketball Game vs Discovery
DESCRIPTION:7th Grade Boys – 3:00pm\ng\,b\,G\,B – 4:00pm
URL:https://www.goppca.com/calendar/jv-varsity-basketball-game-vs-discovery/
LOCATION:Pearl Gym\, 2420 Old Brandon Rd\, Pearl\, MS\, 39042
CATEGORIES:Athletics Calendar
END:VEVENT
BEGIN:VEVENT
DTSTART;VALUE=DATE:20211118
DTEND;VALUE=DATE:20211119
DTSTAMP:20260424T045643
CREATED:20210714T021255Z
LAST-MODIFIED:20210721T195734Z
UID:2438-1637193600-1637279999@www.goppca.com
SUMMARY:Basketball Game @ Cathedral
DESCRIPTION:g\,b\,G\,B – 4:00pm
URL:https://www.goppca.com/calendar/jv-varsity-basketball-game-cathedral/
CATEGORIES:Athletics Calendar
END:VEVENT
BEGIN:VEVENT
DTSTART;TZID=America/Chicago:20211119T075500
DTEND;TZID=America/Chicago:20211119T120000
DTSTAMP:20260424T045643
CREATED:20210616T163133Z
LAST-MODIFIED:20210616T163133Z
UID:2300-1637308500-1637323200@www.goppca.com
SUMMARY:Half-Day: Thanksgiving Holiday
DESCRIPTION:PPCA will be on a half-day schedule on Friday: K3-K4 dismiss 11:30; K5-6G 11:45; 7G-12G 12:00. \n 
URL:https://www.goppca.com/calendar/half-day-thanksgiving-holiday/
CATEGORIES:Athletics Calendar,PPCA School Calendar
END:VEVENT
BEGIN:VEVENT
DTSTART;VALUE=DATE:20211122
DTEND;VALUE=DATE:20211127
DTSTAMP:20260424T045643
CREATED:20210616T163418Z
LAST-MODIFIED:20210616T165222Z
UID:2301-1637539200-1637971199@www.goppca.com
SUMMARY:School Holiday: Thanksgiving Break
DESCRIPTION:There is no school November 22-26. \nSchool will resume on Monday\, November 29. \n“Give thanks to the Lord\, for He is good!” I Chronicles 16:34
URL:https://www.goppca.com/calendar/school-holiday-thanksgiving-break/
CATEGORIES:Athletics Calendar,PPCA School Calendar
END:VEVENT
END:VCALENDAR