BEGIN:VCALENDAR
VERSION:2.0
PRODID:-//Park Place Christian Academy - ECPv6.15.20//NONSGML v1.0//EN
CALSCALE:GREGORIAN
METHOD:PUBLISH
X-ORIGINAL-URL:https://www.goppca.com
X-WR-CALDESC:Events for Park Place Christian Academy
REFRESH-INTERVAL;VALUE=DURATION:PT1H
X-Robots-Tag:noindex
X-PUBLISHED-TTL:PT1H
BEGIN:VTIMEZONE
TZID:America/Chicago
BEGIN:DAYLIGHT
TZOFFSETFROM:-0600
TZOFFSETTO:-0500
TZNAME:CDT
DTSTART:20200308T080000
END:DAYLIGHT
BEGIN:STANDARD
TZOFFSETFROM:-0500
TZOFFSETTO:-0600
TZNAME:CST
DTSTART:20201101T070000
END:STANDARD
BEGIN:DAYLIGHT
TZOFFSETFROM:-0600
TZOFFSETTO:-0500
TZNAME:CDT
DTSTART:20210314T080000
END:DAYLIGHT
BEGIN:STANDARD
TZOFFSETFROM:-0500
TZOFFSETTO:-0600
TZNAME:CST
DTSTART:20211107T070000
END:STANDARD
BEGIN:DAYLIGHT
TZOFFSETFROM:-0600
TZOFFSETTO:-0500
TZNAME:CDT
DTSTART:20220313T080000
END:DAYLIGHT
BEGIN:STANDARD
TZOFFSETFROM:-0500
TZOFFSETTO:-0600
TZNAME:CST
DTSTART:20221106T070000
END:STANDARD
END:VTIMEZONE
BEGIN:VEVENT
DTSTART;VALUE=DATE:20211201
DTEND;VALUE=DATE:20211202
DTSTAMP:20260424T033511
CREATED:20211008T134252Z
LAST-MODIFIED:20211008T134252Z
UID:2842-1638316800-1638403199@www.goppca.com
SUMMARY:Boys Soccer Game vs St. Joe
DESCRIPTION:3:00pm
URL:https://www.goppca.com/calendar/boys-soccer-game-vs-st-joe/
LOCATION:H.F. Shepherd Memorial Field\, 2420 Old Brandon Rd\, Pearl\, MS\, 39208\, United States
CATEGORIES:Athletics Calendar
END:VEVENT
BEGIN:VEVENT
DTSTART;VALUE=DATE:20211202
DTEND;VALUE=DATE:20211203
DTSTAMP:20260424T033511
CREATED:20210714T021517Z
LAST-MODIFIED:20210721T195856Z
UID:2440-1638403200-1638489599@www.goppca.com
SUMMARY:Basketball Game @ Tri County
DESCRIPTION:7th Grade Boys – 3:00pm\ng\,b\,G\,B – 4:00pm
URL:https://www.goppca.com/calendar/7th-gr-boys-jv-varsity-basketball-game-tri-county/
LOCATION:Tri-County Academy\, 400 Cox Ferry Rd\, Flora\, Mississippi\, 39071
CATEGORIES:Athletics Calendar
END:VEVENT
BEGIN:VEVENT
DTSTART;VALUE=DATE:20211203
DTEND;VALUE=DATE:20211204
DTSTAMP:20260424T033511
CREATED:20210616T163653Z
LAST-MODIFIED:20210616T163653Z
UID:2302-1638489600-1638575999@www.goppca.com
SUMMARY:No School: MAIS Teacher Convention
DESCRIPTION:Teachers\, watch for an email or text regarding location and times of the Mid-South Association of Independent Schools’ Convention.
URL:https://www.goppca.com/calendar/no-school-mais-teacher-convention/
CATEGORIES:Athletics Calendar,PPCA School Calendar
END:VEVENT
BEGIN:VEVENT
DTSTART;VALUE=DATE:20211206
DTEND;VALUE=DATE:20211207
DTSTAMP:20260424T033511
CREATED:20211005T171141Z
LAST-MODIFIED:20211005T171141Z
UID:2818-1638748800-1638835199@www.goppca.com
SUMMARY:PW Basketball Game @ Christ Covenant
DESCRIPTION:5g\,5b\,6G\,6B – 4:00\,5:00\,6:00\,7:00
URL:https://www.goppca.com/calendar/pw-basketball-game-christ-covenant/
LOCATION:Christ Covenant\, 752 S Pear Orchard Rd\, Ridgeland\, MS\, 39157
CATEGORIES:Athletics Calendar
END:VEVENT
BEGIN:VEVENT
DTSTART;VALUE=DATE:20211206
DTEND;VALUE=DATE:20211207
DTSTAMP:20260424T033511
CREATED:20211008T134423Z
LAST-MODIFIED:20211008T134423Z
UID:2843-1638748800-1638835199@www.goppca.com
SUMMARY:Boys Soccer Game vs Porter's Chapel
DESCRIPTION:5:00
URL:https://www.goppca.com/calendar/boys-soccer-game-vs-porters-chapel/
LOCATION:H.F. Shepherd Memorial Field\, 2420 Old Brandon Rd\, Pearl\, MS\, 39208\, United States
CATEGORIES:Athletics Calendar
END:VEVENT
BEGIN:VEVENT
DTSTART;VALUE=DATE:20211207
DTEND;VALUE=DATE:20211208
DTSTAMP:20260424T033511
CREATED:20210714T021610Z
LAST-MODIFIED:20210721T195927Z
UID:2441-1638835200-1638921599@www.goppca.com
SUMMARY:Basketball Game vs Leake Academy
DESCRIPTION:g\,b\,G\,B – 4:00pm
URL:https://www.goppca.com/calendar/jv-varsity-basketball-game-vs-leake-academy/
LOCATION:Pearl Gym\, 2420 Old Brandon Rd\, Pearl\, MS\, 39042
CATEGORIES:Athletics Calendar
END:VEVENT
BEGIN:VEVENT
DTSTART;VALUE=DATE:20211208
DTEND;VALUE=DATE:20211209
DTSTAMP:20260424T033511
CREATED:20211008T140436Z
LAST-MODIFIED:20211008T140446Z
UID:2844-1638921600-1639007999@www.goppca.com
SUMMARY:Boys Soccer Game @ Central Hinds
DESCRIPTION:2:30
URL:https://www.goppca.com/calendar/boys-soccer-game-central-hinds/
LOCATION:Central Hinds Academy\, 2894 Raymond Bolton Rd\, Raymond\, MS\, 39154
CATEGORIES:Athletics Calendar
END:VEVENT
BEGIN:VEVENT
DTSTART;VALUE=DATE:20211210
DTEND;VALUE=DATE:20211211
DTSTAMP:20260424T033511
CREATED:20210714T021731Z
LAST-MODIFIED:20210721T200001Z
UID:2442-1639094400-1639180799@www.goppca.com
SUMMARY:Basketball Game @ East Rankin
DESCRIPTION:g\,b\,G\,B – 4:00pm
URL:https://www.goppca.com/calendar/jv-varsity-basketball-game-east-rankin/
LOCATION:East Rankin Academy\, 400 MS-43\, Pelahatchie\, MS\, 39145
CATEGORIES:Athletics Calendar
END:VEVENT
BEGIN:VEVENT
DTSTART;VALUE=DATE:20211210
DTEND;VALUE=DATE:20211211
DTSTAMP:20260424T033511
CREATED:20211005T171259Z
LAST-MODIFIED:20211104T160654Z
UID:2819-1639094400-1639180799@www.goppca.com
SUMMARY:PW Basketball Game vs St. Richards - Pearl Gym
DESCRIPTION:5g\,5b\,6G\,6B – 4:30\,5:30\,6:30\,7:30
URL:https://www.goppca.com/calendar/pw-basketball-game-vs-st-richards/
LOCATION:Pearl Gym\, 2420 Old Brandon Rd\, Pearl\, MS\, 39042
CATEGORIES:Athletics Calendar
END:VEVENT
BEGIN:VEVENT
DTSTART;VALUE=DATE:20211213
DTEND;VALUE=DATE:20211217
DTSTAMP:20260424T033511
CREATED:20210616T164321Z
LAST-MODIFIED:20210616T164321Z
UID:2303-1639353600-1639699199@www.goppca.com
SUMMARY:Half-Days: First Semester Exams
DESCRIPTION:PPCA will be on the half-day schedule for December 13-16. \nK3-K4 dismiss 11:30; K5-6G 11:45; 7G-12G 12:00. \nExams for 7G-12G will be held 7:55 am-12:00 pm during the half-days. \nStudents and families\, watch for an email or text regarding exam schedules.
URL:https://www.goppca.com/calendar/half-days-first-semester-exams/
CATEGORIES:Athletics Calendar,PPCA School Calendar
END:VEVENT
BEGIN:VEVENT
DTSTART;VALUE=DATE:20211214
DTEND;VALUE=DATE:20211215
DTSTAMP:20260424T033511
CREATED:20211005T171039Z
LAST-MODIFIED:20211104T160526Z
UID:2817-1639440000-1639526399@www.goppca.com
SUMMARY:PW Basketball Game vs Central Hinds - PPCA CAMPUS GYM
DESCRIPTION:5g\,5b\,6G\,6B – 4:00\,5:00\,6:00\,7:00
URL:https://www.goppca.com/calendar/pw-basketball-game-vs-central-hinds/
LOCATION:Pearl Gym\, 2420 Old Brandon Rd\, Pearl\, MS\, 39042
CATEGORIES:Athletics Calendar
END:VEVENT
BEGIN:VEVENT
DTSTART;VALUE=DATE:20211216
DTEND;VALUE=DATE:20211217
DTSTAMP:20260424T033511
CREATED:20210714T021840Z
LAST-MODIFIED:20210721T200032Z
UID:2443-1639612800-1639699199@www.goppca.com
SUMMARY:Basketball Game @ Winston
DESCRIPTION:g\,b\,G\,B – 4:00pm
URL:https://www.goppca.com/calendar/jv-varsity-basketball-game-winston/
LOCATION:Winston Academy
CATEGORIES:Athletics Calendar
END:VEVENT
BEGIN:VEVENT
DTSTART;VALUE=DATE:20211216
DTEND;VALUE=DATE:20211217
DTSTAMP:20260424T033511
CREATED:20211005T171356Z
LAST-MODIFIED:20211005T171356Z
UID:2820-1639612800-1639699199@www.goppca.com
SUMMARY:PW Basketball Game @ Central Hinds
DESCRIPTION:5g\,5b\,6G\,6B – 4:00\,5:00\,6:00\,7:00
URL:https://www.goppca.com/calendar/pw-basketball-game-central-hinds/
LOCATION:Central Hinds Academy\, 2894 Raymond Bolton Rd\, Raymond\, MS\, 39154
CATEGORIES:Athletics Calendar
END:VEVENT
BEGIN:VEVENT
DTSTART;VALUE=DATE:20211217
DTEND;VALUE=DATE:20220101
DTSTAMP:20260424T033511
CREATED:20210616T164751Z
LAST-MODIFIED:20210616T164751Z
UID:2304-1639699200-1640995199@www.goppca.com
SUMMARY:No School: Christmas Holiday Break
DESCRIPTION:PPCA will be closed for the Christmas Holiday Break December 17-December 31. \nSchool will resume on Monday\, January 3. \nMay Almighty God who sent us the gift of The LORD Jesus Christ bless each of you as we celebrate His birth this Christmas season.
URL:https://www.goppca.com/calendar/no-school-christmas-holiday-break/
CATEGORIES:Athletics Calendar,PPCA School Calendar
END:VEVENT
BEGIN:VEVENT
DTSTART;VALUE=DATE:20211228
DTEND;VALUE=DATE:20211229
DTSTAMP:20260424T033511
CREATED:20210714T022016Z
LAST-MODIFIED:20211210T173845Z
UID:2444-1640649600-1640735999@www.goppca.com
SUMMARY:Canton Christmas Basketball Tournament
DESCRIPTION:PPCA vs Washington – Varsity Girls – 11:00\nPPCA vs Washington – Varsity Boys – 12:30 \nWear WHITE jersey
URL:https://www.goppca.com/calendar/christmas-tournament/
LOCATION:Canton Academy\, 365 Van Buren St\, Canton\, MS\, 39046
CATEGORIES:Athletics Calendar
END:VEVENT
BEGIN:VEVENT
DTSTART;VALUE=DATE:20211229
DTEND;VALUE=DATE:20211230
DTSTAMP:20260424T033511
CREATED:20211210T174122Z
LAST-MODIFIED:20211210T174231Z
UID:3073-1640736000-1640822399@www.goppca.com
SUMMARY:Canton Christmas Basketball Tournament
DESCRIPTION:Riverfield vs Park Place – Varsity Girls – 11:00\nRiverfield vs Park Place – Varsity Boys – 12:30 \nWe will be considered the Away team. Wear Green Jersey
URL:https://www.goppca.com/calendar/canton-christmas-tournament/
LOCATION:Canton Academy\, 365 Van Buren St\, Canton\, MS\, 39046
CATEGORIES:Athletics Calendar
END:VEVENT
END:VCALENDAR