BEGIN:VCALENDAR
VERSION:2.0
PRODID:-//Park Place Christian Academy - ECPv6.15.20//NONSGML v1.0//EN
CALSCALE:GREGORIAN
METHOD:PUBLISH
X-WR-CALNAME:Park Place Christian Academy
X-ORIGINAL-URL:https://www.goppca.com
X-WR-CALDESC:Events for Park Place Christian Academy
REFRESH-INTERVAL;VALUE=DURATION:PT1H
X-Robots-Tag:noindex
X-PUBLISHED-TTL:PT1H
BEGIN:VTIMEZONE
TZID:America/Chicago
BEGIN:DAYLIGHT
TZOFFSETFROM:-0600
TZOFFSETTO:-0500
TZNAME:CDT
DTSTART:20210314T080000
END:DAYLIGHT
BEGIN:STANDARD
TZOFFSETFROM:-0500
TZOFFSETTO:-0600
TZNAME:CST
DTSTART:20211107T070000
END:STANDARD
BEGIN:DAYLIGHT
TZOFFSETFROM:-0600
TZOFFSETTO:-0500
TZNAME:CDT
DTSTART:20220313T080000
END:DAYLIGHT
BEGIN:STANDARD
TZOFFSETFROM:-0500
TZOFFSETTO:-0600
TZNAME:CST
DTSTART:20221106T070000
END:STANDARD
BEGIN:DAYLIGHT
TZOFFSETFROM:-0600
TZOFFSETTO:-0500
TZNAME:CDT
DTSTART:20230312T080000
END:DAYLIGHT
BEGIN:STANDARD
TZOFFSETFROM:-0500
TZOFFSETTO:-0600
TZNAME:CST
DTSTART:20231105T070000
END:STANDARD
END:VTIMEZONE
BEGIN:VEVENT
DTSTART;VALUE=DATE:20220104
DTEND;VALUE=DATE:20220105
DTSTAMP:20260424T022135
CREATED:20210714T022133Z
LAST-MODIFIED:20220103T154424Z
UID:2445-1641254400-1641340799@www.goppca.com
SUMMARY:Basketball Game @ Simpson
DESCRIPTION:g\,b\,G\,B – 4:00pm
URL:https://www.goppca.com/calendar/7th-gr-boys-jv-varsity-basketball-game-simpson/
LOCATION:Simpson Academy\, 124 Academy Circle\, Mendenhall\, MS\, 39114
CATEGORIES:Athletics Calendar
END:VEVENT
BEGIN:VEVENT
DTSTART;VALUE=DATE:20220107
DTEND;VALUE=DATE:20220108
DTSTAMP:20260424T022135
CREATED:20210714T022229Z
LAST-MODIFIED:20210721T200259Z
UID:2446-1641513600-1641599999@www.goppca.com
SUMMARY:Basketball Game vs Lamar School
DESCRIPTION:7th Grade Boys – 3:00pm\ng\,b\,G\,B – 4:00pm
URL:https://www.goppca.com/calendar/7th-gr-boys-jv-varsity-basketball-game-vs-lamar-school/
LOCATION:Pearl Gym\, 2420 Old Brandon Rd\, Pearl\, MS\, 39042
CATEGORIES:Athletics Calendar
END:VEVENT
BEGIN:VEVENT
DTSTART;VALUE=DATE:20220113
DTEND;VALUE=DATE:20220114
DTSTAMP:20260424T022136
CREATED:20220107T172408Z
LAST-MODIFIED:20220107T172408Z
UID:3133-1642032000-1642118399@www.goppca.com
SUMMARY:Booster Club Meeting
DESCRIPTION:5:00pm – Upstairs Assembly Room in the 201 building
URL:https://www.goppca.com/calendar/booster-club-meeting/
CATEGORIES:Athletics Calendar
END:VEVENT
BEGIN:VEVENT
DTSTART;VALUE=DATE:20220118
DTEND;VALUE=DATE:20220119
DTSTAMP:20260424T022136
CREATED:20210714T022538Z
LAST-MODIFIED:20210721T200451Z
UID:2449-1642464000-1642550399@www.goppca.com
SUMMARY:Basketball Game vs Winston Academy
DESCRIPTION:g\,b\,G\,B – 4:00pm
URL:https://www.goppca.com/calendar/jv-varsity-basketball-game-vs-winston-academy/
LOCATION:Pearl Gym\, 2420 Old Brandon Rd\, Pearl\, MS\, 39042
CATEGORIES:Athletics Calendar
END:VEVENT
BEGIN:VEVENT
DTSTART;VALUE=DATE:20220119
DTEND;VALUE=DATE:20220120
DTSTAMP:20260424T022136
CREATED:20211008T140621Z
LAST-MODIFIED:20220112T011206Z
UID:2846-1642550400-1642636799@www.goppca.com
SUMMARY:Boys Soccer Game vs Central Hinds
DESCRIPTION:3:00
URL:https://www.goppca.com/calendar/boys-soccer-game-vs-central-hinds/
LOCATION:H.F. Shepherd Memorial Field\, 2420 Old Brandon Rd\, Pearl\, MS\, 39208\, United States
CATEGORIES:Athletics Calendar
END:VEVENT
BEGIN:VEVENT
DTSTART;TZID=America/Chicago:20220119T080000
DTEND;TZID=America/Chicago:20220119T170000
DTSTAMP:20260424T022136
CREATED:20220119T162328Z
LAST-MODIFIED:20220120T160254Z
UID:3142-1642579200-1642611600@www.goppca.com
SUMMARY:Senior Banner Pictures
DESCRIPTION:2:00pm – Chapel Room (located in upstairs of 201 bldg)\nBaseball\, Archery\, Tennis & Track
URL:https://www.goppca.com/calendar/senior-banner-pictures/
CATEGORIES:Athletics Calendar
END:VEVENT
BEGIN:VEVENT
DTSTART;VALUE=DATE:20220120
DTEND;VALUE=DATE:20220121
DTSTAMP:20260424T022136
CREATED:20210714T022344Z
LAST-MODIFIED:20220112T011250Z
UID:2447-1642636800-1642723199@www.goppca.com
SUMMARY:Basketball Game @ Leake Academy
DESCRIPTION:g\,b\,G\,B – 4:00pm
URL:https://www.goppca.com/calendar/jv-varsity-basketball-game-leake-academy/
LOCATION:Leake Academy\, 1 Rebel Dr\, Madden\, MS 39109\, Madden\, MS\, 39109\, United States
CATEGORIES:Athletics Calendar
END:VEVENT
BEGIN:VEVENT
DTSTART;VALUE=DATE:20220121
DTEND;VALUE=DATE:20220122
DTSTAMP:20260424T022136
CREATED:20210714T022629Z
LAST-MODIFIED:20210721T200530Z
UID:2450-1642723200-1642809599@www.goppca.com
SUMMARY:Basketball Game vs Simpson
DESCRIPTION:7th Grade Boys – 3:00pm\ng\,b\,G\,B – 4:00pm
URL:https://www.goppca.com/calendar/7th-gr-boys-jv-varsity-basketball-game-vs-simpson/
LOCATION:Pearl Gym\, 2420 Old Brandon Rd\, Pearl\, MS\, 39042
CATEGORIES:Athletics Calendar
END:VEVENT
BEGIN:VEVENT
DTSTART;VALUE=DATE:20220124
DTEND;VALUE=DATE:20220125
DTSTAMP:20260424T022136
CREATED:20211008T140717Z
LAST-MODIFIED:20211008T140717Z
UID:2847-1642982400-1643068799@www.goppca.com
SUMMARY:Boys Soccer Game @ ERA
DESCRIPTION:5:30
URL:https://www.goppca.com/calendar/boys-soccer-game-era/
LOCATION:East Rankin Academy\, 400 MS-43\, Pelahatchie\, MS\, 39145
CATEGORIES:Athletics Calendar
END:VEVENT
BEGIN:VEVENT
DTSTART;VALUE=DATE:20220125
DTEND;VALUE=DATE:20220126
DTSTAMP:20260424T022136
CREATED:20210714T022746Z
LAST-MODIFIED:20211006T173122Z
UID:2451-1643068800-1643155199@www.goppca.com
SUMMARY:Basketball Game @ Lamar School
DESCRIPTION:g\,b\,G\,B – 4:00pm
URL:https://www.goppca.com/calendar/jv-varsity-basketball-game-lamar-school/
LOCATION:Lamar School\, 544 Lindley Rd\, Meridian\, MS\, 39305
CATEGORIES:Athletics Calendar
END:VEVENT
BEGIN:VEVENT
DTSTART;VALUE=DATE:20220127
DTEND;VALUE=DATE:20220128
DTSTAMP:20260424T022136
CREATED:20210714T022945Z
LAST-MODIFIED:20211006T174300Z
UID:2452-1643241600-1643327999@www.goppca.com
SUMMARY:Basketball Game vs Mt. Zion
DESCRIPTION:SENIOR NIGHT \nG\,B – 5:00pm
URL:https://www.goppca.com/calendar/basketball-game-vs-mt-zion/
LOCATION:Pearl Gym\, 2420 Old Brandon Rd\, Pearl\, MS\, 39042
CATEGORIES:Athletics Calendar
END:VEVENT
BEGIN:VEVENT
DTSTART;VALUE=DATE:20220128
DTEND;VALUE=DATE:20220129
DTSTAMP:20260424T022136
CREATED:20210714T022437Z
LAST-MODIFIED:20220112T011401Z
UID:2448-1643328000-1643414399@www.goppca.com
SUMMARY:Basketball Game @ East Rankin
DESCRIPTION:g\,b\,G\,B – 4:00pm
URL:https://www.goppca.com/calendar/jv-varsity-basketball-game-vs-east-rankin/
LOCATION:Pearl Gym\, 2420 Old Brandon Rd\, Pearl\, MS\, 39042
CATEGORIES:Athletics Calendar
END:VEVENT
BEGIN:VEVENT
DTSTART;VALUE=DATE:20220129
DTEND;VALUE=DATE:20220130
DTSTAMP:20260424T022136
CREATED:20220207T151554Z
LAST-MODIFIED:20220207T151703Z
UID:3221-1643414400-1643500799@www.goppca.com
SUMMARY:JH District Tournament
DESCRIPTION:@ Lamar School – JH Girls – 11:15am
URL:https://www.goppca.com/calendar/jh-district-tournament/
CATEGORIES:Athletics Calendar
END:VEVENT
BEGIN:VEVENT
DTSTART;VALUE=DATE:20220131
DTEND;VALUE=DATE:20220201
DTSTAMP:20260424T022136
CREATED:20211008T140531Z
LAST-MODIFIED:20220104T152408Z
UID:2845-1643587200-1643673599@www.goppca.com
SUMMARY:Boys Soccer Game @ St. Joe
DESCRIPTION:5:30
URL:https://www.goppca.com/calendar/boys-soccer-game-st-joe/
LOCATION:St. Joe – Madison\, 308 New Mannsdale Road\, Madison\, MS\, 39110\, United States
CATEGORIES:Athletics Calendar
END:VEVENT
END:VCALENDAR