BEGIN:VCALENDAR
VERSION:2.0
PRODID:-//Park Place Christian Academy - ECPv6.15.20//NONSGML v1.0//EN
CALSCALE:GREGORIAN
METHOD:PUBLISH
X-WR-CALNAME:Park Place Christian Academy
X-ORIGINAL-URL:https://www.goppca.com
X-WR-CALDESC:Events for Park Place Christian Academy
REFRESH-INTERVAL;VALUE=DURATION:PT1H
X-Robots-Tag:noindex
X-PUBLISHED-TTL:PT1H
BEGIN:VTIMEZONE
TZID:America/Chicago
BEGIN:DAYLIGHT
TZOFFSETFROM:-0600
TZOFFSETTO:-0500
TZNAME:CDT
DTSTART:20210314T080000
END:DAYLIGHT
BEGIN:STANDARD
TZOFFSETFROM:-0500
TZOFFSETTO:-0600
TZNAME:CST
DTSTART:20211107T070000
END:STANDARD
BEGIN:DAYLIGHT
TZOFFSETFROM:-0600
TZOFFSETTO:-0500
TZNAME:CDT
DTSTART:20220313T080000
END:DAYLIGHT
BEGIN:STANDARD
TZOFFSETFROM:-0500
TZOFFSETTO:-0600
TZNAME:CST
DTSTART:20221106T070000
END:STANDARD
BEGIN:DAYLIGHT
TZOFFSETFROM:-0600
TZOFFSETTO:-0500
TZNAME:CDT
DTSTART:20230312T080000
END:DAYLIGHT
BEGIN:STANDARD
TZOFFSETFROM:-0500
TZOFFSETTO:-0600
TZNAME:CST
DTSTART:20231105T070000
END:STANDARD
END:VTIMEZONE
BEGIN:VTIMEZONE
TZID:UTC
BEGIN:STANDARD
TZOFFSETFROM:+0000
TZOFFSETTO:+0000
TZNAME:UTC
DTSTART:20210101T000000
END:STANDARD
END:VTIMEZONE
BEGIN:VEVENT
DTSTART;VALUE=DATE:20220301
DTEND;VALUE=DATE:20220302
DTSTAMP:20260423T234839
CREATED:20211209T173238Z
LAST-MODIFIED:20211209T173252Z
UID:3057-1646092800-1646179199@www.goppca.com
SUMMARY:Tennis Match @ Victors (Parham Bridges)
DESCRIPTION:Time – 3:00pm
URL:https://www.goppca.com/calendar/tennis-match-victors-parham-bridges/
LOCATION:Parham Bridges Tennis Center\, 5055 Old Canton Rd\, Jackson\, MS\, 39211
CATEGORIES:Athletics Calendar
END:VEVENT
BEGIN:VEVENT
DTSTART;VALUE=DATE:20220301
DTEND;VALUE=DATE:20220302
DTSTAMP:20260423T234839
CREATED:20211210T180232Z
LAST-MODIFIED:20220301T163724Z
UID:3074-1646092800-1646179199@www.goppca.com
SUMMARY:Baseball Game @ Sports Force\, Vicksburg vs Central Hinds
DESCRIPTION:JV – 4:00\nVarsity – 6:00
URL:https://www.goppca.com/calendar/baseball-game-central-hinds/
LOCATION:Central Hinds Academy\, 2894 Raymond Bolton Rd\, Raymond\, MS\, 39154
CATEGORIES:Athletics Calendar
END:VEVENT
BEGIN:VEVENT
DTSTART;VALUE=DATE:20220301
DTEND;VALUE=DATE:20220302
DTSTAMP:20260423T234839
CREATED:20220210T154820Z
LAST-MODIFIED:20220301T163823Z
UID:3238-1646092800-1646179199@www.goppca.com
SUMMARY:Track & Field Meet
DESCRIPTION:@ MRA\nTime – 2pm
URL:https://www.goppca.com/calendar/track-field-meet/
LOCATION:Madison Ridgeland Academy\, 7601 Old Canton Road\, Madison\, MS\, 39110
CATEGORIES:Athletics Calendar
END:VEVENT
BEGIN:VEVENT
DTSTART;VALUE=DATE:20220303
DTEND;VALUE=DATE:20220304
DTSTAMP:20260423T234839
CREATED:20211210T180648Z
LAST-MODIFIED:20220208T154550Z
UID:3076-1646265600-1646351999@www.goppca.com
SUMMARY:Baseball Game @ Freedom Ridge
DESCRIPTION:PPCA vs Porters Chapel \nVarsity Only – 2:30pm
URL:https://www.goppca.com/calendar/baseball-game-vs-porters-chapel/
LOCATION:Freedom Ridge Park Ridgeland\, 253 W School St\, Ridgeland\, MS\, 39157\, United States
CATEGORIES:Athletics Calendar
END:VEVENT
BEGIN:VEVENT
DTSTART;VALUE=DATE:20220303
DTEND;VALUE=DATE:20220304
DTSTAMP:20260423T234839
CREATED:20220201T183203Z
LAST-MODIFIED:20220201T183203Z
UID:3207-1646265600-1646351999@www.goppca.com
SUMMARY:Archery Meet
DESCRIPTION:@ Discovery Christian – Elem/Middle/High – 4:00pm
URL:https://www.goppca.com/calendar/archery-meet-6/
CATEGORIES:Athletics Calendar
END:VEVENT
BEGIN:VEVENT
DTSTART;VALUE=DATE:20220305
DTEND;VALUE=DATE:20220306
DTSTAMP:20260423T234839
CREATED:20220131T184838Z
LAST-MODIFIED:20220301T164612Z
UID:3199-1646438400-1646524799@www.goppca.com
SUMMARY:Winter Guard Competition
DESCRIPTION:@ Southaven – Time – Approx at 5pm
URL:https://www.goppca.com/calendar/winter-guard-competition-3/
CATEGORIES:Athletics Calendar
END:VEVENT
BEGIN:VEVENT
DTSTART;VALUE=DATE:20220307
DTEND;VALUE=DATE:20220308
DTSTAMP:20260423T234839
CREATED:20220125T163211Z
LAST-MODIFIED:20220301T163258Z
UID:3157-1646611200-1646697599@www.goppca.com
SUMMARY:JH Baseball Game @ McLaurin
DESCRIPTION:Time – 5:00pm
URL:https://www.goppca.com/calendar/jh-baseball-game-mclaurin-hs/
LOCATION:McLaurin High School\, 130 Tiger Dr\, Florence\, Mississippi\, 39073
CATEGORIES:Athletics Calendar
END:VEVENT
BEGIN:VEVENT
DTSTART;VALUE=DATE:20220307
DTEND;VALUE=DATE:20220308
DTSTAMP:20260423T234839
CREATED:20220307T160500Z
LAST-MODIFIED:20220307T160631Z
UID:3306-1646611200-1646697599@www.goppca.com
SUMMARY:Tennis Match vs Central Hinds
DESCRIPTION:3:30pm @ The Club
URL:https://www.goppca.com/calendar/tennis-match/
LOCATION:The Club at Crossgates\, 100 Professional Drive\, Brandon\, MS\, 39042
CATEGORIES:Athletics Calendar
END:VEVENT
BEGIN:VEVENT
DTSTART;VALUE=DATE:20220308
DTEND;VALUE=DATE:20220309
DTSTAMP:20260423T234839
CREATED:20220201T183250Z
LAST-MODIFIED:20220308T154357Z
UID:3208-1646697600-1646783999@www.goppca.com
SUMMARY:Archery Meet
DESCRIPTION:@ Jackson Homeschool – Middle/High – 4:00pm
URL:https://www.goppca.com/calendar/archery-meet-7/
CATEGORIES:Athletics Calendar
END:VEVENT
BEGIN:VEVENT
DTSTART;VALUE=DATE:20220308
DTEND;VALUE=DATE:20220309
DTSTAMP:20260423T234839
CREATED:20220201T183330Z
LAST-MODIFIED:20220201T183330Z
UID:3209-1646697600-1646783999@www.goppca.com
SUMMARY:Archery Meet
DESCRIPTION:vs Discovery Christian – Elementary Only – 4:00pm
URL:https://www.goppca.com/calendar/archery-meet-8/
CATEGORIES:Athletics Calendar
END:VEVENT
BEGIN:VEVENT
DTSTART;VALUE=DATE:20220308
DTEND;VALUE=DATE:20220309
DTSTAMP:20260423T234839
CREATED:20220307T160105Z
LAST-MODIFIED:20220307T160105Z
UID:3304-1646697600-1646783999@www.goppca.com
SUMMARY:Varsity Only Baseball Game @ Parklane
DESCRIPTION:4:30pm
URL:https://www.goppca.com/calendar/varsity-only-baseball-game-parklane/
CATEGORIES:Athletics Calendar
END:VEVENT
BEGIN:VEVENT
DTSTART;VALUE=DATE:20220308
DTEND;VALUE=DATE:20220309
DTSTAMP:20260423T234839
CREATED:20220307T161515Z
LAST-MODIFIED:20220307T161515Z
UID:3307-1646697600-1646783999@www.goppca.com
SUMMARY:Tennis Match vs Christ Covenant
DESCRIPTION:3:30pm @ The Club
URL:https://www.goppca.com/calendar/tennis-match-vs-christ-covenant/
LOCATION:The Club at Crossgates\, 100 Professional Drive\, Brandon\, MS\, 39042
CATEGORIES:Athletics Calendar
END:VEVENT
BEGIN:VEVENT
DTSTART;VALUE=DATE:20220309
DTEND;VALUE=DATE:20220310
DTSTAMP:20260423T234839
CREATED:20220210T154903Z
LAST-MODIFIED:20220210T155757Z
UID:3239-1646784000-1646870399@www.goppca.com
SUMMARY:Track & Field Meet
DESCRIPTION:@ Jackson Academy\nTime – TBD
URL:https://www.goppca.com/calendar/track-field-meet-2/
LOCATION:Jackson Academy\, 4908 Ridgewood Rd\, Jackson\, MS\, 39211
CATEGORIES:Athletics Calendar
END:VEVENT
BEGIN:VEVENT
DTSTART;VALUE=DATE:20220311
DTEND;VALUE=DATE:20220312
DTSTAMP:20260423T234839
CREATED:20210616T174129Z
LAST-MODIFIED:20210616T174129Z
UID:2312-1646956800-1647043199@www.goppca.com
SUMMARY:No School: Professional Development Day for Faculty and Staff
DESCRIPTION:This is the Friday before Spring Break. School will resume March 21.
URL:https://www.goppca.com/calendar/no-school-professional-development-day-for-faculty-and-staff/
CATEGORIES:Athletics Calendar,PPCA School Calendar
END:VEVENT
BEGIN:VEVENT
DTSTART;VALUE=DATE:20220311
DTEND;VALUE=DATE:20220312
DTSTAMP:20260423T234839
CREATED:20211210T180810Z
LAST-MODIFIED:20220311T174122Z
UID:3077-1646956800-1647043199@www.goppca.com
SUMMARY:Baseball Game @ Pelahatchie HS
DESCRIPTION:V – 4:00\nJV – 6:00
URL:https://www.goppca.com/calendar/baseball-game-pelahatchie-hs/
CATEGORIES:Athletics Calendar
END:VEVENT
BEGIN:VEVENT
DTSTART;VALUE=DATE:20220314
DTEND;VALUE=DATE:20220319
DTSTAMP:20260423T234839
CREATED:20210616T175358Z
LAST-MODIFIED:20210616T175358Z
UID:2313-1647216000-1647647999@www.goppca.com
SUMMARY:No School: Spring Break
DESCRIPTION:Enjoy PPCA’s Spring Break and be safe! \nSchool will resume March 21. \n“He makes me lie down in green pastures. He leads me beside still waters. He restores my soul.” Psalm 23:2-3 \n 
URL:https://www.goppca.com/calendar/no-school-spring-break/
CATEGORIES:Athletics Calendar,PPCA School Calendar
END:VEVENT
BEGIN:VEVENT
DTSTART;VALUE=DATE:20220321
DTEND;VALUE=DATE:20220322
DTSTAMP:20260423T234839
CREATED:20220125T163351Z
LAST-MODIFIED:20220301T163426Z
UID:3158-1647820800-1647907199@www.goppca.com
SUMMARY:JH Baseball Game @ McLaurin
DESCRIPTION:5:00pm
URL:https://www.goppca.com/calendar/jh-baseball-game-vs-mclaurin-hs/
CATEGORIES:Athletics Calendar
END:VEVENT
BEGIN:VEVENT
DTSTART;VALUE=DATE:20220321
DTEND;VALUE=DATE:20220322
DTSTAMP:20260423T234839
CREATED:20220308T173639Z
LAST-MODIFIED:20220308T173639Z
UID:3308-1647820800-1647907199@www.goppca.com
SUMMARY:Varsity Boys Basketball Awards Banquet
DESCRIPTION:5:30pm\nGathering Area – located upstairs in the 201 building
URL:https://www.goppca.com/calendar/varsity-boys-basketball-awards-banquet/
CATEGORIES:Athletics Calendar
END:VEVENT
BEGIN:VEVENT
DTSTART;VALUE=DATE:20220322
DTEND;VALUE=DATE:20220323
DTSTAMP:20260423T234839
CREATED:20211209T162719Z
LAST-MODIFIED:20220323T134439Z
UID:3054-1647907200-1647993599@www.goppca.com
SUMMARY:Tennis Match vs Leake - CANCELLED
DESCRIPTION:Time – TBA
URL:https://www.goppca.com/calendar/tennis-match-victors/
CATEGORIES:Athletics Calendar
END:VEVENT
BEGIN:VEVENT
DTSTART;VALUE=DATE:20220322
DTEND;VALUE=DATE:20220323
DTSTAMP:20260423T234839
CREATED:20211210T181120Z
LAST-MODIFIED:20220323T134109Z
UID:3079-1647907200-1647993599@www.goppca.com
SUMMARY:Baseball Game @ Sports Force - CANCELLED
DESCRIPTION:PPCA vs Simpson \nJV – 4:00pm\nVarsity – 6:00pm
URL:https://www.goppca.com/calendar/baseball-game-vs-simpson/
CATEGORIES:Athletics Calendar
END:VEVENT
BEGIN:VEVENT
DTSTART;VALUE=DATE:20220324
DTEND;VALUE=DATE:20220325
DTSTAMP:20260423T234839
CREATED:20220201T183428Z
LAST-MODIFIED:20220323T134237Z
UID:3210-1648080000-1648166399@www.goppca.com
SUMMARY:Archery Meet
DESCRIPTION:@ Germantown – Middle/High – 2:00pm & 4:30pm
URL:https://www.goppca.com/calendar/archery-meet-9/
CATEGORIES:Athletics Calendar
END:VEVENT
BEGIN:VEVENT
DTSTART;VALUE=DATE:20220324
DTEND;VALUE=DATE:20220325
DTSTAMP:20260423T234839
CREATED:20220308T173847Z
LAST-MODIFIED:20220308T180608Z
UID:3309-1648080000-1648166399@www.goppca.com
SUMMARY:Golf & Track Pictures
DESCRIPTION:Time – TBD
URL:https://www.goppca.com/calendar/golf-track-pictures/
CATEGORIES:Athletics Calendar
END:VEVENT
BEGIN:VEVENT
DTSTART;VALUE=DATE:20220325
DTEND;VALUE=DATE:20220326
DTSTAMP:20260423T234839
CREATED:20211210T181339Z
LAST-MODIFIED:20220323T134316Z
UID:3081-1648166400-1648252799@www.goppca.com
SUMMARY:Baseball Game @ Sports Force\, Vicksburg
DESCRIPTION:PPCA vs Simpson \nJV – 4:00pm\nVarsity – 6:00pm
URL:https://www.goppca.com/calendar/baseball-game-vs-simpson-2/
CATEGORIES:Athletics Calendar
END:VEVENT
BEGIN:VEVENT
DTSTART;VALUE=DATE:20220325
DTEND;VALUE=DATE:20220326
DTSTAMP:20260423T234839
CREATED:20220210T155858Z
LAST-MODIFIED:20220210T160127Z
UID:3241-1648166400-1648252799@www.goppca.com
SUMMARY:Track & Field Meet
DESCRIPTION:Rankin County Championship \nTime & Location TBD
URL:https://www.goppca.com/calendar/track-field-meet-3/
CATEGORIES:Athletics Calendar
END:VEVENT
BEGIN:VEVENT
DTSTART;TZID=UTC:20220325T080000
DTEND;TZID=UTC:20220325T170000
DTSTAMP:20260423T234839
CREATED:20220323T134544Z
LAST-MODIFIED:20220323T134607Z
UID:3313-1648195200-1648227600@www.goppca.com
SUMMARY:Tennis Match vs Leake
DESCRIPTION:Time – 3:30pm
URL:https://www.goppca.com/calendar/tennis-match-vs-leake/
LOCATION:The Club at Crossgates\, 100 Professional Drive\, Brandon\, MS\, 39042
CATEGORIES:Athletics Calendar
END:VEVENT
BEGIN:VEVENT
DTSTART;VALUE=DATE:20220326
DTEND;VALUE=DATE:20220327
DTSTAMP:20260423T234839
CREATED:20220131T184928Z
LAST-MODIFIED:20220323T144641Z
UID:3200-1648252800-1648339199@www.goppca.com
SUMMARY:Winter Guard Competition
DESCRIPTION:@ Pearl HS – Approximate time of performance will be at 7:24pm.  Come early.  Admission Cost is $10.
URL:https://www.goppca.com/calendar/winter-guard-competition-4/
CATEGORIES:Athletics Calendar
END:VEVENT
BEGIN:VEVENT
DTSTART;VALUE=DATE:20220329
DTEND;VALUE=DATE:20220330
DTSTAMP:20260423T234839
CREATED:20211209T173404Z
LAST-MODIFIED:20220328T165637Z
UID:3058-1648512000-1648598399@www.goppca.com
SUMMARY:Tennis Match vs Lamar
DESCRIPTION:Time – 3:00pm\n@ The Club @ Crossgates
URL:https://www.goppca.com/calendar/tennis-match-vs-lamar/
LOCATION:The Club at Crossgates\, 100 Professional Drive\, Brandon\, MS\, 39042
CATEGORIES:Athletics Calendar
END:VEVENT
BEGIN:VEVENT
DTSTART;VALUE=DATE:20220329
DTEND;VALUE=DATE:20220330
DTSTAMP:20260423T234839
CREATED:20211210T181734Z
LAST-MODIFIED:20211210T181943Z
UID:3082-1648512000-1648598399@www.goppca.com
SUMMARY:Baseball Game @ East Rankin
DESCRIPTION:JV – 4:00\nVarsity – 6:00
URL:https://www.goppca.com/calendar/baseball-game-east-rankin/
LOCATION:East Rankin Academy\, 400 MS-43\, Pelahatchie\, MS\, 39145
CATEGORIES:Athletics Calendar
END:VEVENT
BEGIN:VEVENT
DTSTART;VALUE=DATE:20220329
DTEND;VALUE=DATE:20220330
DTSTAMP:20260423T234839
CREATED:20220201T183537Z
LAST-MODIFIED:20220328T165426Z
UID:3211-1648512000-1648598399@www.goppca.com
SUMMARY:Elem North State Archery Meet @ ICC
DESCRIPTION:Mandatory Team Check In @ ICC – 2pm\nFirst Flight – 3pm\nSecond Flight – 4pm
URL:https://www.goppca.com/calendar/archery-meet-10/
CATEGORIES:Athletics Calendar
END:VEVENT
BEGIN:VEVENT
DTSTART;VALUE=DATE:20220330
DTEND;VALUE=DATE:20220331
DTSTAMP:20260423T234839
CREATED:20220210T162850Z
LAST-MODIFIED:20220328T164834Z
UID:3242-1648598400-1648684799@www.goppca.com
SUMMARY:Track & Field Meet
DESCRIPTION:@ Presbyterian Christian\nTime – 9:00
URL:https://www.goppca.com/calendar/track-field-meet-4/
CATEGORIES:Athletics Calendar
END:VEVENT
END:VCALENDAR