BEGIN:VCALENDAR
VERSION:2.0
PRODID:-//Park Place Christian Academy - ECPv6.15.20//NONSGML v1.0//EN
CALSCALE:GREGORIAN
METHOD:PUBLISH
X-WR-CALNAME:Park Place Christian Academy
X-ORIGINAL-URL:https://www.goppca.com
X-WR-CALDESC:Events for Park Place Christian Academy
REFRESH-INTERVAL;VALUE=DURATION:PT1H
X-Robots-Tag:noindex
X-PUBLISHED-TTL:PT1H
BEGIN:VTIMEZONE
TZID:America/Chicago
BEGIN:DAYLIGHT
TZOFFSETFROM:-0600
TZOFFSETTO:-0500
TZNAME:CDT
DTSTART:20210314T080000
END:DAYLIGHT
BEGIN:STANDARD
TZOFFSETFROM:-0500
TZOFFSETTO:-0600
TZNAME:CST
DTSTART:20211107T070000
END:STANDARD
BEGIN:DAYLIGHT
TZOFFSETFROM:-0600
TZOFFSETTO:-0500
TZNAME:CDT
DTSTART:20220313T080000
END:DAYLIGHT
BEGIN:STANDARD
TZOFFSETFROM:-0500
TZOFFSETTO:-0600
TZNAME:CST
DTSTART:20221106T070000
END:STANDARD
BEGIN:DAYLIGHT
TZOFFSETFROM:-0600
TZOFFSETTO:-0500
TZNAME:CDT
DTSTART:20230312T080000
END:DAYLIGHT
BEGIN:STANDARD
TZOFFSETFROM:-0500
TZOFFSETTO:-0600
TZNAME:CST
DTSTART:20231105T070000
END:STANDARD
END:VTIMEZONE
BEGIN:VTIMEZONE
TZID:UTC
BEGIN:STANDARD
TZOFFSETFROM:+0000
TZOFFSETTO:+0000
TZNAME:UTC
DTSTART:20210101T000000
END:STANDARD
END:VTIMEZONE
BEGIN:VEVENT
DTSTART;VALUE=DATE:20220401
DTEND;VALUE=DATE:20220402
DTSTAMP:20260423T223251
CREATED:20211214T163849Z
LAST-MODIFIED:20220331T183542Z
UID:3085-1648771200-1648857599@www.goppca.com
SUMMARY:Baseball Game @ East Rankin
DESCRIPTION:JV – 5:00 \nVarsity – 7:00
URL:https://www.goppca.com/calendar/baseball-game-east-rankin-2/
LOCATION:East Rankin Academy\, 400 MS-43\, Pelahatchie\, MS\, 39145
CATEGORIES:Athletics Calendar
END:VEVENT
BEGIN:VEVENT
DTSTART;VALUE=DATE:20220401
DTEND;VALUE=DATE:20220402
DTSTAMP:20260423T223251
CREATED:20220323T135311Z
LAST-MODIFIED:20220328T142811Z
UID:3314-1648771200-1648857599@www.goppca.com
SUMMARY:JH Baseball Game @ East Rankin
DESCRIPTION:Time – 4:00pm
URL:https://www.goppca.com/calendar/jh-baseball-game-east-rankin/
LOCATION:East Rankin Academy\, 400 MS-43\, Pelahatchie\, MS\, 39145
CATEGORIES:Athletics Calendar
END:VEVENT
BEGIN:VEVENT
DTSTART;VALUE=DATE:20220402
DTEND;VALUE=DATE:20220403
DTSTAMP:20260423T223251
CREATED:20220131T185040Z
LAST-MODIFIED:20220131T185040Z
UID:3201-1648857600-1648943999@www.goppca.com
SUMMARY:Winter Guard Championship
DESCRIPTION:@ Oxford – Time TBD
URL:https://www.goppca.com/calendar/winter-guard-championship/
CATEGORIES:Athletics Calendar
END:VEVENT
BEGIN:VEVENT
DTSTART;VALUE=DATE:20220404
DTEND;VALUE=DATE:20220405
DTSTAMP:20260423T223251
CREATED:20220125T163701Z
LAST-MODIFIED:20220125T163701Z
UID:3160-1649030400-1649116799@www.goppca.com
SUMMARY:JH Baseball Game @ Newton Academy
DESCRIPTION:Time – 4:00pm & 6:00pm
URL:https://www.goppca.com/calendar/jh-baseball-game-newton-academy/
LOCATION:Newton Academy\, 14602 MS-15\, Decatur\, MS\, 39327
CATEGORIES:Athletics Calendar
END:VEVENT
BEGIN:VEVENT
DTSTART;VALUE=DATE:20220404
DTEND;VALUE=DATE:20220405
DTSTAMP:20260423T223251
CREATED:20220324T161216Z
LAST-MODIFIED:20220324T161216Z
UID:3318-1649030400-1649116799@www.goppca.com
SUMMARY:JV & Varsity Cheer Clinic
DESCRIPTION:Time – TBA
URL:https://www.goppca.com/calendar/jv-varsity-cheer-clinic/
CATEGORIES:Athletics Calendar
END:VEVENT
BEGIN:VEVENT
DTSTART;VALUE=DATE:20220404
DTEND;VALUE=DATE:20220405
DTSTAMP:20260423T223251
CREATED:20220401T145521Z
LAST-MODIFIED:20220401T145521Z
UID:3347-1649030400-1649116799@www.goppca.com
SUMMARY:Varsity DH Baseball Game @ Winston
DESCRIPTION:4:00pm & 6:00pm
URL:https://www.goppca.com/calendar/varsity-dh-baseball-game-winston/
LOCATION:Winston Academy
CATEGORIES:Athletics Calendar
END:VEVENT
BEGIN:VEVENT
DTSTART;VALUE=DATE:20220405
DTEND;VALUE=DATE:20220406
DTSTAMP:20260423T223251
CREATED:20211209T173537Z
LAST-MODIFIED:20211209T173537Z
UID:3060-1649116800-1649203199@www.goppca.com
SUMMARY:Tennis Match @ Simpson
DESCRIPTION:Time – TBA
URL:https://www.goppca.com/calendar/tennis-match-simpson/
CATEGORIES:Athletics Calendar
END:VEVENT
BEGIN:VEVENT
DTSTART;VALUE=DATE:20220405
DTEND;VALUE=DATE:20220406
DTSTAMP:20260423T223251
CREATED:20220324T161304Z
LAST-MODIFIED:20220324T161304Z
UID:3319-1649116800-1649203199@www.goppca.com
SUMMARY:JV & Varsity Cheer Clinic
DESCRIPTION:Time – TBA
URL:https://www.goppca.com/calendar/jv-varsity-cheer-clinic-2/
CATEGORIES:Athletics Calendar
END:VEVENT
BEGIN:VEVENT
DTSTART;VALUE=DATE:20220406
DTEND;VALUE=DATE:20220407
DTSTAMP:20260423T223251
CREATED:20220210T162939Z
LAST-MODIFIED:20220210T163820Z
UID:3243-1649203200-1649289599@www.goppca.com
SUMMARY:Track & Field Meet
DESCRIPTION:@ Jackson Academy \nTime – TBD
URL:https://www.goppca.com/calendar/track-field-meet-5/
LOCATION:Jackson Academy\, 4908 Ridgewood Rd\, Jackson\, MS\, 39211
CATEGORIES:Athletics Calendar
END:VEVENT
BEGIN:VEVENT
DTSTART;VALUE=DATE:20220407
DTEND;VALUE=DATE:20220408
DTSTAMP:20260423T223251
CREATED:20211214T164120Z
LAST-MODIFIED:20220401T145841Z
UID:3087-1649289600-1649375999@www.goppca.com
SUMMARY:Varsity Baseball Game vs Winston @ Freedom Ridge
DESCRIPTION:Varsity Only – 1:30pm
URL:https://www.goppca.com/calendar/baseball-game-vs-winston-academy/
CATEGORIES:Athletics Calendar
END:VEVENT
BEGIN:VEVENT
DTSTART;VALUE=DATE:20220407
DTEND;VALUE=DATE:20220408
DTSTAMP:20260423T223251
CREATED:20220201T183629Z
LAST-MODIFIED:20220401T171637Z
UID:3212-1649289600-1649375999@www.goppca.com
SUMMARY:State Archery Meet
DESCRIPTION:State Championship\nTime  – 8:00am until 2:00pm
URL:https://www.goppca.com/calendar/archery-meet-11/
LOCATION:Kirk Fordice Equine Center\, 1207 Mississippi Street\, Jackson\, MS\, 39202\, United States
CATEGORIES:Athletics Calendar
END:VEVENT
BEGIN:VEVENT
DTSTART;VALUE=DATE:20220407
DTEND;VALUE=DATE:20220408
DTSTAMP:20260423T223251
CREATED:20220324T161340Z
LAST-MODIFIED:20220324T161340Z
UID:3320-1649289600-1649375999@www.goppca.com
SUMMARY:JV & Varsity Cheer Clinic
DESCRIPTION:Time – TBA
URL:https://www.goppca.com/calendar/jv-varsity-cheer-clinic-3/
CATEGORIES:Athletics Calendar
END:VEVENT
BEGIN:VEVENT
DTSTART;VALUE=DATE:20220408
DTEND;VALUE=DATE:20220409
DTSTAMP:20260423T223251
CREATED:20211214T164159Z
LAST-MODIFIED:20220401T145917Z
UID:3088-1649376000-1649462399@www.goppca.com
SUMMARY:Baseball Game @ Winston Academy-CANCELLED
DESCRIPTION:Varsity – 6:00pm
URL:https://www.goppca.com/calendar/baseball-game-winston-academy-2/
CATEGORIES:Athletics Calendar
END:VEVENT
BEGIN:VEVENT
DTSTART;VALUE=DATE:20220408
DTEND;VALUE=DATE:20220409
DTSTAMP:20260423T223251
CREATED:20220324T161435Z
LAST-MODIFIED:20220324T162206Z
UID:3321-1649376000-1649462399@www.goppca.com
SUMMARY:JV & Varsity Cheer Tryouts
DESCRIPTION:Time – TBA \nLocation – PPCA Campus Gym
URL:https://www.goppca.com/calendar/jv-varsity-cheer-tryouts/
CATEGORIES:Athletics Calendar
END:VEVENT
BEGIN:VEVENT
DTSTART;VALUE=DATE:20220411
DTEND;VALUE=DATE:20220412
DTSTAMP:20260423T223251
CREATED:20211214T164311Z
LAST-MODIFIED:20220411T201607Z
UID:3089-1649635200-1649721599@www.goppca.com
SUMMARY:Baseball Game @ East Central Community College
DESCRIPTION:PPCA vs Leake Academy \nVarsity – 7:00pm
URL:https://www.goppca.com/calendar/baseball-game-vs-leake-academy/
CATEGORIES:Athletics Calendar
END:VEVENT
BEGIN:VEVENT
DTSTART;VALUE=DATE:20220411
DTEND;VALUE=DATE:20220412
DTSTAMP:20260423T223251
CREATED:20220210T163920Z
LAST-MODIFIED:20220210T170000Z
UID:3244-1649635200-1649721599@www.goppca.com
SUMMARY:Track & Field JV District Meet
DESCRIPTION:@ Jackson Academy\nTime- TBD
URL:https://www.goppca.com/calendar/track-field-meet-6/
LOCATION:Jackson Academy\, 4908 Ridgewood Rd\, Jackson\, MS\, 39211
CATEGORIES:Athletics Calendar
END:VEVENT
BEGIN:VEVENT
DTSTART;VALUE=DATE:20220412
DTEND;VALUE=DATE:20220413
DTSTAMP:20260423T223251
CREATED:20220208T180206Z
LAST-MODIFIED:20220412T142605Z
UID:3230-1649721600-1649807999@www.goppca.com
SUMMARY:Baseball Game @ Leake
DESCRIPTION:Varsity DH – 3:00pm & 5:00PM
URL:https://www.goppca.com/calendar/baseball-game-leake/
LOCATION:Leake Academy\, 1 Rebel Dr\, Madden\, MS 39109\, Madden\, MS\, 39109\, United States
CATEGORIES:Athletics Calendar
END:VEVENT
BEGIN:VEVENT
DTSTART;VALUE=DATE:20220412
DTEND;VALUE=DATE:20220413
DTSTAMP:20260423T223251
CREATED:20220302T172323Z
LAST-MODIFIED:20220302T172406Z
UID:3302-1649721600-1649807999@www.goppca.com
SUMMARY:JH Baseball Game vs Richland @ Richland HS Field
DESCRIPTION:5:00 & 7:00
URL:https://www.goppca.com/calendar/jh-baseball-game-richland-hs-field/
CATEGORIES:Athletics Calendar
END:VEVENT
BEGIN:VEVENT
DTSTART;VALUE=DATE:20220413
DTEND;VALUE=DATE:20220414
DTSTAMP:20260423T223251
CREATED:20220210T164115Z
LAST-MODIFIED:20220210T164115Z
UID:3245-1649808000-1649894399@www.goppca.com
SUMMARY:Track & Field Meet
DESCRIPTION:@ MRA\nTime – TBD
URL:https://www.goppca.com/calendar/track-field-meet-7/
LOCATION:Madison Ridgeland Academy\, 7601 Old Canton Road\, Madison\, MS\, 39110
CATEGORIES:Athletics Calendar
END:VEVENT
BEGIN:VEVENT
DTSTART;VALUE=DATE:20220414
DTEND;VALUE=DATE:20220415
DTSTAMP:20260423T223251
CREATED:20211214T165028Z
LAST-MODIFIED:20220412T180644Z
UID:3090-1649894400-1649980799@www.goppca.com
SUMMARY:Baseball Game @ East Central Community College - CANCELLED
DESCRIPTION:PPCA vs Leake Academy \nVarsity Only – 6:30
URL:https://www.goppca.com/calendar/baseball-game-leake-academy/
CATEGORIES:Athletics Calendar
END:VEVENT
BEGIN:VEVENT
DTSTART;VALUE=DATE:20220415
DTEND;VALUE=DATE:20220419
DTSTAMP:20260423T223251
CREATED:20210616T181627Z
LAST-MODIFIED:20210616T181627Z
UID:2314-1649980800-1650326399@www.goppca.com
SUMMARY:No School: Good Friday-Easter Monday
DESCRIPTION:School will resume Tuesday\, April 19. \n“He is not here\, but has risen! Remember how He told you\, while He was still in Galilee\, that the Son of Man must be delivered into the hands of sinful men and be crucified and on the third day rise.” Luke 24: 6-7
URL:https://www.goppca.com/calendar/no-school-good-friday-easter-monday/
CATEGORIES:Athletics Calendar,PPCA School Calendar
END:VEVENT
BEGIN:VEVENT
DTSTART;VALUE=DATE:20220419
DTEND;VALUE=DATE:20220420
DTSTAMP:20260423T223251
CREATED:20211214T170009Z
LAST-MODIFIED:20220208T180507Z
UID:3092-1650326400-1650412799@www.goppca.com
SUMMARY:Baseball Game @ East Central Community College
DESCRIPTION:PPCA vs Lamar School \nJV – 5:00pm\nVarsity – 7:00pm
URL:https://www.goppca.com/calendar/baseball-game-vs-lamar-school/
CATEGORIES:Athletics Calendar
END:VEVENT
BEGIN:VEVENT
DTSTART;VALUE=DATE:20220420
DTEND;VALUE=DATE:20220421
DTSTAMP:20260423T223251
CREATED:20220210T164243Z
LAST-MODIFIED:20220210T170323Z
UID:3246-1650412800-1650499199@www.goppca.com
SUMMARY:Track & Field Varsity District Meet
DESCRIPTION:@ MRA \nTime – TBD
URL:https://www.goppca.com/calendar/track-field-meet-8/
LOCATION:Madison Ridgeland Academy\, 7601 Old Canton Road\, Madison\, MS\, 39110
CATEGORIES:Athletics Calendar
END:VEVENT
BEGIN:VEVENT
DTSTART;VALUE=DATE:20220421
DTEND;VALUE=DATE:20220422
DTSTAMP:20260423T223251
CREATED:20211214T170111Z
LAST-MODIFIED:20220420T171206Z
UID:3093-1650499200-1650585599@www.goppca.com
SUMMARY:Baseball Game @ Lamar School
DESCRIPTION:JV – 4:00pm\nVarsity – 6:00pm
URL:https://www.goppca.com/calendar/baseball-game-lamar-school/
CATEGORIES:Athletics Calendar
END:VEVENT
BEGIN:VEVENT
DTSTART;VALUE=DATE:20220421
DTEND;VALUE=DATE:20220422
DTSTAMP:20260423T223251
CREATED:20220330T165104Z
LAST-MODIFIED:20220419T153315Z
UID:3328-1650499200-1650585599@www.goppca.com
SUMMARY:Varsity Girls Basketball Awards Ceremony
DESCRIPTION:Time -6:00pm \nLocation – The upstairs gathering area in the 201 building.
URL:https://www.goppca.com/calendar/varsity-girls-basketball-awards-ceremony/
CATEGORIES:Athletics Calendar
END:VEVENT
BEGIN:VEVENT
DTSTART;VALUE=DATE:20220422
DTEND;VALUE=DATE:20220423
DTSTAMP:20260423T223251
CREATED:20211214T170204Z
LAST-MODIFIED:20220208T180723Z
UID:3094-1650585600-1650671999@www.goppca.com
SUMMARY:Baseball Game @ East Central Community College
DESCRIPTION:PPCA vs Lamar School \n  \nVarsity Only – 6:00pm
URL:https://www.goppca.com/calendar/baseball-game-vs-lamar-school-2/
CATEGORIES:Athletics Calendar
END:VEVENT
BEGIN:VEVENT
DTSTART;TZID=UTC:20220422T080000
DTEND;TZID=UTC:20220422T110000
DTSTAMP:20260423T223251
CREATED:20220331T181906Z
LAST-MODIFIED:20220331T181906Z
UID:3334-1650614400-1650625200@www.goppca.com
SUMMARY:Winter Guard Celebration with Performance
DESCRIPTION:PPCA’s Winter Guard will celebrate the 2021 State Championship and present the 2022 performance in the PPCA Gym.
URL:https://www.goppca.com/calendar/winter-guard-celebration-with-performance/
CATEGORIES:Athletics Calendar,PPCA School Calendar
END:VEVENT
BEGIN:VEVENT
DTSTART;TZID=UTC:20220422T180000
DTEND;TZID=UTC:20220422T190000
DTSTAMP:20260423T223251
CREATED:20220422T172552Z
LAST-MODIFIED:20220422T172552Z
UID:3418-1650650400-1650654000@www.goppca.com
SUMMARY:Senior Night
DESCRIPTION:We will recognize:\nShooting Team\, Golf\, Winter Guard\, Tennis\, Archery\, Girls/Boys Track & Baseball – 6:00pm in PPBC Sanctuary
URL:https://www.goppca.com/calendar/senior-night/
CATEGORIES:Athletics Calendar
END:VEVENT
BEGIN:VEVENT
DTSTART;VALUE=DATE:20220425
DTEND;VALUE=DATE:20220426
DTSTAMP:20260423T223251
CREATED:20211214T170256Z
LAST-MODIFIED:20211214T170256Z
UID:3095-1650844800-1650931199@www.goppca.com
SUMMARY:Baseball - 1st Round Playoffs
DESCRIPTION:Time and Location – TBD
URL:https://www.goppca.com/calendar/baseball-1st-round-playoffs/
CATEGORIES:Athletics Calendar
END:VEVENT
BEGIN:VEVENT
DTSTART;VALUE=DATE:20220425
DTEND;VALUE=DATE:20220426
DTSTAMP:20260423T223251
CREATED:20220330T165217Z
LAST-MODIFIED:20220330T165217Z
UID:3329-1650844800-1650931199@www.goppca.com
SUMMARY:Varsity Boys Basketball Awards Ceremony
DESCRIPTION:Time – 6:00pm \nLocation – The gathering area in the upstairs of the 201 building.
URL:https://www.goppca.com/calendar/varsity-boys-basketball-awards-ceremony-2/
CATEGORIES:Athletics Calendar
END:VEVENT
END:VCALENDAR