BEGIN:VCALENDAR
VERSION:2.0
PRODID:-//Park Place Christian Academy - ECPv6.15.20//NONSGML v1.0//EN
CALSCALE:GREGORIAN
METHOD:PUBLISH
X-ORIGINAL-URL:https://www.goppca.com
X-WR-CALDESC:Events for Park Place Christian Academy
REFRESH-INTERVAL;VALUE=DURATION:PT1H
X-Robots-Tag:noindex
X-PUBLISHED-TTL:PT1H
BEGIN:VTIMEZONE
TZID:UTC
BEGIN:STANDARD
TZOFFSETFROM:+0000
TZOFFSETTO:+0000
TZNAME:UTC
DTSTART:20210101T000000
END:STANDARD
END:VTIMEZONE
BEGIN:VEVENT
DTSTART;VALUE=DATE:20220602
DTEND;VALUE=DATE:20220603
DTSTAMP:20260423T194723
CREATED:20220519T143827Z
LAST-MODIFIED:20220519T151716Z
UID:3573-1654128000-1654214399@www.goppca.com
SUMMARY:JH Boys Basketball Practice
DESCRIPTION:12:30pm until 2:00pm @ Pearl Gym
URL:https://www.goppca.com/calendar/jh-boys-basketball-practice-pearl-gym-4/
CATEGORIES:Athletics Calendar
END:VEVENT
BEGIN:VEVENT
DTSTART;VALUE=DATE:20220602
DTEND;VALUE=DATE:20220603
DTSTAMP:20260423T194723
CREATED:20220519T154930Z
LAST-MODIFIED:20220519T154930Z
UID:3600-1654128000-1654214399@www.goppca.com
SUMMARY:Varsity Boys Basketball Practice
DESCRIPTION:9:30am until 12pm @ PPCA campus gym
URL:https://www.goppca.com/calendar/varsity-boys-basketball-practice-5/
CATEGORIES:Athletics Calendar
END:VEVENT
BEGIN:VEVENT
DTSTART;VALUE=DATE:20220602
DTEND;VALUE=DATE:20220603
DTSTAMP:20260423T194723
CREATED:20220519T164936Z
LAST-MODIFIED:20220519T164936Z
UID:3629-1654128000-1654214399@www.goppca.com
SUMMARY:JH/Varsity Girls Basketball Practice @ Pearl Gym
DESCRIPTION:8am until 10am
URL:https://www.goppca.com/calendar/jh-varsity-girls-basketball-practice-pearl-gym-5/
CATEGORIES:Athletics Calendar
END:VEVENT
BEGIN:VEVENT
DTSTART;VALUE=DATE:20220602
DTEND;VALUE=DATE:20220603
DTSTAMP:20260423T194723
CREATED:20220519T170546Z
LAST-MODIFIED:20220519T170546Z
UID:3641-1654128000-1654214399@www.goppca.com
SUMMARY:Girls Soccer Practice @ Shepherd Field
DESCRIPTION:4:30pm – 6:00pm
URL:https://www.goppca.com/calendar/girls-soccer-practice-shepherd-field/
LOCATION:H.F. Shepherd Memorial Field\, 2420 Old Brandon Rd\, Pearl\, MS\, 39208\, United States
CATEGORIES:Athletics Calendar
END:VEVENT
BEGIN:VEVENT
DTSTART;VALUE=DATE:20220603
DTEND;VALUE=DATE:20220604
DTSTAMP:20260423T194723
CREATED:20220519T155017Z
LAST-MODIFIED:20220519T155017Z
UID:3601-1654214400-1654300799@www.goppca.com
SUMMARY:Varsity Boys Basketball Practice
DESCRIPTION:8:00am until 10:30am @ PPCA campus gym
URL:https://www.goppca.com/calendar/varsity-boys-basketball-practice-6/
CATEGORIES:Athletics Calendar
END:VEVENT
BEGIN:VEVENT
DTSTART;VALUE=DATE:20220603
DTEND;VALUE=DATE:20220604
DTSTAMP:20260423T194723
CREATED:20220519T165836Z
LAST-MODIFIED:20220519T165836Z
UID:3640-1654214400-1654300799@www.goppca.com
SUMMARY:JH/Varsity Girls Basketball Practice @ Pearl Gym
DESCRIPTION:8am until 10am
URL:https://www.goppca.com/calendar/jh-varsity-girls-basketball-practice-pearl-gym-6/
CATEGORIES:Athletics Calendar
END:VEVENT
BEGIN:VEVENT
DTSTART;VALUE=DATE:20220606
DTEND;VALUE=DATE:20220607
DTSTAMP:20260423T194723
CREATED:20220519T143703Z
LAST-MODIFIED:20220519T151752Z
UID:3572-1654473600-1654559999@www.goppca.com
SUMMARY:JH Boys Basketball Practice
DESCRIPTION:10:00am until 11:30am @ Pearl Gym
URL:https://www.goppca.com/calendar/jh-basketball-practice-pearl/
CATEGORIES:Athletics Calendar
END:VEVENT
BEGIN:VEVENT
DTSTART;VALUE=DATE:20220606
DTEND;VALUE=DATE:20220607
DTSTAMP:20260423T194723
CREATED:20220519T155121Z
LAST-MODIFIED:20220519T155121Z
UID:3602-1654473600-1654559999@www.goppca.com
SUMMARY:Varsity Boys Basketball Practice
DESCRIPTION:11:30am until 1:00pm @ PEARL GYM
URL:https://www.goppca.com/calendar/varsity-boys-basketball-practice-7/
CATEGORIES:Athletics Calendar
END:VEVENT
BEGIN:VEVENT
DTSTART;VALUE=DATE:20220606
DTEND;VALUE=DATE:20220607
DTSTAMP:20260423T194723
CREATED:20220519T175626Z
LAST-MODIFIED:20220519T175626Z
UID:3666-1654473600-1654559999@www.goppca.com
SUMMARY:JH Football Summer Workouts
DESCRIPTION:8am until 9:30am
URL:https://www.goppca.com/calendar/jh-football-summer-workouts/
CATEGORIES:Athletics Calendar
END:VEVENT
BEGIN:VEVENT
DTSTART;VALUE=DATE:20220606
DTEND;VALUE=DATE:20220607
DTSTAMP:20260423T194723
CREATED:20220519T185608Z
LAST-MODIFIED:20220519T185751Z
UID:3703-1654473600-1654559999@www.goppca.com
SUMMARY:HS Football Workouts
DESCRIPTION:6:30am until 8am
URL:https://www.goppca.com/calendar/hs-football-workouts/
CATEGORIES:Athletics Calendar
END:VEVENT
BEGIN:VEVENT
DTSTART;VALUE=DATE:20220606
DTEND;VALUE=DATE:20220607
DTSTAMP:20260423T194723
CREATED:20220519T172416Z
LAST-MODIFIED:20220519T175016Z
UID:3663-1654473600-1654559999@www.goppca.com
SUMMARY:Boys Soccer Weight Training @ PPCA Campus
DESCRIPTION:10:00am
URL:https://www.goppca.com/calendar/boys-soccer-weight-training-ppca-campus-6/
CATEGORIES:Athletics Calendar
END:VEVENT
BEGIN:VEVENT
DTSTART;VALUE=DATE:20220607
DTEND;VALUE=DATE:20220609
DTSTAMP:20260423T194723
CREATED:20220519T155253Z
LAST-MODIFIED:20220519T155253Z
UID:3603-1654560000-1654732799@www.goppca.com
SUMMARY:Varsity Boys Basketball Camp at Birmingham Southern
DESCRIPTION:Cost is $175(includes 5 meals in the cafeteria).  Cash or checks made to PPCA due June 1.  If you want snacks or late night pizza bring extra cash.
URL:https://www.goppca.com/calendar/varsity-boys-basketball-camp-at-birmingham-southern/
CATEGORIES:Athletics Calendar
END:VEVENT
BEGIN:VEVENT
DTSTART;VALUE=DATE:20220607
DTEND;VALUE=DATE:20220608
DTSTAMP:20260423T194723
CREATED:20220519T170634Z
LAST-MODIFIED:20220519T170634Z
UID:3642-1654560000-1654646399@www.goppca.com
SUMMARY:Girls Soccer Practice @ Shepherd Field
DESCRIPTION:4:30pm until 6:00pm
URL:https://www.goppca.com/calendar/girls-soccer-practice-shepherd-field-2/
CATEGORIES:Athletics Calendar
END:VEVENT
BEGIN:VEVENT
DTSTART;VALUE=DATE:20220607
DTEND;VALUE=DATE:20220608
DTSTAMP:20260423T194723
CREATED:20220519T175653Z
LAST-MODIFIED:20220519T175653Z
UID:3667-1654560000-1654646399@www.goppca.com
SUMMARY:JH Football Summer Workouts
DESCRIPTION:8am until 9:30am
URL:https://www.goppca.com/calendar/jh-football-summer-workouts-2/
CATEGORIES:Athletics Calendar
END:VEVENT
BEGIN:VEVENT
DTSTART;VALUE=DATE:20220607
DTEND;VALUE=DATE:20220608
DTSTAMP:20260423T194723
CREATED:20220519T185643Z
LAST-MODIFIED:20220519T185817Z
UID:3704-1654560000-1654646399@www.goppca.com
SUMMARY:HS Football Workouts
DESCRIPTION:6:30am until 8am
URL:https://www.goppca.com/calendar/hs-football-workouts-2/
CATEGORIES:Athletics Calendar
END:VEVENT
BEGIN:VEVENT
DTSTART;VALUE=DATE:20220608
DTEND;VALUE=DATE:20220609
DTSTAMP:20260423T194723
CREATED:20220519T172252Z
LAST-MODIFIED:20220519T174520Z
UID:3660-1654646400-1654732799@www.goppca.com
SUMMARY:Boys Soccer Weight Training @ PPCA Campus
DESCRIPTION:10:00am
URL:https://www.goppca.com/calendar/boys-soccer-weight-training-ppca-campus-3/
CATEGORIES:Athletics Calendar
END:VEVENT
BEGIN:VEVENT
DTSTART;VALUE=DATE:20220609
DTEND;VALUE=DATE:20220611
DTSTAMP:20260423T194723
CREATED:20220519T144058Z
LAST-MODIFIED:20220519T144216Z
UID:3574-1654732800-1654905599@www.goppca.com
SUMMARY:JH Boys Basketball Camp @ Birmingham Southern
DESCRIPTION:Cost is $175(includes 5 meals in the cafeteria).  Cash or Cks made to PPCA – due by June 1.\nIf you want snacks or late night pizza bring extra cash.
URL:https://www.goppca.com/calendar/jh-boys-basketball-camp-birmingham-southern/
CATEGORIES:Athletics Calendar
END:VEVENT
BEGIN:VEVENT
DTSTART;VALUE=DATE:20220609
DTEND;VALUE=DATE:20220610
DTSTAMP:20260423T194723
CREATED:20220519T170704Z
LAST-MODIFIED:20220519T170704Z
UID:3643-1654732800-1654819199@www.goppca.com
SUMMARY:Girls Soccer Practice @ Shepherd Field
DESCRIPTION:4:30pm until 6:00pm
URL:https://www.goppca.com/calendar/girls-soccer-practice-shepherd-field-3/
CATEGORIES:Athletics Calendar
END:VEVENT
BEGIN:VEVENT
DTSTART;VALUE=DATE:20220609
DTEND;VALUE=DATE:20220610
DTSTAMP:20260423T194723
CREATED:20220519T185716Z
LAST-MODIFIED:20220519T185716Z
UID:3705-1654732800-1654819199@www.goppca.com
SUMMARY:HS Football Workouts
DESCRIPTION:6:30am until 8am
URL:https://www.goppca.com/calendar/hs-football-workouts-3/
CATEGORIES:Athletics Calendar
END:VEVENT
BEGIN:VEVENT
DTSTART;VALUE=DATE:20220609
DTEND;VALUE=DATE:20220610
DTSTAMP:20260423T194723
CREATED:20220519T175725Z
LAST-MODIFIED:20220519T183421Z
UID:3668-1654732800-1654819199@www.goppca.com
SUMMARY:JH Football Summer Workouts
DESCRIPTION:8am until 9:30am
URL:https://www.goppca.com/calendar/jh-football-summer-workouts-3/
CATEGORIES:Athletics Calendar
END:VEVENT
BEGIN:VEVENT
DTSTART;VALUE=DATE:20220610
DTEND;VALUE=DATE:20220611
DTSTAMP:20260423T194723
CREATED:20220519T172443Z
LAST-MODIFIED:20220519T175123Z
UID:3664-1654819200-1654905599@www.goppca.com
SUMMARY:Boys Soccer Weight Training @ PPCA Campus
DESCRIPTION:10:00am
URL:https://www.goppca.com/calendar/boys-soccer-weight-training-ppca-campus-7/
CATEGORIES:Athletics Calendar
END:VEVENT
BEGIN:VEVENT
DTSTART;VALUE=DATE:20220613
DTEND;VALUE=DATE:20220614
DTSTAMP:20260423T194723
CREATED:20220519T144437Z
LAST-MODIFIED:20220519T144602Z
UID:3575-1655078400-1655164799@www.goppca.com
SUMMARY:JH Boys Basketball Practice
DESCRIPTION:10:00am until 11:30am @ Pearl Gym\nbasketball weights 12pm until 1pm @ PPCA
URL:https://www.goppca.com/calendar/jh-boys-basketball-practice/
CATEGORIES:Athletics Calendar
END:VEVENT
BEGIN:VEVENT
DTSTART;VALUE=DATE:20220613
DTEND;VALUE=DATE:20220614
DTSTAMP:20260423T194723
CREATED:20220519T165045Z
LAST-MODIFIED:20220519T165045Z
UID:3631-1655078400-1655164799@www.goppca.com
SUMMARY:JH/Varsity Girls Basketball Practice @ Pearl Gym
DESCRIPTION:8am until 10am
URL:https://www.goppca.com/calendar/jh-varsity-girls-basketball-practice-pearl-gym-7/
CATEGORIES:Athletics Calendar
END:VEVENT
BEGIN:VEVENT
DTSTART;VALUE=DATE:20220613
DTEND;VALUE=DATE:20220614
DTSTAMP:20260423T194723
CREATED:20220519T173520Z
LAST-MODIFIED:20220519T175313Z
UID:3665-1655078400-1655164799@www.goppca.com
SUMMARY:Boys Soccer 7v7 HS Tourn @ Holmes CC Ridgeland
DESCRIPTION:8:00am
URL:https://www.goppca.com/calendar/boys-soccer-7v7-hs-tourn-holmes-cc-ridgeland/
CATEGORIES:Athletics Calendar
END:VEVENT
BEGIN:VEVENT
DTSTART;VALUE=DATE:20220613
DTEND;VALUE=DATE:20220614
DTSTAMP:20260423T194723
CREATED:20220519T175756Z
LAST-MODIFIED:20220519T175756Z
UID:3669-1655078400-1655164799@www.goppca.com
SUMMARY:JH Football Summer Workouts
DESCRIPTION:8am until 9:30am
URL:https://www.goppca.com/calendar/jh-football-summer-workouts-4/
CATEGORIES:Athletics Calendar
END:VEVENT
BEGIN:VEVENT
DTSTART;VALUE=DATE:20220613
DTEND;VALUE=DATE:20220614
DTSTAMP:20260423T194723
CREATED:20220519T185903Z
LAST-MODIFIED:20220519T185903Z
UID:3706-1655078400-1655164799@www.goppca.com
SUMMARY:HS Football Workouts
DESCRIPTION:6:30am until 8am
URL:https://www.goppca.com/calendar/hs-football-workouts-4/
CATEGORIES:Athletics Calendar
END:VEVENT
BEGIN:VEVENT
DTSTART;TZID=UTC:20220613T080000
DTEND;TZID=UTC:20220617T170000
DTSTAMP:20260423T194723
CREATED:20220519T190049Z
LAST-MODIFIED:20220519T190049Z
UID:3709-1655107200-1655485200@www.goppca.com
SUMMARY:PPBC Generate Camp
DESCRIPTION:
URL:https://www.goppca.com/calendar/ppbc-generate-camp/
CATEGORIES:Athletics Calendar
END:VEVENT
BEGIN:VEVENT
DTSTART;VALUE=DATE:20220614
DTEND;VALUE=DATE:20220615
DTSTAMP:20260423T194723
CREATED:20220519T144708Z
LAST-MODIFIED:20220519T144931Z
UID:3576-1655164800-1655251199@www.goppca.com
SUMMARY:JH Boys Basketball Practice
DESCRIPTION:9:30am until 11:00am @ PPCA campus gym\nbasketball weights from 11pm until 12pm.
URL:https://www.goppca.com/calendar/jh-boys-basketball-practice-2/
CATEGORIES:Athletics Calendar
END:VEVENT
BEGIN:VEVENT
DTSTART;VALUE=DATE:20220614
DTEND;VALUE=DATE:20220615
DTSTAMP:20260423T194723
CREATED:20220519T155439Z
LAST-MODIFIED:20220519T155439Z
UID:3604-1655164800-1655251199@www.goppca.com
SUMMARY:Varsity Boys Basketball Practice
DESCRIPTION:9:30am until 12:00pm @ PPCA campus gym
URL:https://www.goppca.com/calendar/varsity-boys-basketball-practice-8/
CATEGORIES:Athletics Calendar
END:VEVENT
BEGIN:VEVENT
DTSTART;VALUE=DATE:20220614
DTEND;VALUE=DATE:20220615
DTSTAMP:20260423T194723
CREATED:20220519T170748Z
LAST-MODIFIED:20220519T170748Z
UID:3644-1655164800-1655251199@www.goppca.com
SUMMARY:Girls Soccer Practice @ Shepherd Field
DESCRIPTION:4:30pm until 6:00pm
URL:https://www.goppca.com/calendar/girls-soccer-practice-shepherd-field-4/
CATEGORIES:Athletics Calendar
END:VEVENT
END:VCALENDAR