BEGIN:VCALENDAR
VERSION:2.0
PRODID:-//Park Place Christian Academy - ECPv6.15.20//NONSGML v1.0//EN
CALSCALE:GREGORIAN
METHOD:PUBLISH
X-ORIGINAL-URL:https://www.goppca.com
X-WR-CALDESC:Events for Park Place Christian Academy
REFRESH-INTERVAL;VALUE=DURATION:PT1H
X-Robots-Tag:noindex
X-PUBLISHED-TTL:PT1H
BEGIN:VTIMEZONE
TZID:UTC
BEGIN:STANDARD
TZOFFSETFROM:+0000
TZOFFSETTO:+0000
TZNAME:UTC
DTSTART:20210101T000000
END:STANDARD
END:VTIMEZONE
BEGIN:VEVENT
DTSTART;VALUE=DATE:20220701
DTEND;VALUE=DATE:20220702
DTSTAMP:20260423T183112
CREATED:20220519T160305Z
LAST-MODIFIED:20220519T160305Z
UID:3612-1656633600-1656719999@www.goppca.com
SUMMARY:Varsity Boys Basketball Practice
DESCRIPTION:8:00am until 10:30am @ PPCA campus gym
URL:https://www.goppca.com/calendar/varsity-boys-basketball-practice-15/
CATEGORIES:Athletics Calendar
END:VEVENT
BEGIN:VEVENT
DTSTART;VALUE=DATE:20220704
DTEND;VALUE=DATE:20220709
DTSTAMP:20260423T183112
CREATED:20220519T190721Z
LAST-MODIFIED:20220519T190721Z
UID:3717-1656892800-1657324799@www.goppca.com
SUMMARY:DEAD WEEK
DESCRIPTION:
URL:https://www.goppca.com/calendar/dead-week/
CATEGORIES:Athletics Calendar
END:VEVENT
BEGIN:VEVENT
DTSTART;VALUE=DATE:20220704
DTEND;VALUE=DATE:20220709
DTSTAMP:20260423T183112
CREATED:20220606T140745Z
LAST-MODIFIED:20220606T140745Z
UID:3782-1656892800-1657324799@www.goppca.com
SUMMARY:PPCA Offices are Closed
DESCRIPTION:PPCA Offices are closed July 4-July 8. Offices will reopen Monday\, July 11\, with summer hours of 9 a.m. until 1 p.m.
URL:https://www.goppca.com/calendar/ppca-offices-are-closed/
CATEGORIES:Athletics Calendar,PPCA School Calendar
END:VEVENT
BEGIN:VEVENT
DTSTART;VALUE=DATE:20220705
DTEND;VALUE=DATE:20220706
DTSTAMP:20260423T183112
CREATED:20220519T171130Z
LAST-MODIFIED:20220519T171130Z
UID:3650-1656979200-1657065599@www.goppca.com
SUMMARY:Girls Soccer Practice @ Shepherd Field
DESCRIPTION:4:30pm until 6:00pm
URL:https://www.goppca.com/calendar/girls-soccer-practice-shepherd-field-10/
CATEGORIES:Athletics Calendar
END:VEVENT
BEGIN:VEVENT
DTSTART;VALUE=DATE:20220707
DTEND;VALUE=DATE:20220708
DTSTAMP:20260423T183112
CREATED:20220519T171155Z
LAST-MODIFIED:20220519T171155Z
UID:3651-1657152000-1657238399@www.goppca.com
SUMMARY:Girls Soccer Practice @ Shepherd Field
DESCRIPTION:4:30pm until 6:00pm
URL:https://www.goppca.com/calendar/girls-soccer-practice-shepherd-field-11/
CATEGORIES:Athletics Calendar
END:VEVENT
BEGIN:VEVENT
DTSTART;VALUE=DATE:20220711
DTEND;VALUE=DATE:20220712
DTSTAMP:20260423T183112
CREATED:20220519T180715Z
LAST-MODIFIED:20220519T180715Z
UID:3679-1657497600-1657583999@www.goppca.com
SUMMARY:JH Football Summer Workouts
DESCRIPTION:8am until 9:30am
URL:https://www.goppca.com/calendar/jh-football-summer-workouts-13/
CATEGORIES:Athletics Calendar
END:VEVENT
BEGIN:VEVENT
DTSTART;VALUE=DATE:20220711
DTEND;VALUE=DATE:20220712
DTSTAMP:20260423T183112
CREATED:20220519T190647Z
LAST-MODIFIED:20220519T190647Z
UID:3716-1657497600-1657583999@www.goppca.com
SUMMARY:HS Football Workouts
DESCRIPTION:6:30am until 8am
URL:https://www.goppca.com/calendar/hs-football-workouts-13/
CATEGORIES:Athletics Calendar
END:VEVENT
BEGIN:VEVENT
DTSTART;VALUE=DATE:20220712
DTEND;VALUE=DATE:20220713
DTSTAMP:20260423T183112
CREATED:20220519T145843Z
LAST-MODIFIED:20220519T160833Z
UID:3583-1657584000-1657670399@www.goppca.com
SUMMARY:JH Boys Basketball Practice
DESCRIPTION:9:30am until 12:00pm @ PPCA campus gym
URL:https://www.goppca.com/calendar/jh-boys-basketball-practice-9/
CATEGORIES:Athletics Calendar
END:VEVENT
BEGIN:VEVENT
DTSTART;VALUE=DATE:20220712
DTEND;VALUE=DATE:20220713
DTSTAMP:20260423T183112
CREATED:20220519T160426Z
LAST-MODIFIED:20220519T160725Z
UID:3613-1657584000-1657670399@www.goppca.com
SUMMARY:Varsity Boys Basketball Practice
DESCRIPTION:9:30am until 12:00pm @ PPCA campus gym
URL:https://www.goppca.com/calendar/varsity-boys-basketball-practice-16/
CATEGORIES:Athletics Calendar
END:VEVENT
BEGIN:VEVENT
DTSTART;VALUE=DATE:20220712
DTEND;VALUE=DATE:20220713
DTSTAMP:20260423T183112
CREATED:20220519T165315Z
LAST-MODIFIED:20220519T165315Z
UID:3634-1657584000-1657670399@www.goppca.com
SUMMARY:JH/Varsity Girls Basketball Practice @ Pearl Gym
DESCRIPTION:3pm until 5pm
URL:https://www.goppca.com/calendar/jh-varsity-girls-basketball-practice-pearl-gym-10/
CATEGORIES:Athletics Calendar
END:VEVENT
BEGIN:VEVENT
DTSTART;VALUE=DATE:20220712
DTEND;VALUE=DATE:20220713
DTSTAMP:20260423T183112
CREATED:20220519T171226Z
LAST-MODIFIED:20220519T171226Z
UID:3652-1657584000-1657670399@www.goppca.com
SUMMARY:Girls Soccer Practice @ Shepherd Field
DESCRIPTION:4:30pm until 6:00pm
URL:https://www.goppca.com/calendar/girls-soccer-practice-shepherd-field-12/
CATEGORIES:Athletics Calendar
END:VEVENT
BEGIN:VEVENT
DTSTART;VALUE=DATE:20220712
DTEND;VALUE=DATE:20220713
DTSTAMP:20260423T183112
CREATED:20220519T180751Z
LAST-MODIFIED:20220519T180751Z
UID:3680-1657584000-1657670399@www.goppca.com
SUMMARY:JH Football Summer Workouts
DESCRIPTION:8am until 9:30am
URL:https://www.goppca.com/calendar/jh-football-summer-workouts-14/
CATEGORIES:Athletics Calendar
END:VEVENT
BEGIN:VEVENT
DTSTART;VALUE=DATE:20220712
DTEND;VALUE=DATE:20220713
DTSTAMP:20260423T183112
CREATED:20220519T190753Z
LAST-MODIFIED:20220519T190753Z
UID:3718-1657584000-1657670399@www.goppca.com
SUMMARY:HS Football Workouts
DESCRIPTION:6:30am until 8am
URL:https://www.goppca.com/calendar/hs-football-workouts-14/
CATEGORIES:Athletics Calendar
END:VEVENT
BEGIN:VEVENT
DTSTART;VALUE=DATE:20220713
DTEND;VALUE=DATE:20220714
DTSTAMP:20260423T183112
CREATED:20220519T190819Z
LAST-MODIFIED:20220519T190819Z
UID:3719-1657670400-1657756799@www.goppca.com
SUMMARY:HS Football Workouts
DESCRIPTION:6:30am until 8am
URL:https://www.goppca.com/calendar/hs-football-workouts-15/
CATEGORIES:Athletics Calendar
END:VEVENT
BEGIN:VEVENT
DTSTART;VALUE=DATE:20220714
DTEND;VALUE=DATE:20220715
DTSTAMP:20260423T183112
CREATED:20220519T145949Z
LAST-MODIFIED:20220519T161013Z
UID:3584-1657756800-1657843199@www.goppca.com
SUMMARY:JH Boys Basketball Practice
DESCRIPTION:9:30am until 12:00pm @ PPCA campus gym
URL:https://www.goppca.com/calendar/jh-boys-basketball-practice-10/
CATEGORIES:Athletics Calendar
END:VEVENT
BEGIN:VEVENT
DTSTART;VALUE=DATE:20220714
DTEND;VALUE=DATE:20220715
DTSTAMP:20260423T183112
CREATED:20220519T162111Z
LAST-MODIFIED:20220519T162111Z
UID:3614-1657756800-1657843199@www.goppca.com
SUMMARY:Varsity Boys Basketball Practice
DESCRIPTION:9:30am until 12pm @ PPCA campus gym
URL:https://www.goppca.com/calendar/varsity-boys-basketball-practice-17/
CATEGORIES:Athletics Calendar
END:VEVENT
BEGIN:VEVENT
DTSTART;VALUE=DATE:20220714
DTEND;VALUE=DATE:20220715
DTSTAMP:20260423T183112
CREATED:20220519T165346Z
LAST-MODIFIED:20220519T165346Z
UID:3635-1657756800-1657843199@www.goppca.com
SUMMARY:JH/Varsity Girls Basketball Practice @ Pearl Gym
DESCRIPTION:3pm until 5pm
URL:https://www.goppca.com/calendar/jh-varsity-girls-basketball-practice-pearl-gym-11/
CATEGORIES:Athletics Calendar
END:VEVENT
BEGIN:VEVENT
DTSTART;VALUE=DATE:20220714
DTEND;VALUE=DATE:20220715
DTSTAMP:20260423T183112
CREATED:20220519T171300Z
LAST-MODIFIED:20220519T171300Z
UID:3653-1657756800-1657843199@www.goppca.com
SUMMARY:Girls Soccer Practice @ Shepherd Field
DESCRIPTION:4:30pm until 6:00pm
URL:https://www.goppca.com/calendar/girls-soccer-practice-shepherd-field-13/
CATEGORIES:Athletics Calendar
END:VEVENT
BEGIN:VEVENT
DTSTART;VALUE=DATE:20220714
DTEND;VALUE=DATE:20220715
DTSTAMP:20260423T183112
CREATED:20220519T182916Z
LAST-MODIFIED:20220519T182916Z
UID:3682-1657756800-1657843199@www.goppca.com
SUMMARY:JH Football Summer Workouts
DESCRIPTION:8am until 9:30am
URL:https://www.goppca.com/calendar/jh-football-summer-workouts-16/
CATEGORIES:Athletics Calendar
END:VEVENT
BEGIN:VEVENT
DTSTART;VALUE=DATE:20220714
DTEND;VALUE=DATE:20220715
DTSTAMP:20260423T183112
CREATED:20220519T190851Z
LAST-MODIFIED:20220519T190851Z
UID:3720-1657756800-1657843199@www.goppca.com
SUMMARY:HS Football Workouts
DESCRIPTION:6:30am until 8am
URL:https://www.goppca.com/calendar/hs-football-workouts-16/
CATEGORIES:Athletics Calendar
END:VEVENT
BEGIN:VEVENT
DTSTART;VALUE=DATE:20220715
DTEND;VALUE=DATE:20220716
DTSTAMP:20260423T183112
CREATED:20220519T150034Z
LAST-MODIFIED:20220519T161102Z
UID:3585-1657843200-1657929599@www.goppca.com
SUMMARY:JH Boys Basketball Practice
DESCRIPTION:8:00am until 10:30am @ PPCA campus gym
URL:https://www.goppca.com/calendar/jh-boys-basketball-practice-11/
CATEGORIES:Athletics Calendar
END:VEVENT
BEGIN:VEVENT
DTSTART;VALUE=DATE:20220715
DTEND;VALUE=DATE:20220716
DTSTAMP:20260423T183112
CREATED:20220519T162154Z
LAST-MODIFIED:20220519T162154Z
UID:3615-1657843200-1657929599@www.goppca.com
SUMMARY:Varsity Boys Basketball Practice
DESCRIPTION:8:00am until 10:30am @ PPCA campus gym
URL:https://www.goppca.com/calendar/varsity-boys-basketball-practice-18/
CATEGORIES:Athletics Calendar
END:VEVENT
BEGIN:VEVENT
DTSTART;VALUE=DATE:20220718
DTEND;VALUE=DATE:20220719
DTSTAMP:20260423T183112
CREATED:20220519T183042Z
LAST-MODIFIED:20220519T183042Z
UID:3684-1658102400-1658188799@www.goppca.com
SUMMARY:JH Football Summer Workouts
DESCRIPTION:8am until 9:30am
URL:https://www.goppca.com/calendar/jh-football-summer-workouts-18/
CATEGORIES:Athletics Calendar
END:VEVENT
BEGIN:VEVENT
DTSTART;VALUE=DATE:20220718
DTEND;VALUE=DATE:20220719
DTSTAMP:20260423T183112
CREATED:20220519T190921Z
LAST-MODIFIED:20220519T190921Z
UID:3721-1658102400-1658188799@www.goppca.com
SUMMARY:HS Football Workouts
DESCRIPTION:6:30am until 8am
URL:https://www.goppca.com/calendar/hs-football-workouts-17/
CATEGORIES:Athletics Calendar
END:VEVENT
BEGIN:VEVENT
DTSTART;VALUE=DATE:20220719
DTEND;VALUE=DATE:20220720
DTSTAMP:20260423T183112
CREATED:20220519T150116Z
LAST-MODIFIED:20220519T161347Z
UID:3586-1658188800-1658275199@www.goppca.com
SUMMARY:JH Boys Basketball Practice
DESCRIPTION:9:30am until 12:00pm @ PPCA campus gym
URL:https://www.goppca.com/calendar/jh-boys-basketball-practice-12/
CATEGORIES:Athletics Calendar
END:VEVENT
BEGIN:VEVENT
DTSTART;VALUE=DATE:20220719
DTEND;VALUE=DATE:20220720
DTSTAMP:20260423T183112
CREATED:20220519T162238Z
LAST-MODIFIED:20220519T162238Z
UID:3616-1658188800-1658275199@www.goppca.com
SUMMARY:Varsity Boys Basketball Practice
DESCRIPTION:9:30am until 12:00pm @ PPCA campus gym
URL:https://www.goppca.com/calendar/varsity-boys-basketball-practice-19/
CATEGORIES:Athletics Calendar
END:VEVENT
BEGIN:VEVENT
DTSTART;VALUE=DATE:20220719
DTEND;VALUE=DATE:20220720
DTSTAMP:20260423T183112
CREATED:20220519T165414Z
LAST-MODIFIED:20220519T165414Z
UID:3636-1658188800-1658275199@www.goppca.com
SUMMARY:JH/Varsity Girls Basketball Practice @ Pearl Gym
DESCRIPTION:3pm until 5pm
URL:https://www.goppca.com/calendar/jh-varsity-girls-basketball-practice-pearl-gym-12/
CATEGORIES:Athletics Calendar
END:VEVENT
BEGIN:VEVENT
DTSTART;VALUE=DATE:20220719
DTEND;VALUE=DATE:20220720
DTSTAMP:20260423T183112
CREATED:20220519T171340Z
LAST-MODIFIED:20220519T171340Z
UID:3654-1658188800-1658275199@www.goppca.com
SUMMARY:Girls Soccer Practice @ Shepherd Field
DESCRIPTION:4:30pm until 6:00pm
URL:https://www.goppca.com/calendar/girls-soccer-practice-shepherd-field-14/
CATEGORIES:Athletics Calendar
END:VEVENT
BEGIN:VEVENT
DTSTART;VALUE=DATE:20220719
DTEND;VALUE=DATE:20220720
DTSTAMP:20260423T183112
CREATED:20220519T182950Z
LAST-MODIFIED:20220519T182950Z
UID:3683-1658188800-1658275199@www.goppca.com
SUMMARY:JH Football Summer Workouts
DESCRIPTION:8am until 9:30am
URL:https://www.goppca.com/calendar/jh-football-summer-workouts-17/
CATEGORIES:Athletics Calendar
END:VEVENT
BEGIN:VEVENT
DTSTART;VALUE=DATE:20220719
DTEND;VALUE=DATE:20220720
DTSTAMP:20260423T183112
CREATED:20220519T190959Z
LAST-MODIFIED:20220519T190959Z
UID:3722-1658188800-1658275199@www.goppca.com
SUMMARY:HS Football Workouts
DESCRIPTION:6:30am until 8am
URL:https://www.goppca.com/calendar/hs-football-workouts-18/
CATEGORIES:Athletics Calendar
END:VEVENT
END:VCALENDAR