BEGIN:VCALENDAR
VERSION:2.0
PRODID:-//Park Place Christian Academy - ECPv6.15.20//NONSGML v1.0//EN
CALSCALE:GREGORIAN
METHOD:PUBLISH
X-ORIGINAL-URL:https://www.goppca.com
X-WR-CALDESC:Events for Park Place Christian Academy
REFRESH-INTERVAL;VALUE=DURATION:PT1H
X-Robots-Tag:noindex
X-PUBLISHED-TTL:PT1H
BEGIN:VTIMEZONE
TZID:UTC
BEGIN:STANDARD
TZOFFSETFROM:+0000
TZOFFSETTO:+0000
TZNAME:UTC
DTSTART:20210101T000000
END:STANDARD
END:VTIMEZONE
BEGIN:VTIMEZONE
TZID:America/Chicago
BEGIN:DAYLIGHT
TZOFFSETFROM:-0600
TZOFFSETTO:-0500
TZNAME:CDT
DTSTART:20210314T080000
END:DAYLIGHT
BEGIN:STANDARD
TZOFFSETFROM:-0500
TZOFFSETTO:-0600
TZNAME:CST
DTSTART:20211107T070000
END:STANDARD
BEGIN:DAYLIGHT
TZOFFSETFROM:-0600
TZOFFSETTO:-0500
TZNAME:CDT
DTSTART:20220313T080000
END:DAYLIGHT
BEGIN:STANDARD
TZOFFSETFROM:-0500
TZOFFSETTO:-0600
TZNAME:CST
DTSTART:20221106T070000
END:STANDARD
BEGIN:DAYLIGHT
TZOFFSETFROM:-0600
TZOFFSETTO:-0500
TZNAME:CDT
DTSTART:20230312T080000
END:DAYLIGHT
BEGIN:STANDARD
TZOFFSETFROM:-0500
TZOFFSETTO:-0600
TZNAME:CST
DTSTART:20231105T070000
END:STANDARD
END:VTIMEZONE
BEGIN:VEVENT
DTSTART;VALUE=DATE:20221201
DTEND;VALUE=DATE:20221202
DTSTAMP:20260423T123934
CREATED:20220906T152502Z
LAST-MODIFIED:20220906T152502Z
UID:4040-1669852800-1669939199@www.goppca.com
SUMMARY:JV/Varsity Basketball Game @ Puckett
DESCRIPTION:g\,b\,G\,B – 4:00pm
URL:https://www.goppca.com/calendar/jv-varsity-basketball-game-puckett/
CATEGORIES:Athletics Calendar
END:VEVENT
BEGIN:VEVENT
DTSTART;VALUE=DATE:20221201
DTEND;VALUE=DATE:20221202
DTSTAMP:20260423T123934
CREATED:20221028T143515Z
LAST-MODIFIED:20221201T183204Z
UID:4221-1669852800-1669939199@www.goppca.com
SUMMARY:Pee Wee Basketball Game @ East Rankin
DESCRIPTION:5th grade girls – 4:30pm\n5th grade boys – 5:30pm\n6th grade girls – 6:30pm\n6th grade boys – 7:30pm
URL:https://www.goppca.com/calendar/pee-wee-basketball-game-east-rankin/
LOCATION:East Rankin Academy\, 400 MS-43\, Pelahatchie\, MS\, 39145
CATEGORIES:Athletics Calendar
END:VEVENT
BEGIN:VEVENT
DTSTART;VALUE=DATE:20221202
DTEND;VALUE=DATE:20221203
DTSTAMP:20260423T123934
CREATED:20220513T141150Z
LAST-MODIFIED:20220513T141151Z
UID:3544-1669939200-1670025599@www.goppca.com
SUMMARY:NO SCHOOL for STUDENTS: Teachers MAIS Convention
DESCRIPTION:There is NO SCHOOL for students. School resumes on Monday\, Dec. 5.
URL:https://www.goppca.com/calendar/no-school-for-students-teachers-mais-convention/
CATEGORIES:Athletics Calendar,PPCA School Calendar
END:VEVENT
BEGIN:VEVENT
DTSTART;VALUE=DATE:20221202
DTEND;VALUE=DATE:20221203
DTSTAMP:20260423T123934
CREATED:20221130T162530Z
LAST-MODIFIED:20221130T162530Z
UID:4286-1669939200-1670025599@www.goppca.com
SUMMARY:2nd Qualifier for Shooting Team
DESCRIPTION:McHenry Shooting Range – 11:00am
URL:https://www.goppca.com/calendar/2nd-qualifier-for-shooting-team/
CATEGORIES:Athletics Calendar
END:VEVENT
BEGIN:VEVENT
DTSTART;VALUE=DATE:20221205
DTEND;VALUE=DATE:20221206
DTSTAMP:20260423T123934
CREATED:20220906T152658Z
LAST-MODIFIED:20220906T152658Z
UID:4041-1670198400-1670284799@www.goppca.com
SUMMARY:JV/Varsity Basketball Game @ Leake
DESCRIPTION:g\,b\,G\,B – 4:00pm
URL:https://www.goppca.com/calendar/jv-varsity-basketball-game-leake/
CATEGORIES:Athletics Calendar
END:VEVENT
BEGIN:VEVENT
DTSTART;VALUE=DATE:20221206
DTEND;VALUE=DATE:20221207
DTSTAMP:20260423T123934
CREATED:20220915T134915Z
LAST-MODIFIED:20220915T135018Z
UID:4088-1670284800-1670371199@www.goppca.com
SUMMARY:Boys Soccer Game @ Madison St. Joe
DESCRIPTION:5:30pm
URL:https://www.goppca.com/calendar/boys-soccer-game-madison-st-joe/
CATEGORIES:Athletics Calendar
END:VEVENT
BEGIN:VEVENT
DTSTART;VALUE=DATE:20221206
DTEND;VALUE=DATE:20221207
DTSTAMP:20260423T123934
CREATED:20221028T143908Z
LAST-MODIFIED:20221028T143908Z
UID:4222-1670284800-1670371199@www.goppca.com
SUMMARY:Pee Wee Basketball Game vs Christ Covenant
DESCRIPTION:Location – Park Place Campus Gym (5701 Hwy 80 East\, Pearl\, MS 39208) \n5th grade girls – 4:00pm\n5th grade boys – 5:00pm\n6th grade girls – 6:00pm\n6th grade boys – 7:00pm
URL:https://www.goppca.com/calendar/pee-wee-basketball-game-vs-christ-covenant-2/
LOCATION:Park Place Christian Academy\, 201 Park Place Drive\, Pearl\, MS\, 39208\, United States
CATEGORIES:Athletics Calendar
END:VEVENT
BEGIN:VEVENT
DTSTART;VALUE=DATE:20221208
DTEND;VALUE=DATE:20221209
DTSTAMP:20260423T123934
CREATED:20220906T152814Z
LAST-MODIFIED:20220906T152814Z
UID:4042-1670457600-1670543999@www.goppca.com
SUMMARY:Varsity Basketball Game @ MSD
DESCRIPTION:G\,B – 5:00pm
URL:https://www.goppca.com/calendar/varsity-basketball-game-msd/
CATEGORIES:Athletics Calendar
END:VEVENT
BEGIN:VEVENT
DTSTART;VALUE=DATE:20221208
DTEND;VALUE=DATE:20221209
DTSTAMP:20260423T123934
CREATED:20221028T144112Z
LAST-MODIFIED:20221207T171511Z
UID:4223-1670457600-1670543999@www.goppca.com
SUMMARY:Pee Wee Basketball Game @ Central Hinds
DESCRIPTION:5th grade girls – 5:30pm5th grade boys – 6:30pm6th grade girls – 7:30pm6th grade boys – 8:30pm
URL:https://www.goppca.com/calendar/pee-wee-basketball-game-central-hinds/
LOCATION:Central Hinds\, 2894 Raymond/Bolton Rd\, Raymond\, MS\, 39154
CATEGORIES:Athletics Calendar
END:VEVENT
BEGIN:VEVENT
DTSTART;VALUE=DATE:20221209
DTEND;VALUE=DATE:20221210
DTSTAMP:20260423T123934
CREATED:20220906T153122Z
LAST-MODIFIED:20220912T163025Z
UID:4043-1670544000-1670630399@www.goppca.com
SUMMARY:JV/Varsity Basketball Game vs ERA
DESCRIPTION:7G\,g\,b\,G\,B – 3:00pm
URL:https://www.goppca.com/calendar/jv-varsity-basketball-game-vs-era/
CATEGORIES:Athletics Calendar
END:VEVENT
BEGIN:VEVENT
DTSTART;TZID=UTC:20221213T080000
DTEND;TZID=UTC:20221216T113000
DTSTAMP:20260423T123934
CREATED:20220513T141740Z
LAST-MODIFIED:20220513T141741Z
UID:3545-1670918400-1671190200@www.goppca.com
SUMMARY:HALF DAYS: First Semester Exams
DESCRIPTION:Dec. 13-16 are HALF DAYS. First Semester Exams begin on Tuesday\, Dec. 13 and conclude on Friday\, Dec. 16. Christmas Break begins at the conclusion of Exam Days and continues for students through Monday\, Jan. 2 (when teachers have a Professional Development Day). School resumes for students on Tuesday\, Jan. 3 at 7:55 am.
URL:https://www.goppca.com/calendar/half-days-first-semester-exams-2/
CATEGORIES:Athletics Calendar,PPCA School Calendar
END:VEVENT
BEGIN:VEVENT
DTSTART;TZID=America/Chicago:20221213T120000
DTEND;TZID=America/Chicago:20221213T133000
DTSTAMP:20260423T123934
CREATED:20221128T131042Z
LAST-MODIFIED:20221128T131042Z
UID:4282-1670932800-1670938200@www.goppca.com
SUMMARY:Faculty-Staff Christmas Luncheon
DESCRIPTION:All PPCA Faculty and Staff will gather for the annual Christmas Luncheon in Boatner Hall at noon. For Child Care\, contact the Crusader Care office. Please let Mr. Cook know if you’re unable to attend.
URL:https://www.goppca.com/calendar/faculty-staff-christmas-luncheon/
CATEGORIES:Athletics Calendar,PPCA School Calendar
END:VEVENT
BEGIN:VEVENT
DTSTART;VALUE=DATE:20221215
DTEND;VALUE=DATE:20221216
DTSTAMP:20260423T123934
CREATED:20220906T153325Z
LAST-MODIFIED:20220912T163101Z
UID:4044-1671062400-1671148799@www.goppca.com
SUMMARY:JV/Varsity Basketball Game vs Winston
DESCRIPTION:7G\,g\,b\,G\,B – 3:00pm
URL:https://www.goppca.com/calendar/jv-varsity-basketball-game-vs-winston/
CATEGORIES:Athletics Calendar
END:VEVENT
BEGIN:VEVENT
DTSTART;VALUE=DATE:20221215
DTEND;VALUE=DATE:20221216
DTSTAMP:20260423T123934
CREATED:20221028T144616Z
LAST-MODIFIED:20221028T144616Z
UID:4224-1671062400-1671148799@www.goppca.com
SUMMARY:Pee Wee Basketball Game vs East Rankin
DESCRIPTION:Location – Park Place Campus Gym (5701 Hwy 80 East\, Pearl\, MS 39208) \n5th grade girls – 4:00pm\n5th grade boys – 5:00pm\n6th grade girls – 6:00pm\n6th grade boys – 7:00pm
URL:https://www.goppca.com/calendar/pee-wee-basketball-game-vs-east-rankin/
LOCATION:Park Place Christian Academy\, 201 Park Place Drive\, Pearl\, MS\, 39208\, United States
CATEGORIES:Athletics Calendar
END:VEVENT
BEGIN:VEVENT
DTSTART;VALUE=DATE:20221216
DTEND;VALUE=DATE:20221217
DTSTAMP:20260423T123934
CREATED:20220915T135208Z
LAST-MODIFIED:20221102T140344Z
UID:4090-1671148800-1671235199@www.goppca.com
SUMMARY:Boys Soccer Game @ East Rankin Academy
DESCRIPTION:3:30pm
URL:https://www.goppca.com/calendar/boys-soccer-game-east-rankin-academy/
LOCATION:East Rankin Academy\, 400 MS-43\, Pelahatchie\, MS\, 39145
CATEGORIES:Athletics Calendar
END:VEVENT
BEGIN:VEVENT
DTSTART;TZID=UTC:20221216T180000
DTEND;TZID=UTC:20221216T203000
DTSTAMP:20260423T123934
CREATED:20221025T173829Z
LAST-MODIFIED:20221025T173829Z
UID:4204-1671213600-1671222600@www.goppca.com
SUMMARY:Live Nativity
DESCRIPTION:PPCA invites the public to the first-ever Drive Through Live Nativity\, held on two nights\, Friday\, Dec. 16\, and Sat. Dec. 17. Suggested donation is $5 per vehicle. Come anytime between 6 pm and 8:30 pm to see The True Story!
URL:https://www.goppca.com/calendar/live-nativity/
CATEGORIES:Athletics Calendar,PPCA School Calendar
END:VEVENT
BEGIN:VEVENT
DTSTART;VALUE=DATE:20221217
DTEND;VALUE=DATE:20230103
DTSTAMP:20260423T123934
CREATED:20220513T142107Z
LAST-MODIFIED:20220513T142107Z
UID:3546-1671235200-1672703999@www.goppca.com
SUMMARY:NO SCHOOL: Christmas Break
DESCRIPTION:Christmas Break begins at the conclusion of Exam Days on Friday\, Dec. 16 and continues for students through Monday\, Jan. 2 (when teachers have a Professional Development Day). \nSchool resumes for students on Tuesday\, Jan. 3 at 7:55 am. Teachers return Monday\, Jan. 2. \nMay Almighty God who sent us the gift of The LORD Jesus Christ bless each of you as we celebrate His birth this Christmas season. \n 
URL:https://www.goppca.com/calendar/no-school-christmas-break/
CATEGORIES:Athletics Calendar,PPCA School Calendar
END:VEVENT
BEGIN:VEVENT
DTSTART;TZID=UTC:20221217T180000
DTEND;TZID=UTC:20221217T203000
DTSTAMP:20260423T123934
CREATED:20221025T173923Z
LAST-MODIFIED:20221025T173923Z
UID:4205-1671300000-1671309000@www.goppca.com
SUMMARY:Live Nativity
DESCRIPTION:PPCA invites the public to the first-ever Drive Through Live Nativity\, held on two nights\, Friday\, Dec. 16\, and Sat. Dec. 17. Suggested donation is $5 per vehicle. Come anytime between 6 pm and 8:30 pm to see The True Story!
URL:https://www.goppca.com/calendar/live-nativity-2/
CATEGORIES:Athletics Calendar,PPCA School Calendar
END:VEVENT
BEGIN:VEVENT
DTSTART;VALUE=DATE:20221220
DTEND;VALUE=DATE:20221221
DTSTAMP:20260423T123934
CREATED:20220915T135509Z
LAST-MODIFIED:20220915T135509Z
UID:4092-1671494400-1671580799@www.goppca.com
SUMMARY:Boys Soccer Game @ Forest High School
DESCRIPTION:5:30pm
URL:https://www.goppca.com/calendar/boys-soccer-game-forest-high-school/
CATEGORIES:Athletics Calendar
END:VEVENT
BEGIN:VEVENT
DTSTART;VALUE=DATE:20221228
DTEND;VALUE=DATE:20221229
DTSTAMP:20260423T123934
CREATED:20220906T153425Z
LAST-MODIFIED:20221205T173558Z
UID:4045-1672185600-1672271999@www.goppca.com
SUMMARY:Varsity Basketball Christmas Tourn @ Canton
DESCRIPTION:Varsity Girls – 10:00am vs Tri-Co (We are the HOME team-wear white jersey)\nVarsity Boys – 11:15am vs Tri-Co (We are the HOME team-wear white jersey)
URL:https://www.goppca.com/calendar/varsity-basketball-christmas-tourn-canton/
LOCATION:Canton Academy\, 365 Van Buren St\, Canton\, MS\, 39046
CATEGORIES:Athletics Calendar
END:VEVENT
BEGIN:VEVENT
DTSTART;VALUE=DATE:20221229
DTEND;VALUE=DATE:20221230
DTSTAMP:20260423T123934
CREATED:20221205T173814Z
LAST-MODIFIED:20221205T173814Z
UID:4307-1672272000-1672358399@www.goppca.com
SUMMARY:Varsity Basketball Christmas Tournament @ Canton
DESCRIPTION:Varsity Girls – 3:00pm vs Riverfield (We are the HOME team-wear white jersey)\nVarsity Boys – 4:15pm vs Riverfield (We are the HOME team-wear white jersey)
URL:https://www.goppca.com/calendar/varsity-basketball-christmas-tournament-canton/
LOCATION:Canton Academy\, 365 Van Buren St\, Canton\, MS\, 39046
CATEGORIES:Athletics Calendar
END:VEVENT
END:VCALENDAR