BEGIN:VCALENDAR
VERSION:2.0
PRODID:-//Park Place Christian Academy - ECPv6.15.20//NONSGML v1.0//EN
CALSCALE:GREGORIAN
METHOD:PUBLISH
X-ORIGINAL-URL:https://www.goppca.com
X-WR-CALDESC:Events for Park Place Christian Academy
REFRESH-INTERVAL;VALUE=DURATION:PT1H
X-Robots-Tag:noindex
X-PUBLISHED-TTL:PT1H
BEGIN:VTIMEZONE
TZID:America/Chicago
BEGIN:DAYLIGHT
TZOFFSETFROM:-0600
TZOFFSETTO:-0500
TZNAME:CDT
DTSTART:20230312T080000
END:DAYLIGHT
BEGIN:STANDARD
TZOFFSETFROM:-0500
TZOFFSETTO:-0600
TZNAME:CST
DTSTART:20231105T070000
END:STANDARD
BEGIN:DAYLIGHT
TZOFFSETFROM:-0600
TZOFFSETTO:-0500
TZNAME:CDT
DTSTART:20240310T080000
END:DAYLIGHT
BEGIN:STANDARD
TZOFFSETFROM:-0500
TZOFFSETTO:-0600
TZNAME:CST
DTSTART:20241103T070000
END:STANDARD
BEGIN:DAYLIGHT
TZOFFSETFROM:-0600
TZOFFSETTO:-0500
TZNAME:CDT
DTSTART:20250309T080000
END:DAYLIGHT
BEGIN:STANDARD
TZOFFSETFROM:-0500
TZOFFSETTO:-0600
TZNAME:CST
DTSTART:20251102T070000
END:STANDARD
END:VTIMEZONE
BEGIN:VEVENT
DTSTART;VALUE=DATE:20240202
DTEND;VALUE=DATE:20240203
DTSTAMP:20260422T162208
CREATED:20240115T204646Z
LAST-MODIFIED:20240115T204646Z
UID:5431-1706832000-1706918399@www.goppca.com
SUMMARY:Boys Soccer Game vs Brookhaven
DESCRIPTION:3:00pm
URL:https://www.goppca.com/calendar/boys-soccer-game-vs-brookhaven/
LOCATION:Park Place Christian Academy\, 201 Park Place Drive\, Pearl\, MS\, 39208\, United States
CATEGORIES:Athletics Calendar
END:VEVENT
BEGIN:VEVENT
DTSTART;VALUE=DATE:20240205
DTEND;VALUE=DATE:20240211
DTSTAMP:20260422T162208
CREATED:20230518T153415Z
LAST-MODIFIED:20230518T153738Z
UID:4862-1707091200-1707609599@www.goppca.com
SUMMARY:North State Varsity Basketball Tournament
DESCRIPTION:Location – TBD \nVarsity Girls – TBD\nVarsity Boys – TBD
URL:https://www.goppca.com/calendar/north-state-varsity-basketball-tournament/
CATEGORIES:Athletics Calendar
END:VEVENT
BEGIN:VEVENT
DTSTART;VALUE=DATE:20240206
DTEND;VALUE=DATE:20240207
DTSTAMP:20260422T162208
CREATED:20240209T162902Z
LAST-MODIFIED:20240209T162902Z
UID:5505-1707177600-1707263999@www.goppca.com
SUMMARY:Tennis Match vs Discovery Christian
DESCRIPTION:3:00 – The Club @ Crossgates
URL:https://www.goppca.com/calendar/tennis-match-vs-discovery-christian/
LOCATION:The Club at Crossgates\, 100 Professional Drive\, Brandon\, MS\, 39042
CATEGORIES:Athletics Calendar
END:VEVENT
BEGIN:VEVENT
DTSTART;VALUE=DATE:20240208
DTEND;VALUE=DATE:20240209
DTSTAMP:20260422T162208
CREATED:20240126T161944Z
LAST-MODIFIED:20240126T161944Z
UID:5479-1707350400-1707436799@www.goppca.com
SUMMARY:Archery Meet @ Germantown
DESCRIPTION:4:30pm – 6th-12th grade only
URL:https://www.goppca.com/calendar/archery-meet-germantown/
CATEGORIES:Athletics Calendar
END:VEVENT
BEGIN:VEVENT
DTSTART;VALUE=DATE:20240209
DTEND;VALUE=DATE:20240210
DTSTAMP:20260422T162208
CREATED:20231218T174815Z
LAST-MODIFIED:20240209T152847Z
UID:5384-1707436800-1707523199@www.goppca.com
SUMMARY:JV/Var(DH) Baseball Jamboree @ Pelahatchie HS
DESCRIPTION:JV/Var – 5:00 & 7:00
URL:https://www.goppca.com/calendar/jv-vardh-baseball-jamboree-freedom-ridge/
CATEGORIES:Athletics Calendar
END:VEVENT
BEGIN:VEVENT
DTSTART;VALUE=DATE:20240212
DTEND;VALUE=DATE:20240218
DTSTAMP:20260422T162208
CREATED:20230518T153604Z
LAST-MODIFIED:20240209T165331Z
UID:4863-1707696000-1708214399@www.goppca.com
SUMMARY:State Varsity Basketball Tournament
DESCRIPTION:Location – TBD \nVarsity Girls – TBD\nVarsity Boys – TBD
URL:https://www.goppca.com/calendar/state-varsity-basketball-tournament/
CATEGORIES:Athletics Calendar
END:VEVENT
BEGIN:VEVENT
DTSTART;VALUE=DATE:20240213
DTEND;VALUE=DATE:20240214
DTSTAMP:20260422T162208
CREATED:20231206T155938Z
LAST-MODIFIED:20240212T163946Z
UID:5328-1707782400-1707868799@www.goppca.com
SUMMARY:JV/Varsity Baseball Game @ Central Hinds
DESCRIPTION:JV – 2:00Var – 4:00
URL:https://www.goppca.com/calendar/jv-varsity-baseball-game-central-hinds/
LOCATION:Central Hinds\, 2894 Raymond/Bolton Rd\, Raymond\, MS\, 39154
CATEGORIES:Athletics Calendar
END:VEVENT
BEGIN:VEVENT
DTSTART;VALUE=DATE:20240213
DTEND;VALUE=DATE:20240214
DTSTAMP:20260422T162208
CREATED:20240126T162033Z
LAST-MODIFIED:20240126T162052Z
UID:5480-1707782400-1707868799@www.goppca.com
SUMMARY:Archery Meet vs Central Hinds
DESCRIPTION:4:00pm – 6th-12th grade only
URL:https://www.goppca.com/calendar/archery-meet-vs-central-hinds/
LOCATION:Park Place Christian Academy\, 201 Park Place Drive\, Pearl\, MS\, 39208\, United States
CATEGORIES:Athletics Calendar
END:VEVENT
BEGIN:VEVENT
DTSTART;VALUE=DATE:20240215
DTEND;VALUE=DATE:20240216
DTSTAMP:20260422T162208
CREATED:20231114T173330Z
LAST-MODIFIED:20231114T173626Z
UID:5296-1707955200-1708041599@www.goppca.com
SUMMARY:Var/JV Baseball Game vs Canton Academy
DESCRIPTION:Varsity – 2:00pm\nJV – 4:00pm
URL:https://www.goppca.com/calendar/var-jv-baseball-game-vs-canton-academy/
LOCATION:Park Place Christian Academy\, 201 Park Place Drive\, Pearl\, MS\, 39208\, United States
CATEGORIES:Athletics Calendar
END:VEVENT
BEGIN:VEVENT
DTSTART;VALUE=DATE:20240215
DTEND;VALUE=DATE:20240216
DTSTAMP:20260422T162208
CREATED:20240126T162147Z
LAST-MODIFIED:20240126T162205Z
UID:5481-1707955200-1708041599@www.goppca.com
SUMMARY:Archery Meet vs St. Augustine
DESCRIPTION:4:00pm – 4th-5th grade only
URL:https://www.goppca.com/calendar/archery-meet-vs-st-augustine/
LOCATION:Park Place Christian Academy\, 201 Park Place Drive\, Pearl\, MS\, 39208\, United States
CATEGORIES:Athletics Calendar
END:VEVENT
BEGIN:VEVENT
DTSTART;VALUE=DATE:20240215
DTEND;VALUE=DATE:20240216
DTSTAMP:20260422T162208
CREATED:20240209T183612Z
LAST-MODIFIED:20240213T212605Z
UID:5518-1707955200-1708041599@www.goppca.com
SUMMARY:Track Meet @ Pearl HS
DESCRIPTION:2:00pm
URL:https://www.goppca.com/calendar/track-meet-pearl-hs/
CATEGORIES:Athletics Calendar
END:VEVENT
BEGIN:VEVENT
DTSTART;VALUE=DATE:20240216
DTEND;VALUE=DATE:20240217
DTSTAMP:20260422T162208
CREATED:20240209T163037Z
LAST-MODIFIED:20240216T161032Z
UID:5506-1708041600-1708127999@www.goppca.com
SUMMARY:Tennis Match vs Puckett - CANCELLED
DESCRIPTION:3:00pm – The Club @ Crossgates  CANCELLED
URL:https://www.goppca.com/calendar/tennis-match-vs-puckett/
LOCATION:The Club at Crossgates\, 100 Professional Drive\, Brandon\, MS\, 39042
CATEGORIES:Athletics Calendar
END:VEVENT
BEGIN:VEVENT
DTSTART;VALUE=DATE:20240219
DTEND;VALUE=DATE:20240220
DTSTAMP:20260422T162208
CREATED:20230619T175033Z
LAST-MODIFIED:20230619T175034Z
UID:4973-1708300800-1708387199@www.goppca.com
SUMMARY:NO SCHOOL: President's Day
DESCRIPTION:There is no school on Monday\, Feb. 19. School will resume on Tuesday\, Feb. 20.
URL:https://www.goppca.com/calendar/no-school-presidents-day-2/
CATEGORIES:Athletics Calendar,PPCA School Calendar
END:VEVENT
BEGIN:VEVENT
DTSTART;VALUE=DATE:20240220
DTEND;VALUE=DATE:20240221
DTSTAMP:20260422T162208
CREATED:20231114T173722Z
LAST-MODIFIED:20240220T151359Z
UID:5297-1708387200-1708473599@www.goppca.com
SUMMARY:Var/JV Baseball Game vs Central Hinds - CANCELLED
DESCRIPTION:Varsity – 2:00pm  – CANCELLED\nJV – 4:00pm  – CANCELLED
URL:https://www.goppca.com/calendar/var-jv-baseball-game-vs-central-hinds/
LOCATION:Park Place Christian Academy\, 201 Park Place Drive\, Pearl\, MS\, 39208\, United States
CATEGORIES:Athletics Calendar
END:VEVENT
BEGIN:VEVENT
DTSTART;VALUE=DATE:20240220
DTEND;VALUE=DATE:20240221
DTSTAMP:20260422T162208
CREATED:20240126T162307Z
LAST-MODIFIED:20240219T013351Z
UID:5482-1708387200-1708473599@www.goppca.com
SUMMARY:Archery Meet @ MRA - CANCELLED
DESCRIPTION:4:30pm – 6th-12th grade only – CANCELLED
URL:https://www.goppca.com/calendar/archery-meet-mra/
LOCATION:Madison Ridgeland Academy\, 7601 Old Canton Road\, Madison\, MS\, 39110
CATEGORIES:Athletics Calendar
END:VEVENT
BEGIN:VEVENT
DTSTART;VALUE=DATE:20240220
DTEND;VALUE=DATE:20240221
DTSTAMP:20260422T162208
CREATED:20240209T163759Z
LAST-MODIFIED:20240209T163759Z
UID:5507-1708387200-1708473599@www.goppca.com
SUMMARY:Tennis Match vs Victors
DESCRIPTION:3:00pm – The Club @ Crossgates (Victors will be hosting)
URL:https://www.goppca.com/calendar/tennis-match-vs-victors-2/
LOCATION:The Club at Crossgates\, 100 Professional Drive\, Brandon\, MS\, 39042
CATEGORIES:Athletics Calendar
END:VEVENT
BEGIN:VEVENT
DTSTART;VALUE=DATE:20240222
DTEND;VALUE=DATE:20240223
DTSTAMP:20260422T162208
CREATED:20231114T145828Z
LAST-MODIFIED:20240220T151521Z
UID:5286-1708560000-1708646399@www.goppca.com
SUMMARY:JH Baseball Game vs Central Hinds
DESCRIPTION:4:00
URL:https://www.goppca.com/calendar/jh-baseball-game-vs-central-hinds-3/
LOCATION:Park Place Christian Academy\, 201 Park Place Drive\, Pearl\, MS\, 39208\, United States
CATEGORIES:Athletics Calendar
END:VEVENT
BEGIN:VEVENT
DTSTART;VALUE=DATE:20240222
DTEND;VALUE=DATE:20240223
DTSTAMP:20260422T162208
CREATED:20231114T174816Z
LAST-MODIFIED:20240220T151648Z
UID:5298-1708560000-1708646399@www.goppca.com
SUMMARY:Varsity Baseball Game vs Central Hinds
DESCRIPTION:Varsity Only – 1:00pm
URL:https://www.goppca.com/calendar/varsity-baseball-game-hillcrest-christian/
LOCATION:Park Place Christian Academy\, 201 Park Place Drive\, Pearl\, MS\, 39208\, United States
CATEGORIES:Athletics Calendar
END:VEVENT
BEGIN:VEVENT
DTSTART;VALUE=DATE:20240222
DTEND;VALUE=DATE:20240223
DTSTAMP:20260422T162208
CREATED:20240126T162407Z
LAST-MODIFIED:20240126T162407Z
UID:5483-1708560000-1708646399@www.goppca.com
SUMMARY:Archery Meet vs Mt. Salus
DESCRIPTION:4:00pm – ALL grades
URL:https://www.goppca.com/calendar/archery-meet-vs-mt-salus/
LOCATION:Park Place Christian Academy\, 201 Park Place Drive\, Pearl\, MS\, 39208\, United States
CATEGORIES:Athletics Calendar
END:VEVENT
BEGIN:VEVENT
DTSTART;VALUE=DATE:20240222
DTEND;VALUE=DATE:20240223
DTSTAMP:20260422T162208
CREATED:20240209T183743Z
LAST-MODIFIED:20240209T183743Z
UID:5519-1708560000-1708646399@www.goppca.com
SUMMARY:Track Meet @ Clinton HS
DESCRIPTION:Time – TBD
URL:https://www.goppca.com/calendar/track-meet-clinton-hs/
CATEGORIES:Athletics Calendar
END:VEVENT
BEGIN:VEVENT
DTSTART;VALUE=DATE:20240223
DTEND;VALUE=DATE:20240224
DTSTAMP:20260422T162208
CREATED:20231114T175004Z
LAST-MODIFIED:20231114T180937Z
UID:5299-1708646400-1708732799@www.goppca.com
SUMMARY:JV/Varsity Baseball Game @ McLaurin HS
DESCRIPTION:JV – 3:00pm\nVarsity – 5:00pm
URL:https://www.goppca.com/calendar/jv-varsity-baseball-game-mclaurin-hs/
LOCATION:McLaurin High School\, 130 Tiger Dr\, Florence\, Mississippi\, 39073
CATEGORIES:Athletics Calendar
END:VEVENT
BEGIN:VEVENT
DTSTART;VALUE=DATE:20240224
DTEND;VALUE=DATE:20240225
DTSTAMP:20260422T162208
CREATED:20240209T163915Z
LAST-MODIFIED:20240209T163915Z
UID:5508-1708732800-1708819199@www.goppca.com
SUMMARY:Tennis Match vs Richland
DESCRIPTION:9:00am – The Club @ Crossgates
URL:https://www.goppca.com/calendar/tennis-match-vs-richland/
LOCATION:The Club at Crossgates\, 100 Professional Drive\, Brandon\, MS\, 39042
CATEGORIES:Athletics Calendar
END:VEVENT
BEGIN:VEVENT
DTSTART;VALUE=DATE:20240224
DTEND;VALUE=DATE:20240225
DTSTAMP:20260422T162208
CREATED:20240222T185932Z
LAST-MODIFIED:20240222T185959Z
UID:5546-1708732800-1708819199@www.goppca.com
SUMMARY:Winter Guard Performance @ Pearl HS
DESCRIPTION:4:30pm – Please arrive at least 15mins early.  The cost of Admission is $10.
URL:https://www.goppca.com/calendar/winter-guard-performance-pearl-hs/
CATEGORIES:Athletics Calendar
END:VEVENT
BEGIN:VEVENT
DTSTART;VALUE=DATE:20240226
DTEND;VALUE=DATE:20240227
DTSTAMP:20260422T162208
CREATED:20231114T150626Z
LAST-MODIFIED:20240222T184443Z
UID:5287-1708905600-1708991999@www.goppca.com
SUMMARY:JH Baseball Game vs Mendenhall JH
DESCRIPTION:2:00pm & 4:00pm
URL:https://www.goppca.com/calendar/jh-baseball-game-vs-st-aloysius/
LOCATION:Park Place Christian Academy\, 201 Park Place Drive\, Pearl\, MS\, 39208\, United States
CATEGORIES:Athletics Calendar
END:VEVENT
BEGIN:VEVENT
DTSTART;VALUE=DATE:20240226
DTEND;VALUE=DATE:20240227
DTSTAMP:20260422T162208
CREATED:20240209T164043Z
LAST-MODIFIED:20240209T164043Z
UID:5509-1708905600-1708991999@www.goppca.com
SUMMARY:Tennis Match vs Central Hinds
DESCRIPTION:3:00pm – The Club @ Crossgates
URL:https://www.goppca.com/calendar/tennis-match-vs-central-hinds/
LOCATION:The Club at Crossgates\, 100 Professional Drive\, Brandon\, MS\, 39042
CATEGORIES:Athletics Calendar
END:VEVENT
BEGIN:VEVENT
DTSTART;VALUE=DATE:20240227
DTEND;VALUE=DATE:20240228
DTSTAMP:20260422T162208
CREATED:20231114T181335Z
LAST-MODIFIED:20231114T181335Z
UID:5301-1708992000-1709078399@www.goppca.com
SUMMARY:Var/JV Baseball Game vs Clinton Christian
DESCRIPTION:Varsity – 2:00pm\nJV – 4:00pm
URL:https://www.goppca.com/calendar/var-jv-baseball-game-vs-clinton-christian/
LOCATION:Park Place Christian Academy\, 201 Park Place Drive\, Pearl\, MS\, 39208\, United States
CATEGORIES:Athletics Calendar
END:VEVENT
BEGIN:VEVENT
DTSTART;VALUE=DATE:20240227
DTEND;VALUE=DATE:20240228
DTSTAMP:20260422T162208
CREATED:20240126T162554Z
LAST-MODIFIED:20240221T174527Z
UID:5484-1708992000-1709078399@www.goppca.com
SUMMARY:Archery Meet @ MRA
DESCRIPTION:4:45pm – 6th-12th grade only
URL:https://www.goppca.com/calendar/archery-meet-vs-mra/
LOCATION:Madison Ridgeland Academy\, 7601 Old Canton Road\, Madison\, MS\, 39110
CATEGORIES:Athletics Calendar
END:VEVENT
BEGIN:VEVENT
DTSTART;VALUE=DATE:20240227
DTEND;VALUE=DATE:20240228
DTSTAMP:20260422T162208
CREATED:20240209T154653Z
LAST-MODIFIED:20240209T154718Z
UID:5503-1708992000-1709078399@www.goppca.com
SUMMARY:Sports Pictures by Bruckners
DESCRIPTION:Winter Guard\, Archery\, Track\, JH Baseball & Golf
URL:https://www.goppca.com/calendar/sports-pictures-by-bruckners-2/
LOCATION:Park Place Christian Academy\, 201 Park Place Drive\, Pearl\, MS\, 39208\, United States
CATEGORIES:Athletics Calendar
END:VEVENT
BEGIN:VEVENT
DTSTART;VALUE=DATE:20240228
DTEND;VALUE=DATE:20240229
DTSTAMP:20260422T162208
CREATED:20240222T184534Z
LAST-MODIFIED:20240222T184534Z
UID:5545-1709078400-1709164799@www.goppca.com
SUMMARY:JH Baseball Game vs St. Aloysius
DESCRIPTION:1:30pm & 3:15pm
URL:https://www.goppca.com/calendar/jh-baseball-game-vs-st-aloysius-2/
LOCATION:Park Place Christian Academy\, 201 Park Place Drive\, Pearl\, MS\, 39208\, United States
CATEGORIES:Athletics Calendar
END:VEVENT
BEGIN:VEVENT
DTSTART;VALUE=DATE:20240229
DTEND;VALUE=DATE:20240301
DTSTAMP:20260422T162208
CREATED:20231206T162807Z
LAST-MODIFIED:20231212T151454Z
UID:5335-1709164800-1709251199@www.goppca.com
SUMMARY:Var/JV Baseball Game vs Discovery Christian
DESCRIPTION:Varsity – 2:00pm\nJV – 4:00pm
URL:https://www.goppca.com/calendar/varsity-jv-baseball-game-vs-discovery-christian-2/
LOCATION:Park Place Christian Academy\, 201 Park Place Drive\, Pearl\, MS\, 39208\, United States
CATEGORIES:Athletics Calendar
END:VEVENT
END:VCALENDAR