BEGIN:VCALENDAR
VERSION:2.0
PRODID:-//Park Place Christian Academy - ECPv6.15.20//NONSGML v1.0//EN
CALSCALE:GREGORIAN
METHOD:PUBLISH
X-ORIGINAL-URL:https://www.goppca.com
X-WR-CALDESC:Events for Park Place Christian Academy
REFRESH-INTERVAL;VALUE=DURATION:PT1H
X-Robots-Tag:noindex
X-PUBLISHED-TTL:PT1H
BEGIN:VTIMEZONE
TZID:America/Chicago
BEGIN:DAYLIGHT
TZOFFSETFROM:-0600
TZOFFSETTO:-0500
TZNAME:CDT
DTSTART:20230312T080000
END:DAYLIGHT
BEGIN:STANDARD
TZOFFSETFROM:-0500
TZOFFSETTO:-0600
TZNAME:CST
DTSTART:20231105T070000
END:STANDARD
BEGIN:DAYLIGHT
TZOFFSETFROM:-0600
TZOFFSETTO:-0500
TZNAME:CDT
DTSTART:20240310T080000
END:DAYLIGHT
BEGIN:STANDARD
TZOFFSETFROM:-0500
TZOFFSETTO:-0600
TZNAME:CST
DTSTART:20241103T070000
END:STANDARD
BEGIN:DAYLIGHT
TZOFFSETFROM:-0600
TZOFFSETTO:-0500
TZNAME:CDT
DTSTART:20250309T080000
END:DAYLIGHT
BEGIN:STANDARD
TZOFFSETFROM:-0500
TZOFFSETTO:-0600
TZNAME:CST
DTSTART:20251102T070000
END:STANDARD
END:VTIMEZONE
BEGIN:VEVENT
DTSTART;VALUE=DATE:20240301
DTEND;VALUE=DATE:20240302
DTSTAMP:20260422T150129
CREATED:20231206T163414Z
LAST-MODIFIED:20240301T175029Z
UID:5336-1709251200-1709337599@www.goppca.com
SUMMARY:Var/JV Baseball Game vs Newton Academy - CANCELLED
DESCRIPTION:Varsity – 2:00pm – CANCELLEDJV – 4:00pm  – CANCELLED
URL:https://www.goppca.com/calendar/varsity-jv-baseball-game-vs-newton-academy/
LOCATION:Park Place Christian Academy\, 201 Park Place Drive\, Pearl\, MS\, 39208\, United States
CATEGORIES:Athletics Calendar
END:VEVENT
BEGIN:VEVENT
DTSTART;VALUE=DATE:20240302
DTEND;VALUE=DATE:20240303
DTSTAMP:20260422T150129
CREATED:20240209T183823Z
LAST-MODIFIED:20240301T175554Z
UID:5520-1709337600-1709423999@www.goppca.com
SUMMARY:Track Meet @ St. Andrews HS
DESCRIPTION:Time – TBA
URL:https://www.goppca.com/calendar/track-meet-st-andrews-hs/
LOCATION:St. Andrews\, 370 Old Agency Rd\, Ridgeland\, Mississippi\, 39157
CATEGORIES:Athletics Calendar
END:VEVENT
BEGIN:VEVENT
DTSTART;VALUE=DATE:20240302
DTEND;VALUE=DATE:20240303
DTSTAMP:20260422T150129
CREATED:20240228T181453Z
LAST-MODIFIED:20240228T181453Z
UID:5548-1709337600-1709423999@www.goppca.com
SUMMARY:Winter Guard Competition @ Southaven HS
DESCRIPTION:3:03pm – Please arrive 10-15 mins early – Admission is $10.
URL:https://www.goppca.com/calendar/winter-guard-competition-southaven-hs/
CATEGORIES:Athletics Calendar
END:VEVENT
BEGIN:VEVENT
DTSTART;TZID=America/Chicago:20240304T080000
DTEND;TZID=America/Chicago:20240304T170000
DTSTAMP:20260422T150129
CREATED:20231206T163525Z
LAST-MODIFIED:20231206T163525Z
UID:5337-1709539200-1709571600@www.goppca.com
SUMMARY:Varsity/JV Baseball Game @ Clinton Christian
DESCRIPTION:Varsity – 2:00pm\nJV – 4:00pm
URL:https://www.goppca.com/calendar/varsity-jv-baseball-game-clinton-christian/
LOCATION:Clinton Christian\, 101 W. Northside Dr.\, Clinton\, Mississippi\, 39056
CATEGORIES:Athletics Calendar
END:VEVENT
BEGIN:VEVENT
DTSTART;VALUE=DATE:20240305
DTEND;VALUE=DATE:20240306
DTSTAMP:20260422T150129
CREATED:20240126T162751Z
LAST-MODIFIED:20240126T162751Z
UID:5486-1709596800-1709683199@www.goppca.com
SUMMARY:Archery Meet vs Christ Covenant/Central Hinds
DESCRIPTION:5:00pm – 4th-5th grade only
URL:https://www.goppca.com/calendar/archery-meet-vs-christ-covenant-central-hinds/
LOCATION:Park Place Christian Academy\, 201 Park Place Drive\, Pearl\, MS\, 39208\, United States
CATEGORIES:Athletics Calendar
END:VEVENT
BEGIN:VEVENT
DTSTART;VALUE=DATE:20240305
DTEND;VALUE=DATE:20240306
DTSTAMP:20260422T150129
CREATED:20240209T164600Z
LAST-MODIFIED:20240305T173151Z
UID:5511-1709596800-1709683199@www.goppca.com
SUMMARY:Tennis Match vs Lamar
DESCRIPTION:3:30pm – The Club @ Crossgates  CANCELLED
URL:https://www.goppca.com/calendar/tennis-match-vs-lamar-2/
CATEGORIES:Athletics Calendar
END:VEVENT
BEGIN:VEVENT
DTSTART;VALUE=DATE:20240306
DTEND;VALUE=DATE:20240307
DTSTAMP:20260422T150129
CREATED:20240209T183915Z
LAST-MODIFIED:20240209T183915Z
UID:5521-1709683200-1709769599@www.goppca.com
SUMMARY:Track Meet @ Canton Academy
DESCRIPTION:Time – TBD
URL:https://www.goppca.com/calendar/track-meet-canton-academy/
LOCATION:Canton Academy\, 365 Van Buren St\, Canton\, MS\, 39046
CATEGORIES:Athletics Calendar
END:VEVENT
BEGIN:VEVENT
DTSTART;VALUE=DATE:20240307
DTEND;VALUE=DATE:20240308
DTSTAMP:20260422T150129
CREATED:20231206T163641Z
LAST-MODIFIED:20231206T163641Z
UID:5338-1709769600-1709855999@www.goppca.com
SUMMARY:JV/Varsity Baseball Game @ St. Aloysius
DESCRIPTION:JV – 5:00pm\nVarsity -7:00pm
URL:https://www.goppca.com/calendar/jv-varsity-baseball-game-st-aloysius/
LOCATION:St. Aloysius\, 1900 Grove St\, Vicksburg\, Mississippi\, 39183
CATEGORIES:Athletics Calendar
END:VEVENT
BEGIN:VEVENT
DTSTART;VALUE=DATE:20240308
DTEND;VALUE=DATE:20240309
DTSTAMP:20260422T150129
CREATED:20230619T174308Z
LAST-MODIFIED:20230619T174309Z
UID:4969-1709856000-1709942399@www.goppca.com
SUMMARY:NO SCHOOL for Students: Professional Development Day
DESCRIPTION:There is no school for students on Friday\, March 8. Faculty have a Professional Development Day on this Friday before Spring Break begins. \nSchool will resume on Monday\, March 18.
URL:https://www.goppca.com/calendar/no-school-for-students-professional-development-day-2/
CATEGORIES:Athletics Calendar,PPCA School Calendar
END:VEVENT
BEGIN:VEVENT
DTSTART;VALUE=DATE:20240308
DTEND;VALUE=DATE:20240309
DTSTAMP:20260422T150129
CREATED:20231206T164111Z
LAST-MODIFIED:20240308T154326Z
UID:5339-1709856000-1709942399@www.goppca.com
SUMMARY:JV/Var Baseball Game @ Discovery Christian - CANCELLED
DESCRIPTION:JV – 4:00pm – CANCELLED\nVarsity – 6:00pm – CANCELLED
URL:https://www.goppca.com/calendar/jv-varsity-baseball-game-discovery-christian/
LOCATION:Discovery Christian\, 111 Wesley Cir\, Florence\, MS\, 39073
CATEGORIES:Athletics Calendar
END:VEVENT
BEGIN:VEVENT
DTSTART;VALUE=DATE:20240309
DTEND;VALUE=DATE:20240310
DTSTAMP:20260422T150129
CREATED:20240229T201304Z
LAST-MODIFIED:20240229T201304Z
UID:5553-1709942400-1710028799@www.goppca.com
SUMMARY:Winter Guard Competition @ NWR
DESCRIPTION:10:32am(please arrive 10-15mins early)
URL:https://www.goppca.com/calendar/winter-guard-competition-nwr/
CATEGORIES:Athletics Calendar
END:VEVENT
BEGIN:VEVENT
DTSTART;VALUE=DATE:20240311
DTEND;VALUE=DATE:20240316
DTSTAMP:20260422T150129
CREATED:20230619T173750Z
LAST-MODIFIED:20230619T173751Z
UID:4966-1710115200-1710547199@www.goppca.com
SUMMARY:NO SCHOOL: Spring Break
DESCRIPTION:There is no school for students\, faculty\, and staff Monday\, March 11 – Friday\, March 15. Students also have off on Friday\, March 8\, while faculty have a Professional Development Day. \nSchool resumes on Monday\, March 18.
URL:https://www.goppca.com/calendar/no-school-spring-break-3/
CATEGORIES:Athletics Calendar,PPCA School Calendar
END:VEVENT
BEGIN:VEVENT
DTSTART;VALUE=DATE:20240312
DTEND;VALUE=DATE:20240313
DTSTAMP:20260422T150129
CREATED:20231206T164423Z
LAST-MODIFIED:20240308T211110Z
UID:5340-1710201600-1710287999@www.goppca.com
SUMMARY:Varsity/JV Baseball Game vs Manchester
DESCRIPTION:Varsity – 12:00pm\nJV – 2:00pm
URL:https://www.goppca.com/calendar/jv-varsity-baseball-game-vs-manchester/
LOCATION:Park Place Christian Academy\, 201 Park Place Drive\, Pearl\, MS\, 39208\, United States
CATEGORIES:Athletics Calendar
END:VEVENT
BEGIN:VEVENT
DTSTART;VALUE=DATE:20240315
DTEND;VALUE=DATE:20240317
DTSTAMP:20260422T150129
CREATED:20240209T185502Z
LAST-MODIFIED:20240209T185502Z
UID:5533-1710460800-1710633599@www.goppca.com
SUMMARY:Texas Distance Festival
DESCRIPTION:Southlake\, TX – Time – TBD
URL:https://www.goppca.com/calendar/texas-distance-festival/
CATEGORIES:Athletics Calendar
END:VEVENT
BEGIN:VEVENT
DTSTART;VALUE=DATE:20240318
DTEND;VALUE=DATE:20240319
DTSTAMP:20260422T150129
CREATED:20240307T170604Z
LAST-MODIFIED:20240307T180248Z
UID:5571-1710720000-1710806399@www.goppca.com
SUMMARY:Varsity Boys Basketball Awards Ceremony
DESCRIPTION:6:00pm in the upstairs gathering area of the 201 bldg.\nFood will be served.
URL:https://www.goppca.com/calendar/varsity-boys-basketball-awards-ceremony-3/
CATEGORIES:Athletics Calendar
END:VEVENT
BEGIN:VEVENT
DTSTART;VALUE=DATE:20240319
DTEND;VALUE=DATE:20240320
DTSTAMP:20260422T150129
CREATED:20231206T165848Z
LAST-MODIFIED:20231206T171411Z
UID:5341-1710806400-1710892799@www.goppca.com
SUMMARY:Varsity/JV Baseball Game vs Simpson
DESCRIPTION:Varsity – 2:30pm\nJV – 4:30pm \n 
URL:https://www.goppca.com/calendar/varsity-jv-baseball-game-vs-simpson/
LOCATION:Park Place Christian Academy\, 201 Park Place Drive\, Pearl\, MS\, 39208\, United States
CATEGORIES:Athletics Calendar
END:VEVENT
BEGIN:VEVENT
DTSTART;VALUE=DATE:20240319
DTEND;VALUE=DATE:20240320
DTSTAMP:20260422T150130
CREATED:20240209T164838Z
LAST-MODIFIED:20240209T164838Z
UID:5512-1710806400-1710892799@www.goppca.com
SUMMARY:Tennis Match vs Leake
DESCRIPTION:3:30pm – The Club @ Crossgates
URL:https://www.goppca.com/calendar/tennis-match-vs-leake-2/
LOCATION:The Club at Crossgates\, 100 Professional Drive\, Brandon\, MS\, 39042
CATEGORIES:Athletics Calendar
END:VEVENT
BEGIN:VEVENT
DTSTART;VALUE=DATE:20240320
DTEND;VALUE=DATE:20240321
DTSTAMP:20260422T150130
CREATED:20240209T184038Z
LAST-MODIFIED:20240209T184038Z
UID:5522-1710892800-1710979199@www.goppca.com
SUMMARY:Track Meet @ Jackson Academy
DESCRIPTION:Time – TBD
URL:https://www.goppca.com/calendar/track-meet-jackson-academy/
LOCATION:Jackson Academy\, 4908 Ridgewood Rd\, Jackson\, MS\, 39211
CATEGORIES:Athletics Calendar
END:VEVENT
BEGIN:VEVENT
DTSTART;VALUE=DATE:20240321
DTEND;VALUE=DATE:20240322
DTSTAMP:20260422T150130
CREATED:20231206T171558Z
LAST-MODIFIED:20240320T165009Z
UID:5342-1710979200-1711065599@www.goppca.com
SUMMARY:Varsity DH Baseball Game @ Simpson
DESCRIPTION:Varsity DH – 4:00pm & 6:00pm
URL:https://www.goppca.com/calendar/jv-varsity-baseball-game-simpson/
LOCATION:Simpson Academy\, 124 Academy Circle\, Mendenhall\, MS\, 39114
CATEGORIES:Athletics Calendar
END:VEVENT
BEGIN:VEVENT
DTSTART;VALUE=DATE:20240321
DTEND;VALUE=DATE:20240322
DTSTAMP:20260422T150130
CREATED:20240126T162929Z
LAST-MODIFIED:20240126T163213Z
UID:5489-1710979200-1711065599@www.goppca.com
SUMMARY:Archery Meet @ JA
DESCRIPTION:4:00pm – 6th-12th grade only
URL:https://www.goppca.com/calendar/archery-meet-ja/
LOCATION:Jackson Academy\, 4908 Ridgewood Rd\, Jackson\, MS\, 39211
CATEGORIES:Athletics Calendar
END:VEVENT
BEGIN:VEVENT
DTSTART;VALUE=DATE:20240322
DTEND;VALUE=DATE:20240323
DTSTAMP:20260422T150130
CREATED:20231206T171811Z
LAST-MODIFIED:20240322T152409Z
UID:5343-1711065600-1711151999@www.goppca.com
SUMMARY:JV Baseball Game vs Simpson - CANCELLED
DESCRIPTION:3:00pm – CANCELLED
URL:https://www.goppca.com/calendar/varsity-baseball-game-vs-simpson/
LOCATION:Park Place Christian Academy\, 201 Park Place Drive\, Pearl\, MS\, 39208\, United States
CATEGORIES:Athletics Calendar
END:VEVENT
BEGIN:VEVENT
DTSTART;VALUE=DATE:20240323
DTEND;VALUE=DATE:20240324
DTSTAMP:20260422T150130
CREATED:20240319T172856Z
LAST-MODIFIED:20240319T174112Z
UID:5579-1711152000-1711238399@www.goppca.com
SUMMARY:Winter Guard Championship - Jackson Coliseum
DESCRIPTION:12:34pm – Please arrive 15 mins early \nAdmission – $15
URL:https://www.goppca.com/calendar/winter-guard-championship-jackson-coliseum/
CATEGORIES:Athletics Calendar
END:VEVENT
BEGIN:VEVENT
DTSTART;VALUE=DATE:20240325
DTEND;VALUE=DATE:20240326
DTSTAMP:20260422T150130
CREATED:20231114T151042Z
LAST-MODIFIED:20240326T183614Z
UID:5291-1711324800-1711411199@www.goppca.com
SUMMARY:JH Baseball Game @ St. Andrews
DESCRIPTION:3:30pm
URL:https://www.goppca.com/calendar/jh-baseball-game-st-andrews-3/
LOCATION:St. Andrews\, 370 Old Agency Rd\, Ridgeland\, Mississippi\, 39157
CATEGORIES:Athletics Calendar
END:VEVENT
BEGIN:VEVENT
DTSTART;VALUE=DATE:20240325
DTEND;VALUE=DATE:20240326
DTSTAMP:20260422T150130
CREATED:20240223T181251Z
LAST-MODIFIED:20240223T182850Z
UID:5547-1711324800-1711411199@www.goppca.com
SUMMARY:Varsity Girls Basketball Awards Ceremony
DESCRIPTION:6pm – Boatner Hall
URL:https://www.goppca.com/calendar/varsity-girls-basketball-awards-ceremony-2/
CATEGORIES:Athletics Calendar
END:VEVENT
BEGIN:VEVENT
DTSTART;VALUE=DATE:20240326
DTEND;VALUE=DATE:20240327
DTSTAMP:20260422T150130
CREATED:20231206T171927Z
LAST-MODIFIED:20240326T183508Z
UID:5344-1711411200-1711497599@www.goppca.com
SUMMARY:Varsity Baseball Game @ East Rankin
DESCRIPTION:Varsity – 5:30pm
URL:https://www.goppca.com/calendar/jv-varsity-baseball-game-east-rankin/
LOCATION:East Rankin Academy\, 400 MS-43\, Pelahatchie\, MS\, 39145
CATEGORIES:Athletics Calendar
END:VEVENT
BEGIN:VEVENT
DTSTART;VALUE=DATE:20240326
DTEND;VALUE=DATE:20240327
DTSTAMP:20260422T150130
CREATED:20240209T165000Z
LAST-MODIFIED:20240209T165000Z
UID:5513-1711411200-1711497599@www.goppca.com
SUMMARY:Tennis Match @ East Rankin
DESCRIPTION:3:00pm
URL:https://www.goppca.com/calendar/tennis-match-east-rankin-2/
LOCATION:East Rankin Academy\, 400 MS-43\, Pelahatchie\, MS\, 39145
CATEGORIES:Athletics Calendar
END:VEVENT
BEGIN:VEVENT
DTSTART;TZID=America/Chicago:20240326T080000
DTEND;TZID=America/Chicago:20240326T120000
DTSTAMP:20260422T150130
CREATED:20240108T172252Z
LAST-MODIFIED:20240108T172256Z
UID:5417-1711440000-1711454400@www.goppca.com
SUMMARY:A.C.T.
DESCRIPTION:The American College Test (ACT) will be given at PPCA on Tuesday\, March 26\, to all of PPCA’s 11G students. Any 10G or 12G students who want to take it will have the opportunity to sign up with Mrs. Files\, PPCA School Counselor.
URL:https://www.goppca.com/calendar/a-c-t/
CATEGORIES:Athletics Calendar,PPCA School Calendar
END:VEVENT
BEGIN:VEVENT
DTSTART;VALUE=DATE:20240327
DTEND;VALUE=DATE:20240328
DTSTAMP:20260422T150130
CREATED:20240209T184120Z
LAST-MODIFIED:20240209T184120Z
UID:5523-1711497600-1711583999@www.goppca.com
SUMMARY:Track Meet @ Jackson Prep
DESCRIPTION:Time – TBD
URL:https://www.goppca.com/calendar/track-meet-jackson-prep/
LOCATION:Jackson Prep\, 3100 Lakeland Dr.\, Flowood\, MS\, 39232
CATEGORIES:Athletics Calendar
END:VEVENT
BEGIN:VEVENT
DTSTART;VALUE=DATE:20240327
DTEND;VALUE=DATE:20240328
DTSTAMP:20260422T150130
CREATED:20240322T152727Z
LAST-MODIFIED:20240322T152727Z
UID:5591-1711497600-1711583999@www.goppca.com
SUMMARY:North State Archery Meet
DESCRIPTION:Check In Time – NLT 1pm \nShooting Times – 2pm & 3pm
URL:https://www.goppca.com/calendar/north-state-archery-meet/
LOCATION:Mississippi Horse Park\, 869 East Poorhouse Rd\, Starkville\, Mississippi\, 38843
CATEGORIES:Athletics Calendar
END:VEVENT
BEGIN:VEVENT
DTSTART;VALUE=DATE:20240328
DTEND;VALUE=DATE:20240329
DTSTAMP:20260422T150130
CREATED:20231206T172036Z
LAST-MODIFIED:20231206T172236Z
UID:5345-1711584000-1711670399@www.goppca.com
SUMMARY:Varsity/JV Baseball Game vs East Rankin
DESCRIPTION:Varsity – 2:30pm\nJV – 4:30pm
URL:https://www.goppca.com/calendar/varsity-jv-baseball-game-vs-east-rankin/
LOCATION:Park Place Christian Academy\, 201 Park Place Drive\, Pearl\, MS\, 39208\, United States
CATEGORIES:Athletics Calendar
END:VEVENT
END:VCALENDAR