BEGIN:VCALENDAR
VERSION:2.0
PRODID:-//Park Place Christian Academy - ECPv6.15.20//NONSGML v1.0//EN
CALSCALE:GREGORIAN
METHOD:PUBLISH
X-WR-CALNAME:Park Place Christian Academy
X-ORIGINAL-URL:https://www.goppca.com
X-WR-CALDESC:Events for Park Place Christian Academy
REFRESH-INTERVAL;VALUE=DURATION:PT1H
X-Robots-Tag:noindex
X-PUBLISHED-TTL:PT1H
BEGIN:VTIMEZONE
TZID:America/Chicago
BEGIN:DAYLIGHT
TZOFFSETFROM:-0600
TZOFFSETTO:-0500
TZNAME:CDT
DTSTART:20230312T080000
END:DAYLIGHT
BEGIN:STANDARD
TZOFFSETFROM:-0500
TZOFFSETTO:-0600
TZNAME:CST
DTSTART:20231105T070000
END:STANDARD
BEGIN:DAYLIGHT
TZOFFSETFROM:-0600
TZOFFSETTO:-0500
TZNAME:CDT
DTSTART:20240310T080000
END:DAYLIGHT
BEGIN:STANDARD
TZOFFSETFROM:-0500
TZOFFSETTO:-0600
TZNAME:CST
DTSTART:20241103T070000
END:STANDARD
BEGIN:DAYLIGHT
TZOFFSETFROM:-0600
TZOFFSETTO:-0500
TZNAME:CDT
DTSTART:20250309T080000
END:DAYLIGHT
BEGIN:STANDARD
TZOFFSETFROM:-0500
TZOFFSETTO:-0600
TZNAME:CST
DTSTART:20251102T070000
END:STANDARD
END:VTIMEZONE
BEGIN:VEVENT
DTSTART;VALUE=DATE:20240329
DTEND;VALUE=DATE:20240402
DTSTAMP:20260422T132037
CREATED:20230619T175221Z
LAST-MODIFIED:20230619T175222Z
UID:4974-1711670400-1712015999@www.goppca.com
SUMMARY:NO SCHOOL: Easter Weekend
DESCRIPTION:There is no school on Friday\, March 29 – Monday\, April 1. School will resume on Tuesday\, April 2.
URL:https://www.goppca.com/calendar/no-school-easter-weekend/
CATEGORIES:Athletics Calendar,PPCA School Calendar
END:VEVENT
BEGIN:VEVENT
DTSTART;VALUE=DATE:20240401
DTEND;VALUE=DATE:20240402
DTSTAMP:20260422T132037
CREATED:20231114T151158Z
LAST-MODIFIED:20231114T151158Z
UID:5292-1711929600-1712015999@www.goppca.com
SUMMARY:JH Baseball Game @ East Rankin Academy
DESCRIPTION:4:00pm & 6:00pm
URL:https://www.goppca.com/calendar/jh-baseball-game-east-rankin-academy/
LOCATION:East Rankin Academy\, 400 MS-43\, Pelahatchie\, MS\, 39145
CATEGORIES:Athletics Calendar
END:VEVENT
BEGIN:VEVENT
DTSTART;VALUE=DATE:20240402
DTEND;VALUE=DATE:20240403
DTSTAMP:20260422T132037
CREATED:20231206T172514Z
LAST-MODIFIED:20240402T160835Z
UID:5347-1712016000-1712102399@www.goppca.com
SUMMARY:Varsity Baseball Game vs Wayne
DESCRIPTION:Varsity Only – 2:00pm
URL:https://www.goppca.com/calendar/jv-varsity-baseball-game-vs-wayne/
LOCATION:Park Place Christian Academy\, 201 Park Place Drive\, Pearl\, MS\, 39208\, United States
CATEGORIES:Athletics Calendar
END:VEVENT
BEGIN:VEVENT
DTSTART;VALUE=DATE:20240402
DTEND;VALUE=DATE:20240403
DTSTAMP:20260422T132037
CREATED:20240126T161859Z
LAST-MODIFIED:20240402T160719Z
UID:5478-1712016000-1712102399@www.goppca.com
SUMMARY:Archery Meet vs Hartfield
DESCRIPTION:4:00pm – 6th-12th grade only
URL:https://www.goppca.com/calendar/archery-meet-vs-hartfield/
LOCATION:Park Place Christian Academy\, 201 Park Place Drive\, Pearl\, MS\, 39208\, United States
CATEGORIES:Athletics Calendar
END:VEVENT
BEGIN:VEVENT
DTSTART;VALUE=DATE:20240403
DTEND;VALUE=DATE:20240404
DTSTAMP:20260422T132037
CREATED:20240209T184619Z
LAST-MODIFIED:20240209T184619Z
UID:5526-1712102400-1712188799@www.goppca.com
SUMMARY:Track Meet @ Canton Academy
DESCRIPTION:Time – TBD
URL:https://www.goppca.com/calendar/track-meet-canton-academy-3/
LOCATION:Canton Academy\, 365 Van Buren St\, Canton\, MS\, 39046
CATEGORIES:Athletics Calendar
END:VEVENT
BEGIN:VEVENT
DTSTART;VALUE=DATE:20240404
DTEND;VALUE=DATE:20240405
DTSTAMP:20260422T132037
CREATED:20240126T162842Z
LAST-MODIFIED:20240202T181830Z
UID:5488-1712188800-1712275199@www.goppca.com
SUMMARY:Archery Meet vs Magee
DESCRIPTION:4:00pm – 6th-12th grade only
URL:https://www.goppca.com/calendar/archery-meet-vs-magee/
LOCATION:Park Place Christian Academy\, 201 Park Place Drive\, Pearl\, MS\, 39208\, United States
CATEGORIES:Athletics Calendar
END:VEVENT
BEGIN:VEVENT
DTSTART;TZID=America/Chicago:20240404T180000
DTEND;TZID=America/Chicago:20240404T190000
DTSTAMP:20260422T132037
CREATED:20240328T131709Z
LAST-MODIFIED:20240328T131709Z
UID:5604-1712253600-1712257200@www.goppca.com
SUMMARY:Booster Club Meeting
DESCRIPTION:6:00pm – Chapel Room (located upstairs in the 201 bldg)
URL:https://www.goppca.com/calendar/booster-club-meeting-4/
LOCATION:Park Place Christian Academy\, 201 Park Place Drive\, Pearl\, MS\, 39208\, United States
CATEGORIES:Athletics Calendar
END:VEVENT
BEGIN:VEVENT
DTSTART;TZID=America/Chicago:20240404T190000
DTEND;TZID=America/Chicago:20240404T200000
DTSTAMP:20260422T132037
CREATED:20240328T132025Z
LAST-MODIFIED:20240328T132533Z
UID:5605-1712257200-1712260800@www.goppca.com
SUMMARY:PW\, JH\, Varsity Football Parent Meeting
DESCRIPTION:7:00pm- The meeting will take place in upstairs chapel room located upstairs in the 201 bldg.
URL:https://www.goppca.com/calendar/pee-wee-jh-varsity-football-meeting/
LOCATION:Park Place Christian Academy\, 201 Park Place Drive\, Pearl\, MS\, 39208\, United States
CATEGORIES:Athletics Calendar
END:VEVENT
BEGIN:VEVENT
DTSTART;VALUE=DATE:20240405
DTEND;VALUE=DATE:20240406
DTSTAMP:20260422T132037
CREATED:20231206T172610Z
LAST-MODIFIED:20240111T154300Z
UID:5348-1712275200-1712361599@www.goppca.com
SUMMARY:Varsity DH @ Wayne
DESCRIPTION:Time – 5:00 & 7:00
URL:https://www.goppca.com/calendar/varsity-dh-wayne/
LOCATION:Wayne Academy\, 46 Joe Jordan Rd\, Waynesboro\, MS\, 39367\, United States
CATEGORIES:Athletics Calendar
END:VEVENT
BEGIN:VEVENT
DTSTART;VALUE=DATE:20240408
DTEND;VALUE=DATE:20240409
DTSTAMP:20260422T132037
CREATED:20231206T172749Z
LAST-MODIFIED:20231206T172749Z
UID:5349-1712534400-1712620799@www.goppca.com
SUMMARY:Varsity/JV Baseball Game vs Leake Academy
DESCRIPTION:Varsity – 2:30pm\nJV – 4:30pm
URL:https://www.goppca.com/calendar/varsity-jv-baseball-game-vs-leake-academy/
LOCATION:Park Place Christian Academy\, 201 Park Place Drive\, Pearl\, MS\, 39208\, United States
CATEGORIES:Athletics Calendar
END:VEVENT
BEGIN:VEVENT
DTSTART;VALUE=DATE:20240409
DTEND;VALUE=DATE:20240410
DTSTAMP:20260422T132037
CREATED:20231206T172943Z
LAST-MODIFIED:20240409T171538Z
UID:5350-1712620800-1712707199@www.goppca.com
SUMMARY:JV/Varsity Baseball Game @ Leake Academy Postponed to 4/12 - Var Only
DESCRIPTION:JV – 4:00pm\nVarsity – 6:00pm \n  \nVar Only on 4/12 @ 12:00pm
URL:https://www.goppca.com/calendar/jv-varsity-baseball-game-leake-academy/
LOCATION:Leake Academy\, 1 Rebel Dr\, Madden\, MS 39109\, Madden\, MS\, 39109\, United States
CATEGORIES:Athletics Calendar
END:VEVENT
BEGIN:VEVENT
DTSTART;VALUE=DATE:20240410
DTEND;VALUE=DATE:20240411
DTSTAMP:20260422T132037
CREATED:20240209T184353Z
LAST-MODIFIED:20240411T152836Z
UID:5525-1712707200-1712793599@www.goppca.com
SUMMARY:Track Meet @ Canton Academy - POSTPONED TO 4/12
DESCRIPTION:Time – TBD
URL:https://www.goppca.com/calendar/track-meet-canton-academy-2/
LOCATION:Canton Academy\, 365 Van Buren St\, Canton\, MS\, 39046
CATEGORIES:Athletics Calendar
END:VEVENT
BEGIN:VEVENT
DTSTART;VALUE=DATE:20240411
DTEND;VALUE=DATE:20240412
DTSTAMP:20260422T132037
CREATED:20231206T173118Z
LAST-MODIFIED:20240322T181235Z
UID:5351-1712793600-1712879999@www.goppca.com
SUMMARY:Varsity Baseball Game vs Leake Academy - Senior Recognition for Winter/Spring Sports (NOT Baseball)
DESCRIPTION:2:30pm \nWe will be recognizing Seniors who competed in Shooting\, Track and Field\, Archery\, Winter Guard and Tennis team starting at 2pm.  
URL:https://www.goppca.com/calendar/varsity-baseball-game-vs-leake-academy/
LOCATION:Park Place Christian Academy\, 201 Park Place Drive\, Pearl\, MS\, 39208\, United States
CATEGORIES:Athletics Calendar
END:VEVENT
BEGIN:VEVENT
DTSTART;VALUE=DATE:20240411
DTEND;VALUE=DATE:20240412
DTSTAMP:20260422T132037
CREATED:20240409T183305Z
LAST-MODIFIED:20240409T183305Z
UID:5623-1712793600-1712879999@www.goppca.com
SUMMARY:District Tennis Tournament
DESCRIPTION:
URL:https://www.goppca.com/calendar/district-tennis-tournament-3/
CATEGORIES:Athletics Calendar
END:VEVENT
BEGIN:VEVENT
DTSTART;VALUE=DATE:20240412
DTEND;VALUE=DATE:20240413
DTSTAMP:20260422T132037
CREATED:20240411T155232Z
LAST-MODIFIED:20240411T173832Z
UID:5630-1712880000-1712966399@www.goppca.com
SUMMARY:JV District Track Meet @ Canton Academy
DESCRIPTION:
URL:https://www.goppca.com/calendar/jv-district-track-meet-canton-academy/
CATEGORIES:Athletics Calendar
END:VEVENT
BEGIN:VEVENT
DTSTART;VALUE=DATE:20240416
DTEND;VALUE=DATE:20240417
DTSTAMP:20260422T132037
CREATED:20231206T173413Z
LAST-MODIFIED:20231206T173413Z
UID:5352-1713225600-1713311999@www.goppca.com
SUMMARY:Varsity/JV Baseball Game vs Lamar School
DESCRIPTION:Varsity – 2:30pm\nJV – 4:30pm
URL:https://www.goppca.com/calendar/varsity-jv-baseball-game-vs-lamar-school/
LOCATION:Park Place Christian Academy\, 201 Park Place Drive\, Pearl\, MS\, 39208\, United States
CATEGORIES:Athletics Calendar
END:VEVENT
BEGIN:VEVENT
DTSTART;VALUE=DATE:20240417
DTEND;VALUE=DATE:20240418
DTSTAMP:20260422T132037
CREATED:20240209T184840Z
LAST-MODIFIED:20240209T184840Z
UID:5527-1713312000-1713398399@www.goppca.com
SUMMARY:Track Meet @ Canton Academy
DESCRIPTION:Time – TBD
URL:https://www.goppca.com/calendar/track-meet-canton-academy-4/
LOCATION:Canton Academy\, 365 Van Buren St\, Canton\, MS\, 39046
CATEGORIES:Athletics Calendar
END:VEVENT
BEGIN:VEVENT
DTSTART;VALUE=DATE:20240418
DTEND;VALUE=DATE:20240419
DTSTAMP:20260422T132037
CREATED:20231206T173538Z
LAST-MODIFIED:20231206T173538Z
UID:5353-1713398400-1713484799@www.goppca.com
SUMMARY:JV/Varsity Baseball Game @ Lamar School
DESCRIPTION:JV – 5:00pm\nVarsity – 7:00pm
URL:https://www.goppca.com/calendar/jv-varsity-baseball-game-lamar-school/
LOCATION:Lamar School\, 544 Lindley Rd\, Meridian\, MS\, 39305
CATEGORIES:Athletics Calendar
END:VEVENT
BEGIN:VEVENT
DTSTART;VALUE=DATE:20240419
DTEND;VALUE=DATE:20240420
DTSTAMP:20260422T132037
CREATED:20231206T173637Z
LAST-MODIFIED:20240322T181345Z
UID:5354-1713484800-1713571199@www.goppca.com
SUMMARY:Varsity Baseball Game vs Lamar - Senior Night for Baseball Players Only
DESCRIPTION:2:30pm \nThe Senior recognition will begin at approx 2:00pm.
URL:https://www.goppca.com/calendar/varsity-baseball-game-vs-lamar/
LOCATION:Park Place Christian Academy\, 201 Park Place Drive\, Pearl\, MS\, 39208\, United States
CATEGORIES:Athletics Calendar
END:VEVENT
BEGIN:VEVENT
DTSTART;VALUE=DATE:20240420
DTEND;VALUE=DATE:20240421
DTSTAMP:20260422T132037
CREATED:20240209T184930Z
LAST-MODIFIED:20240209T184930Z
UID:5528-1713571200-1713657599@www.goppca.com
SUMMARY:Track Meet @ Canton Academy
DESCRIPTION:Time – TBD
URL:https://www.goppca.com/calendar/track-meet-canton-academy-5/
LOCATION:Canton Academy\, 365 Van Buren St\, Canton\, MS\, 39046
CATEGORIES:Athletics Calendar
END:VEVENT
BEGIN:VEVENT
DTSTART;VALUE=DATE:20240422
DTEND;VALUE=DATE:20240423
DTSTAMP:20260422T132037
CREATED:20231206T173800Z
LAST-MODIFIED:20231206T174535Z
UID:5355-1713744000-1713830399@www.goppca.com
SUMMARY:1st Round of Baseball Playoffs
DESCRIPTION:Varsity – Time & Location – TBD
URL:https://www.goppca.com/calendar/1st-round-of-playoffs/
CATEGORIES:Athletics Calendar
END:VEVENT
BEGIN:VEVENT
DTSTART;VALUE=DATE:20240423
DTEND;VALUE=DATE:20240427
DTSTAMP:20260422T132037
CREATED:20231221T154757Z
LAST-MODIFIED:20231221T155919Z
UID:5396-1713830400-1714175999@www.goppca.com
SUMMARY:Sixth Grade ARK Trip
DESCRIPTION:
URL:https://www.goppca.com/calendar/sixth-grade-ark-trip/
CATEGORIES:Athletics Calendar,PPCA School Calendar
END:VEVENT
BEGIN:VEVENT
DTSTART;VALUE=DATE:20240423
DTEND;VALUE=DATE:20240425
DTSTAMP:20260422T132037
CREATED:20231221T154921Z
LAST-MODIFIED:20231221T154922Z
UID:5397-1713830400-1714003199@www.goppca.com
SUMMARY:IOWA TESTING: 7G and 8G
DESCRIPTION:
URL:https://www.goppca.com/calendar/iowa-testing-7g-and-8g/
CATEGORIES:Athletics Calendar,PPCA School Calendar
END:VEVENT
BEGIN:VEVENT
DTSTART;VALUE=DATE:20240424
DTEND;VALUE=DATE:20240425
DTSTAMP:20260422T132037
CREATED:20240209T185019Z
LAST-MODIFIED:20240209T185019Z
UID:5529-1713916800-1714003199@www.goppca.com
SUMMARY:North State Track Meet @ Bayou Academy
DESCRIPTION:Time – TBD
URL:https://www.goppca.com/calendar/north-state-track-meet-bayou-academy/
CATEGORIES:Athletics Calendar
END:VEVENT
BEGIN:VEVENT
DTSTART;TZID=America/Chicago:20240426T180000
DTEND;TZID=America/Chicago:20240426T200000
DTSTAMP:20260422T132037
CREATED:20240426T162427Z
LAST-MODIFIED:20240426T162427Z
UID:5655-1714154400-1714161600@www.goppca.com
SUMMARY:Winter Guard Awards Banquet
DESCRIPTION:Upstairs Gathering Area in the 201 Bldg – 6:00pm
URL:https://www.goppca.com/calendar/winter-guard-awards-banquet/
LOCATION:Park Place Christian Academy\, 201 Park Place Drive\, Pearl\, MS\, 39208\, United States
CATEGORIES:Athletics Calendar
END:VEVENT
BEGIN:VEVENT
DTSTART;VALUE=DATE:20240427
DTEND;VALUE=DATE:20240428
DTSTAMP:20260422T132037
CREATED:20240209T185059Z
LAST-MODIFIED:20240209T185059Z
UID:5530-1714176000-1714262399@www.goppca.com
SUMMARY:North State Track Meet @ Bayou Academy
DESCRIPTION:Time – TBD
URL:https://www.goppca.com/calendar/north-state-track-meet-bayou-academy-2/
CATEGORIES:Athletics Calendar
END:VEVENT
BEGIN:VEVENT
DTSTART;VALUE=DATE:20240429
DTEND;VALUE=DATE:20240430
DTSTAMP:20260422T132037
CREATED:20231206T173938Z
LAST-MODIFIED:20231206T174609Z
UID:5356-1714348800-1714435199@www.goppca.com
SUMMARY:2nd Round of Baseball Playoffs
DESCRIPTION:Varsity – Time & Location – TBD
URL:https://www.goppca.com/calendar/2nd-round-of-playoffs/
CATEGORIES:Athletics Calendar
END:VEVENT
BEGIN:VEVENT
DTSTART;VALUE=DATE:20240429
DTEND;VALUE=DATE:20240502
DTSTAMP:20260422T132037
CREATED:20231221T155034Z
LAST-MODIFIED:20231221T155035Z
UID:5398-1714348800-1714607999@www.goppca.com
SUMMARY:IOWA Testing: 3G and 4G
DESCRIPTION:
URL:https://www.goppca.com/calendar/iowa-testing-3g-and-4g/
CATEGORIES:Athletics Calendar,PPCA School Calendar
END:VEVENT
END:VCALENDAR