BEGIN:VCALENDAR
VERSION:2.0
PRODID:-//Park Place Christian Academy - ECPv6.15.20//NONSGML v1.0//EN
CALSCALE:GREGORIAN
METHOD:PUBLISH
X-WR-CALNAME:Park Place Christian Academy
X-ORIGINAL-URL:https://www.goppca.com
X-WR-CALDESC:Events for Park Place Christian Academy
REFRESH-INTERVAL;VALUE=DURATION:PT1H
X-Robots-Tag:noindex
X-PUBLISHED-TTL:PT1H
BEGIN:VTIMEZONE
TZID:America/Chicago
BEGIN:DAYLIGHT
TZOFFSETFROM:-0600
TZOFFSETTO:-0500
TZNAME:CDT
DTSTART:20230312T080000
END:DAYLIGHT
BEGIN:STANDARD
TZOFFSETFROM:-0500
TZOFFSETTO:-0600
TZNAME:CST
DTSTART:20231105T070000
END:STANDARD
BEGIN:DAYLIGHT
TZOFFSETFROM:-0600
TZOFFSETTO:-0500
TZNAME:CDT
DTSTART:20240310T080000
END:DAYLIGHT
BEGIN:STANDARD
TZOFFSETFROM:-0500
TZOFFSETTO:-0600
TZNAME:CST
DTSTART:20241103T070000
END:STANDARD
BEGIN:DAYLIGHT
TZOFFSETFROM:-0600
TZOFFSETTO:-0500
TZNAME:CDT
DTSTART:20250309T080000
END:DAYLIGHT
BEGIN:STANDARD
TZOFFSETFROM:-0500
TZOFFSETTO:-0600
TZNAME:CST
DTSTART:20251102T070000
END:STANDARD
END:VTIMEZONE
BEGIN:VEVENT
DTSTART;VALUE=DATE:20240429
DTEND;VALUE=DATE:20240502
DTSTAMP:20260422T121130
CREATED:20231221T155034Z
LAST-MODIFIED:20231221T155035Z
UID:5398-1714348800-1714607999@www.goppca.com
SUMMARY:IOWA Testing: 3G and 4G
DESCRIPTION:
URL:https://www.goppca.com/calendar/iowa-testing-3g-and-4g/
LOCATION:MS
CATEGORIES:Athletics Calendar,PPCA School Calendar
END:VEVENT
BEGIN:VEVENT
DTSTART;VALUE=DATE:20240502
DTEND;VALUE=DATE:20240504
DTSTAMP:20260422T121130
CREATED:20231221T155136Z
LAST-MODIFIED:20231221T155137Z
UID:5399-1714608000-1714780799@www.goppca.com
SUMMARY:IOWA Testing: 5G and 6G
DESCRIPTION:
URL:https://www.goppca.com/calendar/iowa-testing-5g-and-6g/
LOCATION:MS
CATEGORIES:Athletics Calendar,PPCA School Calendar
END:VEVENT
BEGIN:VEVENT
DTSTART;TZID=America/Chicago:20240502T150000
DTEND;TZID=America/Chicago:20240502T163000
DTSTAMP:20260422T121130
CREATED:20240426T162149Z
LAST-MODIFIED:20240426T162222Z
UID:5654-1714662000-1714667400@www.goppca.com
SUMMARY:Varsity(10th-12th)Boys Basketball Tryouts
DESCRIPTION:3pm until 4:30pm
URL:https://www.goppca.com/calendar/varsity10th-12thboys-basketball-tryouts/
LOCATION:PPCA Campus Gym\, 5701 Hwy 80 East\, Pearl\, MS\, 39208
CATEGORIES:Athletics Calendar
END:VEVENT
BEGIN:VEVENT
DTSTART;VALUE=DATE:20240503
DTEND;VALUE=DATE:20240504
DTSTAMP:20260422T121130
CREATED:20240209T185142Z
LAST-MODIFIED:20240209T185142Z
UID:5531-1714694400-1714780799@www.goppca.com
SUMMARY:Overall State Meet @ Jackson Academy
DESCRIPTION:Time – TBD
URL:https://www.goppca.com/calendar/overall-state-meet-jackson-academy/
LOCATION:MS
CATEGORIES:Athletics Calendar
END:VEVENT
BEGIN:VEVENT
DTSTART;TZID=America/Chicago:20240503T183000
DTEND;TZID=America/Chicago:20240503T203000
DTSTAMP:20260422T121130
CREATED:20240426T162742Z
LAST-MODIFIED:20240426T162810Z
UID:5658-1714761000-1714768200@www.goppca.com
SUMMARY:Baseball Awards Banquet
DESCRIPTION:Boatner Hall – 6:30pm
URL:https://www.goppca.com/calendar/baseball-awards-banquet/
LOCATION:Park Place Christian Academy\, 201 Park Place Drive\, Pearl\, MS\, 39208\, United States
CATEGORIES:Athletics Calendar
END:VEVENT
BEGIN:VEVENT
DTSTART;VALUE=DATE:20240504
DTEND;VALUE=DATE:20240505
DTSTAMP:20260422T121130
CREATED:20240209T185225Z
LAST-MODIFIED:20240209T185225Z
UID:5532-1714780800-1714867199@www.goppca.com
SUMMARY:Overall State Meet @ Jackson Prep
DESCRIPTION:Time – TBD
URL:https://www.goppca.com/calendar/overall-state-meet-jackson-prep/
LOCATION:MS
CATEGORIES:Athletics Calendar
END:VEVENT
BEGIN:VEVENT
DTSTART;VALUE=DATE:20240506
DTEND;VALUE=DATE:20240507
DTSTAMP:20260422T121130
CREATED:20231206T174120Z
LAST-MODIFIED:20231206T174135Z
UID:5357-1714953600-1715039999@www.goppca.com
SUMMARY:3rd Round of Baseball Playoffs
DESCRIPTION:Varsity – Time & Location – TBD
URL:https://www.goppca.com/calendar/3rd-round-of-playoffs/
LOCATION:MS
CATEGORIES:Athletics Calendar
END:VEVENT
BEGIN:VEVENT
DTSTART;VALUE=DATE:20240506
DTEND;VALUE=DATE:20240507
DTSTAMP:20260422T121130
CREATED:20231221T155225Z
LAST-MODIFIED:20231221T155227Z
UID:5400-1714953600-1715039999@www.goppca.com
SUMMARY:IOWA Testing: 5G and 6G
DESCRIPTION:
URL:https://www.goppca.com/calendar/iowa-testing-5g-and-6g-2/
LOCATION:MS
CATEGORIES:Athletics Calendar,PPCA School Calendar
END:VEVENT
BEGIN:VEVENT
DTSTART;VALUE=DATE:20240506
DTEND;VALUE=DATE:20240507
DTSTAMP:20260422T121130
CREATED:20240327T174650Z
LAST-MODIFIED:20240327T174650Z
UID:5602-1714953600-1715039999@www.goppca.com
SUMMARY:Fast Pitch Softball Tryouts
DESCRIPTION:4pm until 5:30pm
URL:https://www.goppca.com/calendar/fast-pitch-softball-tryouts/
LOCATION:Park Place Christian Academy\, 201 Park Place Drive\, Pearl\, MS\, 39208\, United States
CATEGORIES:Athletics Calendar
END:VEVENT
BEGIN:VEVENT
DTSTART;TZID=America/Chicago:20240506T080000
DTEND;TZID=America/Chicago:20240508T113000
DTSTAMP:20260422T121130
CREATED:20230620T140808Z
LAST-MODIFIED:20230620T140913Z
UID:4990-1714982400-1715167800@www.goppca.com
SUMMARY:Senior Exams
DESCRIPTION:Senior exams will be held on Monday\, May 6 – Wednesday\, May 8. They are half-days for seniors only. Senior Awards Day is Friday\, May 10 and Graduation is scheduled for Friday\, May 17.
URL:https://www.goppca.com/calendar/senior-exams-3/
LOCATION:MS
CATEGORIES:Athletics Calendar,PPCA School Calendar
END:VEVENT
BEGIN:VEVENT
DTSTART;TZID=America/Chicago:20240507T180000
DTEND;TZID=America/Chicago:20240507T193000
DTSTAMP:20260422T121130
CREATED:20240426T162632Z
LAST-MODIFIED:20240426T162632Z
UID:5657-1715104800-1715110200@www.goppca.com
SUMMARY:Tennis Awards Banquet
DESCRIPTION:Boatner Hall – 6:00pm
URL:https://www.goppca.com/calendar/tennis-awards-banquet/
LOCATION:MS
CATEGORIES:Athletics Calendar
END:VEVENT
BEGIN:VEVENT
DTSTART;TZID=America/Chicago:20240509T183000
DTEND;TZID=America/Chicago:20240509T193000
DTSTAMP:20260422T121130
CREATED:20240509T172258Z
LAST-MODIFIED:20240509T172258Z
UID:5687-1715279400-1715283000@www.goppca.com
SUMMARY:Cross Country Parent Meeting
DESCRIPTION:6:30pm – Upstairs Chapel Room in 201 building
URL:https://www.goppca.com/calendar/cross-country-parent-meeting-3/
LOCATION:MS
CATEGORIES:Athletics Calendar
END:VEVENT
BEGIN:VEVENT
DTSTART;TZID=America/Chicago:20240510T130000
DTEND;TZID=America/Chicago:20240510T150000
DTSTAMP:20260422T121130
CREATED:20230620T141049Z
LAST-MODIFIED:20230620T141050Z
UID:4991-1715346000-1715353200@www.goppca.com
SUMMARY:Senior Awards Day
DESCRIPTION:Senior Awards Day is Friday\, May 10\, from 1 pm until 3 pm. Juniors attend this special ceremony.
URL:https://www.goppca.com/calendar/senior-awards-day-3/
LOCATION:MS
CATEGORIES:Athletics Calendar,PPCA School Calendar
END:VEVENT
BEGIN:VEVENT
DTSTART;VALUE=DATE:20240513
DTEND;VALUE=DATE:20240514
DTSTAMP:20260422T121130
CREATED:20231206T174447Z
LAST-MODIFIED:20231206T180414Z
UID:5358-1715558400-1715644799@www.goppca.com
SUMMARY:5A State Baseball Championship
DESCRIPTION:Varsity – Time & Location – TBD
URL:https://www.goppca.com/calendar/5a-state-championship/
LOCATION:MS
CATEGORIES:Athletics Calendar
END:VEVENT
BEGIN:VEVENT
DTSTART;TZID=America/Chicago:20240513T173000
DTEND;TZID=America/Chicago:20240513T183000
DTSTAMP:20260422T121130
CREATED:20240509T172419Z
LAST-MODIFIED:20240509T172419Z
UID:5688-1715621400-1715625000@www.goppca.com
SUMMARY:Softball Parent Meeting
DESCRIPTION:5:30pm – Upstairs Chapel Room in 201 bldg
URL:https://www.goppca.com/calendar/softball-parent-meeting/
LOCATION:Park Place Christian Academy\, 201 Park Place Drive\, Pearl\, MS\, 39208\, United States
CATEGORIES:Athletics Calendar
END:VEVENT
BEGIN:VEVENT
DTSTART;TZID=America/Chicago:20240516T150000
DTEND;TZID=America/Chicago:20240516T163000
DTSTAMP:20260422T121130
CREATED:20240509T172520Z
LAST-MODIFIED:20240513T151955Z
UID:5689-1715871600-1715877000@www.goppca.com
SUMMARY:Upcoming 9th-12th Gr Baseball Tryouts
DESCRIPTION:3:00pm to 4:30pm
URL:https://www.goppca.com/calendar/upcoming-9th-12th-gr-baseball-tryouts/
LOCATION:MS
CATEGORIES:Athletics Calendar
END:VEVENT
BEGIN:VEVENT
DTSTART;TZID=America/Chicago:20240516T180000
DTEND;TZID=America/Chicago:20240516T190000
DTSTAMP:20260422T121130
CREATED:20230620T141424Z
LAST-MODIFIED:20230620T165933Z
UID:4992-1715882400-1715886000@www.goppca.com
SUMMARY:Secondary Awards Night
DESCRIPTION:Secondary students will have their Awards Day at 6 pm on Thursday\, May 16 in the Sanctuary of Park Place Baptist Church. Families of 7G-11G students will receive emailed invitations if their students are getting recognition and/or awards that evening. \n  \n 
URL:https://www.goppca.com/calendar/elementary-awards-day-and-secondary-awards-night/
LOCATION:MS
CATEGORIES:Athletics Calendar,PPCA School Calendar
END:VEVENT
BEGIN:VEVENT
DTSTART;TZID=America/Chicago:20240517T180000
DTEND;TZID=America/Chicago:20240517T193000
DTSTAMP:20260422T121130
CREATED:20230620T141653Z
LAST-MODIFIED:20230620T141654Z
UID:4993-1715968800-1715974200@www.goppca.com
SUMMARY:Senior Graduation
DESCRIPTION:The Class of 2024 will hold its Commencement Ceremony on Friday\, May 17 at 7 pm. Location TBA.
URL:https://www.goppca.com/calendar/senior-graduation/
LOCATION:MS
CATEGORIES:Athletics Calendar,PPCA School Calendar
END:VEVENT
BEGIN:VEVENT
DTSTART;TZID=America/Chicago:20240520T080000
DTEND;TZID=America/Chicago:20240523T113000
DTSTAMP:20260422T121130
CREATED:20230620T133018Z
LAST-MODIFIED:20230620T133019Z
UID:4978-1716192000-1716463800@www.goppca.com
SUMMARY:HALF-DAYS: Second Semester Exams
DESCRIPTION:Monday\, May 20 – Thursday\, May 23 are half-days for Second Semester Exams. Watch for emails detailing end of school activities for Preschool and Elementary students.
URL:https://www.goppca.com/calendar/half-days-second-semester-exams-4/
LOCATION:MS
CATEGORIES:Athletics Calendar,PPCA School Calendar
END:VEVENT
BEGIN:VEVENT
DTSTART;TZID=America/Chicago:20240520T153000
DTEND;TZID=America/Chicago:20240520T170000
DTSTAMP:20260422T121130
CREATED:20240509T172624Z
LAST-MODIFIED:20240509T172624Z
UID:5690-1716219000-1716224400@www.goppca.com
SUMMARY:Upcoming 7th & 8th Grade Baseball Tryouts
DESCRIPTION:3:30pm until 5pm
URL:https://www.goppca.com/calendar/upcoming-7th-8th-grade-baseball-tryouts/
LOCATION:Park Place Christian Academy\, 201 Park Place Drive\, Pearl\, MS\, 39208\, United States
CATEGORIES:Athletics Calendar
END:VEVENT
BEGIN:VEVENT
DTSTART;VALUE=DATE:20240527
DTEND;VALUE=DATE:20240601
DTSTAMP:20260422T121130
CREATED:20230620T133527Z
LAST-MODIFIED:20230620T133528Z
UID:4980-1716768000-1717199999@www.goppca.com
SUMMARY:OFFICES are CLOSED
DESCRIPTION:PPCA Offices are closed Monday\, May 27 – Friday\, May 31. Offices will reopen with Summer Days/Hours of Monday-Thursday\, 9 am until 1 pm beginning Monday\, June 3.
URL:https://www.goppca.com/calendar/offices-are-closed-2/
LOCATION:MS
CATEGORIES:Athletics Calendar,PPCA School Calendar
END:VEVENT
END:VCALENDAR