BEGIN:VCALENDAR
VERSION:2.0
PRODID:-//Park Place Christian Academy - ECPv6.15.20//NONSGML v1.0//EN
CALSCALE:GREGORIAN
METHOD:PUBLISH
X-ORIGINAL-URL:https://www.goppca.com
X-WR-CALDESC:Events for Park Place Christian Academy
REFRESH-INTERVAL;VALUE=DURATION:PT1H
X-Robots-Tag:noindex
X-PUBLISHED-TTL:PT1H
BEGIN:VTIMEZONE
TZID:America/Chicago
BEGIN:DAYLIGHT
TZOFFSETFROM:-0600
TZOFFSETTO:-0500
TZNAME:CDT
DTSTART:20230312T080000
END:DAYLIGHT
BEGIN:STANDARD
TZOFFSETFROM:-0500
TZOFFSETTO:-0600
TZNAME:CST
DTSTART:20231105T070000
END:STANDARD
BEGIN:DAYLIGHT
TZOFFSETFROM:-0600
TZOFFSETTO:-0500
TZNAME:CDT
DTSTART:20240310T080000
END:DAYLIGHT
BEGIN:STANDARD
TZOFFSETFROM:-0500
TZOFFSETTO:-0600
TZNAME:CST
DTSTART:20241103T070000
END:STANDARD
BEGIN:DAYLIGHT
TZOFFSETFROM:-0600
TZOFFSETTO:-0500
TZNAME:CDT
DTSTART:20250309T080000
END:DAYLIGHT
BEGIN:STANDARD
TZOFFSETFROM:-0500
TZOFFSETTO:-0600
TZNAME:CST
DTSTART:20251102T070000
END:STANDARD
END:VTIMEZONE
BEGIN:VEVENT
DTSTART;VALUE=DATE:20240801
DTEND;VALUE=DATE:20240802
DTSTAMP:20260422T073254
CREATED:20240613T173813Z
LAST-MODIFIED:20240613T173813Z
UID:5786-1722470400-1722556799@www.goppca.com
SUMMARY:Softball Game @ Jackson Academy
DESCRIPTION:Varsity/JV – 4:00pm
URL:https://www.goppca.com/calendar/softball-game-jackson-academy-2/
LOCATION:Jackson Academy\, 4908 Ridgewood Rd\, Jackson\, MS\, 39211
CATEGORIES:Athletics Calendar
END:VEVENT
BEGIN:VEVENT
DTSTART;VALUE=DATE:20240802
DTEND;VALUE=DATE:20240804
DTSTAMP:20260422T073254
CREATED:20240722T150534Z
LAST-MODIFIED:20240722T150534Z
UID:5948-1722556800-1722729599@www.goppca.com
SUMMARY:Senior Class Retreat (Off Campus)
DESCRIPTION:Senior Class Retreat (Off Campus)
URL:https://www.goppca.com/calendar/senior-class-retreat-off-campus/
CATEGORIES:Athletics Calendar,PPCA School Calendar
END:VEVENT
BEGIN:VEVENT
DTSTART;VALUE=DATE:20240805
DTEND;VALUE=DATE:20240806
DTSTAMP:20260422T073254
CREATED:20240613T173903Z
LAST-MODIFIED:20240613T173903Z
UID:5787-1722816000-1722902399@www.goppca.com
SUMMARY:Softball Game vs Simpson
DESCRIPTION:Varsity/JV – 4:00pm
URL:https://www.goppca.com/calendar/softball-game-vs-simpson/
LOCATION:Park Place Christian Academy\, 201 Park Place Drive\, Pearl\, MS\, 39208\, United States
CATEGORIES:Athletics Calendar
END:VEVENT
BEGIN:VEVENT
DTSTART;VALUE=DATE:20240806
DTEND;VALUE=DATE:20240807
DTSTAMP:20260422T073254
CREATED:20240521T160615Z
LAST-MODIFIED:20240805T202857Z
UID:5742-1722902400-1722988799@www.goppca.com
SUMMARY:Girls Soccer Game @ Hattiesburg
DESCRIPTION:Varsity – 6:00pm
URL:https://www.goppca.com/calendar/girls-soccer-game-hattiesburg/
CATEGORIES:Athletics Calendar
END:VEVENT
BEGIN:VEVENT
DTSTART;VALUE=DATE:20240808
DTEND;VALUE=DATE:20240809
DTSTAMP:20260422T073254
CREATED:20240613T173958Z
LAST-MODIFIED:20240613T173958Z
UID:5788-1723075200-1723161599@www.goppca.com
SUMMARY:Softball Game vs Victors
DESCRIPTION:Varsity/JV – 4:00pm
URL:https://www.goppca.com/calendar/softball-game-vs-victors-2/
LOCATION:Park Place Christian Academy\, 201 Park Place Drive\, Pearl\, MS\, 39208\, United States
CATEGORIES:Athletics Calendar
END:VEVENT
BEGIN:VEVENT
DTSTART;TZID=America/Chicago:20240809T173000
DTEND;TZID=America/Chicago:20240809T193000
DTSTAMP:20260422T073254
CREATED:20240712T230730Z
LAST-MODIFIED:20240712T230730Z
UID:5884-1723224600-1723231800@www.goppca.com
SUMMARY:Meet The Crusaders: PPCA Family Event K3-12G
DESCRIPTION:This annual fun\, family-friendly event is held on the Friday night before school begins: August 9\, 5:30-7:30 pm. Meet the Fall Athletic Teams and Coaches as they’re individually introduced in the Crusader Football Stadium\, all while enjoying great fellowship in The GAPP\, around the field\, and in the stands. For more information\, contact PPCA Events Director Jessica Thames: jthames@goppca.com
URL:https://www.goppca.com/calendar/meet-the-crusaders-ppca-family-event-k3-12g/
CATEGORIES:Athletics Calendar,PPCA School Calendar
END:VEVENT
BEGIN:VEVENT
DTSTART;TZID=America/Chicago:20240809T173000
DTEND;TZID=America/Chicago:20240809T193000
DTSTAMP:20260422T073254
CREATED:20240722T151420Z
LAST-MODIFIED:20240722T151420Z
UID:5967-1723224600-1723231800@www.goppca.com
SUMMARY:PPCA Family Event: MEET the CRUSADERS in the GAPP
DESCRIPTION:PPCA Family Event: MEET the CRUSADERS in the GAPP
URL:https://www.goppca.com/calendar/ppca-family-event-meet-the-crusaders-in-the-gapp/
CATEGORIES:Athletics Calendar,PPCA School Calendar
END:VEVENT
BEGIN:VEVENT
DTSTART;VALUE=DATE:20240810
DTEND;VALUE=DATE:20240811
DTSTAMP:20260422T073254
CREATED:20240521T160707Z
LAST-MODIFIED:20240521T161024Z
UID:5743-1723248000-1723334399@www.goppca.com
SUMMARY:Girls Soccer Tourn @ Brookhaven
DESCRIPTION:Varsity – 8:00am until
URL:https://www.goppca.com/calendar/girls-soccer-tourn-brookhaven-2/
CATEGORIES:Athletics Calendar
END:VEVENT
BEGIN:VEVENT
DTSTART;TZID=America/Chicago:20240810T090000
DTEND;TZID=America/Chicago:20240810T233000
DTSTAMP:20260422T073254
CREATED:20240520T140906Z
LAST-MODIFIED:20240520T143056Z
UID:5710-1723280400-1723332600@www.goppca.com
SUMMARY:PPCA Pee Wee Football Jamboree
DESCRIPTION:9:00am \nRound 1 –\nPPCA vs DCS\nCHA vs BA \nRound 2 –\nPPCA vs CHA\nBA vs DCS \nRound 3 –\nBA vs PPCA\nCHA vs DCS
URL:https://www.goppca.com/calendar/pee-wee-football-jamboree/
LOCATION:Park Place Christian Academy\, 201 Park Place Drive\, Pearl\, MS\, 39208\, United States
CATEGORIES:Athletics Calendar
END:VEVENT
BEGIN:VEVENT
DTSTART;VALUE=DATE:20240812
DTEND;VALUE=DATE:20240813
DTSTAMP:20260422T073254
CREATED:20240521T161147Z
LAST-MODIFIED:20240805T202410Z
UID:5744-1723420800-1723507199@www.goppca.com
SUMMARY:Girls Soccer Game vs Brookhaven
DESCRIPTION:Varsity – 4:30pm
URL:https://www.goppca.com/calendar/girls-soccer-game-vs-brookhaven-3/
LOCATION:Park Place Christian Academy\, 201 Park Place Drive\, Pearl\, MS\, 39208\, United States
CATEGORIES:Athletics Calendar
END:VEVENT
BEGIN:VEVENT
DTSTART;VALUE=DATE:20240813
DTEND;VALUE=DATE:20240814
DTSTAMP:20260422T073254
CREATED:20240613T174101Z
LAST-MODIFIED:20240613T174101Z
UID:5789-1723507200-1723593599@www.goppca.com
SUMMARY:Softball Game vs East Rankin
DESCRIPTION:Varsity/JV – 4:00pm
URL:https://www.goppca.com/calendar/softball-game-vs-east-rankin/
LOCATION:Park Place Christian Academy\, 201 Park Place Drive\, Pearl\, MS\, 39208\, United States
CATEGORIES:Athletics Calendar
END:VEVENT
BEGIN:VEVENT
DTSTART;VALUE=DATE:20240815
DTEND;VALUE=DATE:20240816
DTSTAMP:20260422T073254
CREATED:20240613T174157Z
LAST-MODIFIED:20240613T174157Z
UID:5790-1723680000-1723766399@www.goppca.com
SUMMARY:Softball Game vs Wayne
DESCRIPTION:Varsity/JV – 4:00pm
URL:https://www.goppca.com/calendar/softball-game-vs-wayne/
LOCATION:Park Place Christian Academy\, 201 Park Place Drive\, Pearl\, MS\, 39208\, United States
CATEGORIES:Athletics Calendar
END:VEVENT
BEGIN:VEVENT
DTSTART;VALUE=DATE:20240819
DTEND;VALUE=DATE:20240820
DTSTAMP:20260422T073254
CREATED:20240521T161517Z
LAST-MODIFIED:20240819T140403Z
UID:5746-1724025600-1724111999@www.goppca.com
SUMMARY:Girls Soccer Game vs Forerunners
DESCRIPTION:Varsity – 3:00pm
URL:https://www.goppca.com/calendar/girls-soccer-game-vs-forerunners/
LOCATION:Park Place Christian Academy\, 201 Park Place Drive\, Pearl\, MS\, 39208\, United States
CATEGORIES:Athletics Calendar
END:VEVENT
BEGIN:VEVENT
DTSTART;VALUE=DATE:20240819
DTEND;VALUE=DATE:20240820
DTSTAMP:20260422T073254
CREATED:20240613T174315Z
LAST-MODIFIED:20240613T174315Z
UID:5791-1724025600-1724111999@www.goppca.com
SUMMARY:Softball Game @ Madison St Joe
DESCRIPTION:JV/Varsity – 5:00
URL:https://www.goppca.com/calendar/softball-game-madison-st-joe/
CATEGORIES:Athletics Calendar
END:VEVENT
BEGIN:VEVENT
DTSTART;TZID=America/Chicago:20240819T173000
DTEND;TZID=America/Chicago:20240819T193000
DTSTAMP:20260422T073254
CREATED:20240722T151552Z
LAST-MODIFIED:20240722T151552Z
UID:5969-1724088600-1724095800@www.goppca.com
SUMMARY:Meet the Secondary Teachers in Classrooms (Open House)
DESCRIPTION:Meet the Secondary Teachers in Classrooms (Open House)
URL:https://www.goppca.com/calendar/meet-the-secondary-teachers-in-classrooms-open-house/
CATEGORIES:Athletics Calendar,PPCA School Calendar
END:VEVENT
BEGIN:VEVENT
DTSTART;VALUE=DATE:20240820
DTEND;VALUE=DATE:20240821
DTSTAMP:20260422T073254
CREATED:20240520T142415Z
LAST-MODIFIED:20240520T142415Z
UID:5711-1724112000-1724198399@www.goppca.com
SUMMARY:Pee Wee Football Game vs Discovery Christian School
DESCRIPTION:5:00pm
URL:https://www.goppca.com/calendar/pee-wee-football-game-vs-discovery-christian-school-2/
LOCATION:Park Place Christian Academy\, 201 Park Place Drive\, Pearl\, MS\, 39208\, United States
CATEGORIES:Athletics Calendar
END:VEVENT
BEGIN:VEVENT
DTSTART;VALUE=DATE:20240820
DTEND;VALUE=DATE:20240821
DTSTAMP:20260422T073254
CREATED:20240520T160942Z
LAST-MODIFIED:20240520T161005Z
UID:5730-1724112000-1724198399@www.goppca.com
SUMMARY:JH Football Game vs Discovery Christian School
DESCRIPTION:6:30pm
URL:https://www.goppca.com/calendar/jh-football-game-vs-discovery-christian-school-2/
LOCATION:Park Place Christian Academy\, 201 Park Place Drive\, Pearl\, MS\, 39208\, United States
CATEGORIES:Athletics Calendar
END:VEVENT
BEGIN:VEVENT
DTSTART;VALUE=DATE:20240820
DTEND;VALUE=DATE:20240821
DTSTAMP:20260422T073254
CREATED:20240613T174429Z
LAST-MODIFIED:20240613T174429Z
UID:5792-1724112000-1724198399@www.goppca.com
SUMMARY:Softball Game @ Leake Academy
DESCRIPTION:JV/Varsity – 4:30pm
URL:https://www.goppca.com/calendar/softball-game-leake-academy-3/
LOCATION:Leake Academy\, 1 Rebel Dr\, Madden\, MS 39109\, Madden\, MS\, 39109\, United States
CATEGORIES:Athletics Calendar
END:VEVENT
BEGIN:VEVENT
DTSTART;VALUE=DATE:20240822
DTEND;VALUE=DATE:20240823
DTSTAMP:20260422T073254
CREATED:20240521T161719Z
LAST-MODIFIED:20240521T161719Z
UID:5748-1724284800-1724371199@www.goppca.com
SUMMARY:Girls Soccer Game vs Muddy River @ Freedom Ridge
DESCRIPTION:Varsity – 6:00pm
URL:https://www.goppca.com/calendar/girls-soccer-game-vs-muddy-river-freedom-ridge/
CATEGORIES:Athletics Calendar
END:VEVENT
BEGIN:VEVENT
DTSTART;VALUE=DATE:20240823
DTEND;VALUE=DATE:20240824
DTSTAMP:20260422T073254
CREATED:20240520T154415Z
LAST-MODIFIED:20240520T154415Z
UID:5720-1724371200-1724457599@www.goppca.com
SUMMARY:Varsity Football Game vs Ben's Ford Christian School
DESCRIPTION:7:00pm
URL:https://www.goppca.com/calendar/varsity-football-game-vs-bens-ford-christian-school/
LOCATION:Park Place Christian Academy\, 201 Park Place Drive\, Pearl\, MS\, 39208\, United States
CATEGORIES:Athletics Calendar
END:VEVENT
BEGIN:VEVENT
DTSTART;VALUE=DATE:20240826
DTEND;VALUE=DATE:20240827
DTSTAMP:20260422T073254
CREATED:20240822T170635Z
LAST-MODIFIED:20240828T165456Z
UID:6368-1724630400-1724716799@www.goppca.com
SUMMARY:Fall Sports Pictures
DESCRIPTION:Varsity/JH Cheer – 7:15am\nPee Wee Football – 8:05am after am announcements\nPee Wee Cheer – 8:30am\nJH Football – 8:50am on the football field\nPee Wee Basketball Girls and Boys (Due to the fact that we don’t have uniforms\, we still want a group picture for the program.  Please have your child wear their green polo and khaki bottoms.)\nJH Boys Basketball – 9:40\nGirls Soccer – 10:25\nBoys Soccer – 10:50\nFast Pitch Softball – 11:20\nJV/Varsity Girls Basketball – 11:55-12:30\nVarsity Football – 2:10\nJV/Var XC – 2:45
URL:https://www.goppca.com/calendar/fall-sports-pictures-2/
CATEGORIES:Athletics Calendar
END:VEVENT
BEGIN:VEVENT
DTSTART;VALUE=DATE:20240827
DTEND;VALUE=DATE:20240828
DTSTAMP:20260422T073254
CREATED:20240613T174523Z
LAST-MODIFIED:20240613T174523Z
UID:5793-1724716800-1724803199@www.goppca.com
SUMMARY:Softball Game vs Madison St Joe
DESCRIPTION:Varsity/JV – 4:00pm
URL:https://www.goppca.com/calendar/softball-game-vs-madison-st-joe/
LOCATION:Park Place Christian Academy\, 201 Park Place Drive\, Pearl\, MS\, 39208\, United States
CATEGORIES:Athletics Calendar
END:VEVENT
BEGIN:VEVENT
DTSTART;VALUE=DATE:20240829
DTEND;VALUE=DATE:20240830
DTSTAMP:20260422T073254
CREATED:20240520T142521Z
LAST-MODIFIED:20240827T174142Z
UID:5712-1724889600-1724975999@www.goppca.com
SUMMARY:Pee Wee Football Game @ Porter's Chapel Academy
DESCRIPTION:5:30pm
URL:https://www.goppca.com/calendar/pee-wee-football-game-porters-chapel-academy/
LOCATION:Porter’s Chapel\, 3460 Porters Chapel Rd\, Vicksburg\, Mississippi\, 39180
CATEGORIES:Athletics Calendar
END:VEVENT
BEGIN:VEVENT
DTSTART;VALUE=DATE:20240829
DTEND;VALUE=DATE:20240830
DTSTAMP:20260422T073254
CREATED:20240520T161100Z
LAST-MODIFIED:20240520T161100Z
UID:5731-1724889600-1724975999@www.goppca.com
SUMMARY:JH Football Game @ Porter's Chapel Academy
DESCRIPTION:6:30pm
URL:https://www.goppca.com/calendar/jh-football-game-porters-chapel-academy/
LOCATION:Porter’s Chapel\, 3460 Porters Chapel Rd\, Vicksburg\, Mississippi\, 39180
CATEGORIES:Athletics Calendar
END:VEVENT
BEGIN:VEVENT
DTSTART;VALUE=DATE:20240830
DTEND;VALUE=DATE:20240831
DTSTAMP:20260422T073254
CREATED:20240520T154546Z
LAST-MODIFIED:20240520T155611Z
UID:5721-1724976000-1725062399@www.goppca.com
SUMMARY:Varsity Football Game vs Discovery Christian School
DESCRIPTION:7:00pm
URL:https://www.goppca.com/calendar/varsity-football-game-vs-discovery-christian-school/
LOCATION:Park Place Christian Academy\, 201 Park Place Drive\, Pearl\, MS\, 39208\, United States
CATEGORIES:Athletics Calendar
END:VEVENT
BEGIN:VEVENT
DTSTART;VALUE=DATE:20240831
DTEND;VALUE=DATE:20240901
DTSTAMP:20260422T073254
CREATED:20240613T174624Z
LAST-MODIFIED:20240830T143441Z
UID:5794-1725062400-1725148799@www.goppca.com
SUMMARY:Softball Game @ Clinton Christian - CANCELLED
DESCRIPTION:JV-12:00pm  – CANCELLEDVarsity-1:30pm – CANCELLED
URL:https://www.goppca.com/calendar/softball-game-clinton-christian/
LOCATION:Clinton Christian\, 101 W. Northside Dr.\, Clinton\, Mississippi\, 39056
CATEGORIES:Athletics Calendar
END:VEVENT
BEGIN:VEVENT
DTSTART;VALUE=DATE:20240831
DTEND;VALUE=DATE:20240901
DTSTAMP:20260422T073254
CREATED:20240828T164543Z
LAST-MODIFIED:20240828T164543Z
UID:6466-1725062400-1725148799@www.goppca.com
SUMMARY:Memphis Twilight XC Meet
DESCRIPTION:5:30-Middle School(7th/8th only) Girls(2K)\n6:00-Middle School(7th/8th only) Boys(2K)\n6:30-JV Girls(5K)\n7:20-JV Boys(5K)
URL:https://www.goppca.com/calendar/memphis-twilight-xc-meet/
CATEGORIES:Athletics Calendar
END:VEVENT
END:VCALENDAR