BEGIN:VCALENDAR
VERSION:2.0
PRODID:-//Park Place Christian Academy - ECPv6.15.20//NONSGML v1.0//EN
CALSCALE:GREGORIAN
METHOD:PUBLISH
X-WR-CALNAME:Park Place Christian Academy
X-ORIGINAL-URL:https://www.goppca.com
X-WR-CALDESC:Events for Park Place Christian Academy
REFRESH-INTERVAL;VALUE=DURATION:PT1H
X-Robots-Tag:noindex
X-PUBLISHED-TTL:PT1H
BEGIN:VTIMEZONE
TZID:America/Chicago
BEGIN:DAYLIGHT
TZOFFSETFROM:-0600
TZOFFSETTO:-0500
TZNAME:CDT
DTSTART:20230312T080000
END:DAYLIGHT
BEGIN:STANDARD
TZOFFSETFROM:-0500
TZOFFSETTO:-0600
TZNAME:CST
DTSTART:20231105T070000
END:STANDARD
BEGIN:DAYLIGHT
TZOFFSETFROM:-0600
TZOFFSETTO:-0500
TZNAME:CDT
DTSTART:20240310T080000
END:DAYLIGHT
BEGIN:STANDARD
TZOFFSETFROM:-0500
TZOFFSETTO:-0600
TZNAME:CST
DTSTART:20241103T070000
END:STANDARD
BEGIN:DAYLIGHT
TZOFFSETFROM:-0600
TZOFFSETTO:-0500
TZNAME:CDT
DTSTART:20250309T080000
END:DAYLIGHT
BEGIN:STANDARD
TZOFFSETFROM:-0500
TZOFFSETTO:-0600
TZNAME:CST
DTSTART:20251102T070000
END:STANDARD
END:VTIMEZONE
BEGIN:VEVENT
DTSTART;VALUE=DATE:20240902
DTEND;VALUE=DATE:20240903
DTSTAMP:20260422T061451
CREATED:20240722T151635Z
LAST-MODIFIED:20240722T151636Z
UID:5970-1725235200-1725321599@www.goppca.com
SUMMARY:NO SCHOOL: Labor Day
DESCRIPTION:NO SCHOOL: Labor Day
URL:https://www.goppca.com/calendar/no-school-labor-day-2/
CATEGORIES:Athletics Calendar,PPCA School Calendar
END:VEVENT
BEGIN:VEVENT
DTSTART;VALUE=DATE:20240903
DTEND;VALUE=DATE:20240904
DTSTAMP:20260422T061451
CREATED:20240521T162003Z
LAST-MODIFIED:20240815T190509Z
UID:5750-1725321600-1725407999@www.goppca.com
SUMMARY:Girls Soccer Game vs Copiah Academy
DESCRIPTION:Varsity – 5:30pm
URL:https://www.goppca.com/calendar/girls-soccer-game-vs-copiah-academy-2/
LOCATION:Park Place Christian Academy\, 201 Park Place Drive\, Pearl\, MS\, 39208\, United States
CATEGORIES:Athletics Calendar
END:VEVENT
BEGIN:VEVENT
DTSTART;VALUE=DATE:20240903
DTEND;VALUE=DATE:20240904
DTSTAMP:20260422T061451
CREATED:20240613T174709Z
LAST-MODIFIED:20240613T174709Z
UID:5795-1725321600-1725407999@www.goppca.com
SUMMARY:Softball Game @ Simpson
DESCRIPTION:JV/Varsity – 5:00pm
URL:https://www.goppca.com/calendar/softball-game-simpson/
LOCATION:Simpson Academy\, 124 Academy Circle\, Mendenhall\, MS\, 39114
CATEGORIES:Athletics Calendar
END:VEVENT
BEGIN:VEVENT
DTSTART;VALUE=DATE:20240905
DTEND;VALUE=DATE:20240906
DTSTAMP:20260422T061451
CREATED:20240521T162119Z
LAST-MODIFIED:20240905T192651Z
UID:5751-1725494400-1725580799@www.goppca.com
SUMMARY:Girls Soccer Game vs East Rankin - CANCELLED
DESCRIPTION:Varsity – 4:00pm CANCELLED
URL:https://www.goppca.com/calendar/girls-soccer-game-vs-east-rankin-5/
CATEGORIES:Athletics Calendar
END:VEVENT
BEGIN:VEVENT
DTSTART;VALUE=DATE:20240906
DTEND;VALUE=DATE:20240907
DTSTAMP:20260422T061451
CREATED:20240520T155707Z
LAST-MODIFIED:20240520T155707Z
UID:5722-1725580800-1725667199@www.goppca.com
SUMMARY:Varsity Football Game @ Prentiss Christian School
DESCRIPTION:7:00pm
URL:https://www.goppca.com/calendar/varsity-football-game-prentiss-christian-school/
LOCATION:Prentiss Christian\, 1643 Amanda St\, Prentiss\, Ms\, 39474
CATEGORIES:Athletics Calendar
END:VEVENT
BEGIN:VEVENT
DTSTART;VALUE=DATE:20240907
DTEND;VALUE=DATE:20240908
DTSTAMP:20260422T061451
CREATED:20240828T165016Z
LAST-MODIFIED:20240828T165329Z
UID:6469-1725667200-1725753599@www.goppca.com
SUMMARY:MC XC Opener @ Choctaw Trails
DESCRIPTION:9:45-Girls(4K)\n10:15-Boys(4K)\n10:45-Girls(3K)\n11:15-Boys(3K)
URL:https://www.goppca.com/calendar/mc-xc-opener/
CATEGORIES:Athletics Calendar
END:VEVENT
BEGIN:VEVENT
DTSTART;VALUE=DATE:20240909
DTEND;VALUE=DATE:20240910
DTSTAMP:20260422T061451
CREATED:20240613T174829Z
LAST-MODIFIED:20240909T132804Z
UID:5796-1725840000-1725926399@www.goppca.com
SUMMARY:Softball Game @ East Rankin
DESCRIPTION:Varsity/JV – 4:00pm
URL:https://www.goppca.com/calendar/softball-game-east-rankin-2/
LOCATION:East Rankin Academy\, 400 MS-43\, Pelahatchie\, MS\, 39145
CATEGORIES:Athletics Calendar
END:VEVENT
BEGIN:VEVENT
DTSTART;TZID=America/Chicago:20240909T180000
DTEND;TZID=America/Chicago:20240909T190000
DTSTAMP:20260422T061451
CREATED:20240906T135115Z
LAST-MODIFIED:20240906T135115Z
UID:6742-1725904800-1725908400@www.goppca.com
SUMMARY:'Sader Club Meeting
DESCRIPTION:6:00pm – Boatner Hall
URL:https://www.goppca.com/calendar/sader-club-meeting/
CATEGORIES:Athletics Calendar
END:VEVENT
BEGIN:VEVENT
DTSTART;VALUE=DATE:20240910
DTEND;VALUE=DATE:20240911
DTSTAMP:20260422T061451
CREATED:20240521T161616Z
LAST-MODIFIED:20240815T190322Z
UID:5747-1725926400-1726012799@www.goppca.com
SUMMARY:Girls Soccer Game vs Manchester
DESCRIPTION:Varsity – 5:00pm
URL:https://www.goppca.com/calendar/girls-soccer-game-vs-manchester-2/
LOCATION:Park Place Christian Academy\, 201 Park Place Drive\, Pearl\, MS\, 39208\, United States
CATEGORIES:Athletics Calendar
END:VEVENT
BEGIN:VEVENT
DTSTART;VALUE=DATE:20240910
DTEND;VALUE=DATE:20240911
DTSTAMP:20260422T061451
CREATED:20240613T174918Z
LAST-MODIFIED:20240613T174918Z
UID:5797-1725926400-1726012799@www.goppca.com
SUMMARY:Softball Game @ Wayne
DESCRIPTION:Varsity/JV – 5:00pm
URL:https://www.goppca.com/calendar/softball-game-wayne/
LOCATION:Wayne Academy\, 46 Joe Jordan Rd\, Waynesboro\, MS\, 39367\, United States
CATEGORIES:Athletics Calendar
END:VEVENT
BEGIN:VEVENT
DTSTART;VALUE=DATE:20240911
DTEND;VALUE=DATE:20240912
DTSTAMP:20260422T061451
CREATED:20240906T165550Z
LAST-MODIFIED:20240910T174310Z
UID:6749-1726012800-1726099199@www.goppca.com
SUMMARY:Girls Soccer Game vs East Rankin-POSTPONED
DESCRIPTION:Varsity – 3:00pm– POSTPONED – DATE – TBD
URL:https://www.goppca.com/calendar/girls-soccer-game-vs-east-rankin-6/
CATEGORIES:Athletics Calendar
END:VEVENT
BEGIN:VEVENT
DTSTART;VALUE=DATE:20240912
DTEND;VALUE=DATE:20240913
DTSTAMP:20260422T061451
CREATED:20240827T163446Z
LAST-MODIFIED:20240912T154340Z
UID:6425-1726099200-1726185599@www.goppca.com
SUMMARY:Pee Wee Football Game vs Sylva-Bay Academy
DESCRIPTION:5:00pm-CANCELLED
URL:https://www.goppca.com/calendar/pee-wee-football-game-vs-sylva-bay-academy/
CATEGORIES:Athletics Calendar
END:VEVENT
BEGIN:VEVENT
DTSTART;VALUE=DATE:20240912
DTEND;VALUE=DATE:20240913
DTSTAMP:20260422T061451
CREATED:20240904T133617Z
LAST-MODIFIED:20240912T154438Z
UID:6621-1726099200-1726185599@www.goppca.com
SUMMARY:JH Football Game vs Sylva Bay-CANCELLED
DESCRIPTION:6:30pm-CANCELLED
URL:https://www.goppca.com/calendar/jh-football-game-vs-sylva-bay/
LOCATION:Park Place Christian Academy\, 201 Park Place Drive\, Pearl\, MS\, 39208\, United States
CATEGORIES:Athletics Calendar
END:VEVENT
BEGIN:VEVENT
DTSTART;VALUE=DATE:20240912
DTEND;VALUE=DATE:20240913
DTSTAMP:20260422T061451
CREATED:20240521T162223Z
LAST-MODIFIED:20240912T154616Z
UID:5752-1726099200-1726185599@www.goppca.com
SUMMARY:Girls Soccer Game @ St. Augustine-CANCELLED
DESCRIPTION:Varsity – 5:30pm – CANCELLED
URL:https://www.goppca.com/calendar/girls-soccer-game-st-augustine-2/
CATEGORIES:Athletics Calendar
END:VEVENT
BEGIN:VEVENT
DTSTART;VALUE=DATE:20240913
DTEND;VALUE=DATE:20240914
DTSTAMP:20260422T061451
CREATED:20240520T155757Z
LAST-MODIFIED:20240520T155757Z
UID:5723-1726185600-1726271999@www.goppca.com
SUMMARY:Varsity Football Game @ Hillcrest Christian School
DESCRIPTION:7:00pm
URL:https://www.goppca.com/calendar/varsity-football-game-hillcrest-christian-school/
LOCATION:Hillcrest Christian School 4060 S Siwell Rd\, Jackson\, MS 39212\, 4060 S. Siwell Rd\, Jackson\, MS\, 39212
CATEGORIES:Athletics Calendar
END:VEVENT
BEGIN:VEVENT
DTSTART;VALUE=DATE:20240916
DTEND;VALUE=DATE:20240917
DTSTAMP:20260422T061451
CREATED:20240521T162322Z
LAST-MODIFIED:20240912T181721Z
UID:5753-1726444800-1726531199@www.goppca.com
SUMMARY:Girls Soccer Game @ St. Al
DESCRIPTION:Varsity – 6:30pm
URL:https://www.goppca.com/calendar/girls-soccer-game-st-al/
CATEGORIES:Athletics Calendar
END:VEVENT
BEGIN:VEVENT
DTSTART;VALUE=DATE:20240916
DTEND;VALUE=DATE:20240917
DTSTAMP:20260422T061451
CREATED:20240613T175016Z
LAST-MODIFIED:20240613T175016Z
UID:5798-1726444800-1726531199@www.goppca.com
SUMMARY:Softball Game vs Leake Academy
DESCRIPTION:Varsity/JV – 4:00pm
URL:https://www.goppca.com/calendar/softball-game-vs-leake-academy-3/
LOCATION:Park Place Christian Academy\, 201 Park Place Drive\, Pearl\, MS\, 39208\, United States
CATEGORIES:Athletics Calendar
END:VEVENT
BEGIN:VEVENT
DTSTART;VALUE=DATE:20240916
DTEND;VALUE=DATE:20240917
DTSTAMP:20260422T061451
CREATED:20240828T165240Z
LAST-MODIFIED:20240916T170545Z
UID:6471-1726444800-1726531199@www.goppca.com
SUMMARY:JA XC Meet @ Quarry Trails
DESCRIPTION:3:00-JV Girls(3K)\n3:30-JV Boys(3K)\n4:00-Varsity Girls(5K)\n4:30-Varsity Boys(5K)
URL:https://www.goppca.com/calendar/ja-xc-meet-quarry-trails/
CATEGORIES:Athletics Calendar
END:VEVENT
BEGIN:VEVENT
DTSTART;VALUE=DATE:20240917
DTEND;VALUE=DATE:20240918
DTSTAMP:20260422T061451
CREATED:20240613T175122Z
LAST-MODIFIED:20240912T182729Z
UID:5799-1726531200-1726617599@www.goppca.com
SUMMARY:Var/JV Softball Game vs Jackson Academy - SENIOR NIGHT
DESCRIPTION:SENIOR RECOGNITION – 3:30pm\nVarsity – 4:00pm\nJV – 5:30pm
URL:https://www.goppca.com/calendar/softball-game-vs-jackson-academy-senior-night/
LOCATION:Park Place Christian Academy\, 201 Park Place Drive\, Pearl\, MS\, 39208\, United States
CATEGORIES:Athletics Calendar
END:VEVENT
BEGIN:VEVENT
DTSTART;VALUE=DATE:20240918
DTEND;VALUE=DATE:20240919
DTSTAMP:20260422T061451
CREATED:20240911T155442Z
LAST-MODIFIED:20240911T155442Z
UID:6775-1726617600-1726703999@www.goppca.com
SUMMARY:Girls Soccer Game vs ERA
DESCRIPTION:3:00pm
URL:https://www.goppca.com/calendar/girls-soccer-game-vs-era/
CATEGORIES:Athletics Calendar
END:VEVENT
BEGIN:VEVENT
DTSTART;VALUE=DATE:20240919
DTEND;VALUE=DATE:20240920
DTSTAMP:20260422T061451
CREATED:20240520T142718Z
LAST-MODIFIED:20240520T142718Z
UID:5714-1726704000-1726790399@www.goppca.com
SUMMARY:Pee Wee Football Game vs Benton Academy
DESCRIPTION:5:00pm
URL:https://www.goppca.com/calendar/pee-wee-football-game-vs-benton-academy/
CATEGORIES:Athletics Calendar
END:VEVENT
BEGIN:VEVENT
DTSTART;VALUE=DATE:20240919
DTEND;VALUE=DATE:20240920
DTSTAMP:20260422T061451
CREATED:20240520T161422Z
LAST-MODIFIED:20240520T161437Z
UID:5733-1726704000-1726790399@www.goppca.com
SUMMARY:JH Football Game vs Benton Academy
DESCRIPTION:6:30pm
URL:https://www.goppca.com/calendar/jh-football-game-vs-benton-academy/
LOCATION:Park Place Christian Academy\, 201 Park Place Drive\, Pearl\, MS\, 39208\, United States
CATEGORIES:Athletics Calendar
END:VEVENT
BEGIN:VEVENT
DTSTART;VALUE=DATE:20240919
DTEND;VALUE=DATE:20240920
DTSTAMP:20260422T061451
CREATED:20240521T162421Z
LAST-MODIFIED:20240815T190745Z
UID:5754-1726704000-1726790399@www.goppca.com
SUMMARY:Girls Soccer Game @ East Rankin
DESCRIPTION:Varsity – 5:30pm
URL:https://www.goppca.com/calendar/girls-soccer-game-east-rankin-2/
LOCATION:East Rankin Academy\, 400 MS-43\, Pelahatchie\, MS\, 39145
CATEGORIES:Athletics Calendar
END:VEVENT
BEGIN:VEVENT
DTSTART;VALUE=DATE:20240919
DTEND;VALUE=DATE:20240920
DTSTAMP:20260422T061451
CREATED:20240909T153756Z
LAST-MODIFIED:20240909T154239Z
UID:6759-1726704000-1726790399@www.goppca.com
SUMMARY:Senior Banner Pics for Winter Sports
DESCRIPTION:12:00pm – Upstairs Gathering Area in 201 bldg
URL:https://www.goppca.com/calendar/senior-banner-pics-for-winter-sports/
CATEGORIES:Athletics Calendar
END:VEVENT
BEGIN:VEVENT
DTSTART;VALUE=DATE:20240920
DTEND;VALUE=DATE:20240921
DTSTAMP:20260422T061451
CREATED:20240520T155847Z
LAST-MODIFIED:20240520T155858Z
UID:5724-1726790400-1726876799@www.goppca.com
SUMMARY:Varsity Football Game vs Porter's Chapel Academy
DESCRIPTION:7:00pm
URL:https://www.goppca.com/calendar/varsity-football-game-vs-porters-chapel-academy/
LOCATION:Park Place Christian Academy\, 201 Park Place Drive\, Pearl\, MS\, 39208\, United States
CATEGORIES:Athletics Calendar
END:VEVENT
BEGIN:VEVENT
DTSTART;VALUE=DATE:20240921
DTEND;VALUE=DATE:20240922
DTSTAMP:20260422T061451
CREATED:20240815T190909Z
LAST-MODIFIED:20240815T190909Z
UID:6322-1726876800-1726963199@www.goppca.com
SUMMARY:Girls JV Soccer Tourn @ Brookhaven
DESCRIPTION:8:00am until 2:00pm
URL:https://www.goppca.com/calendar/girls-jv-soccer-tourn-brookhaven/
CATEGORIES:Athletics Calendar
END:VEVENT
BEGIN:VEVENT
DTSTART;VALUE=DATE:20240923
DTEND;VALUE=DATE:20240924
DTSTAMP:20260422T061451
CREATED:20240521T162514Z
LAST-MODIFIED:20240521T162514Z
UID:5755-1727049600-1727135999@www.goppca.com
SUMMARY:Girls Soccer Game @ Copiah Academy
DESCRIPTION:Varsity – 6:00pm
URL:https://www.goppca.com/calendar/girls-soccer-game-copiah-academy-2/
CATEGORIES:Athletics Calendar
END:VEVENT
BEGIN:VEVENT
DTSTART;VALUE=DATE:20240923
DTEND;VALUE=DATE:20240924
DTSTAMP:20260422T061451
CREATED:20240613T180042Z
LAST-MODIFIED:20240828T170016Z
UID:5802-1727049600-1727135999@www.goppca.com
SUMMARY:Simpson XC Meet @ Neely Farms
DESCRIPTION:4:00-JV Girls(2 mile)\n4:30-JV Boys(2 mile)\n5:00-Varsity Girls(5K)\n5:30-Varsity Boys(5K)
URL:https://www.goppca.com/calendar/simpson-cross-country-meet/
CATEGORIES:Athletics Calendar
END:VEVENT
BEGIN:VEVENT
DTSTART;VALUE=DATE:20240924
DTEND;VALUE=DATE:20240925
DTSTAMP:20260422T061451
CREATED:20240521T162650Z
LAST-MODIFIED:20240815T191001Z
UID:5756-1727136000-1727222399@www.goppca.com
SUMMARY:Girls Soccer Game vs Adams Christian
DESCRIPTION:Varsity – 4:30pm
URL:https://www.goppca.com/calendar/girls-soccer-game-vs-adams-christian-senior-night/
LOCATION:Park Place Christian Academy\, 201 Park Place Drive\, Pearl\, MS\, 39208\, United States
CATEGORIES:Athletics Calendar
END:VEVENT
BEGIN:VEVENT
DTSTART;VALUE=DATE:20240926
DTEND;VALUE=DATE:20240927
DTSTAMP:20260422T061451
CREATED:20240520T142811Z
LAST-MODIFIED:20240520T142811Z
UID:5715-1727308800-1727395199@www.goppca.com
SUMMARY:Pee Wee Football Game vs Madison St. Joe
DESCRIPTION:5:00pm
URL:https://www.goppca.com/calendar/pee-wee-football-game-vs-madison-st-joe/
CATEGORIES:Athletics Calendar
END:VEVENT
END:VCALENDAR