BEGIN:VCALENDAR
VERSION:2.0
PRODID:-//Park Place Christian Academy - ECPv6.15.20//NONSGML v1.0//EN
CALSCALE:GREGORIAN
METHOD:PUBLISH
X-ORIGINAL-URL:https://www.goppca.com
X-WR-CALDESC:Events for Park Place Christian Academy
REFRESH-INTERVAL;VALUE=DURATION:PT1H
X-Robots-Tag:noindex
X-PUBLISHED-TTL:PT1H
BEGIN:VTIMEZONE
TZID:America/Chicago
BEGIN:DAYLIGHT
TZOFFSETFROM:-0600
TZOFFSETTO:-0500
TZNAME:CDT
DTSTART:20230312T080000
END:DAYLIGHT
BEGIN:STANDARD
TZOFFSETFROM:-0500
TZOFFSETTO:-0600
TZNAME:CST
DTSTART:20231105T070000
END:STANDARD
BEGIN:DAYLIGHT
TZOFFSETFROM:-0600
TZOFFSETTO:-0500
TZNAME:CDT
DTSTART:20240310T080000
END:DAYLIGHT
BEGIN:STANDARD
TZOFFSETFROM:-0500
TZOFFSETTO:-0600
TZNAME:CST
DTSTART:20241103T070000
END:STANDARD
BEGIN:DAYLIGHT
TZOFFSETFROM:-0600
TZOFFSETTO:-0500
TZNAME:CDT
DTSTART:20250309T080000
END:DAYLIGHT
BEGIN:STANDARD
TZOFFSETFROM:-0500
TZOFFSETTO:-0600
TZNAME:CST
DTSTART:20251102T070000
END:STANDARD
END:VTIMEZONE
BEGIN:VEVENT
DTSTART;VALUE=DATE:20241104
DTEND;VALUE=DATE:20241105
DTSTAMP:20260422T032446
CREATED:20240903T132719Z
LAST-MODIFIED:20241101T141759Z
UID:6551-1730678400-1730764799@www.goppca.com
SUMMARY:7th Gr Boys/JH/Var Basketball Game vs Discovery
DESCRIPTION:7th gr boys -3:15pmjh girls – 4:00pmjh boys – 5:00pmVar Girls – 6:00pmVar Boys – 7:30pm
URL:https://www.goppca.com/calendar/jh-var-basketball-game-vs-discovery/
LOCATION:Pearl Gym\, 2420 Old Brandon Rd\, Pearl\, MS\, 39042
CATEGORIES:Athletics Calendar
END:VEVENT
BEGIN:VEVENT
DTSTART;VALUE=DATE:20241107
DTEND;VALUE=DATE:20241108
DTSTAMP:20260422T032446
CREATED:20240903T133000Z
LAST-MODIFIED:20241025T150325Z
UID:6554-1730937600-1731023999@www.goppca.com
SUMMARY:JH Girls/Boys\, Var Girls/Boys Basketball Game
DESCRIPTION:jh girls- 4:00pm\njh boys – 5:00pm\nVarsity Girls – 6:00pm\nVarsity Boys – 7:30pm
URL:https://www.goppca.com/calendar/jh-boys-var-girls-boys-basketball-game/
LOCATION:Pearl Gym\, 2420 Old Brandon Rd\, Pearl\, MS\, 39042
CATEGORIES:Athletics Calendar
END:VEVENT
BEGIN:VEVENT
DTSTART;VALUE=DATE:20241107
DTEND;VALUE=DATE:20241108
DTSTAMP:20260422T032446
CREATED:20241105T172751Z
LAST-MODIFIED:20241105T172820Z
UID:7020-1730937600-1731023999@www.goppca.com
SUMMARY:Skeet Shooting Competition @ Turcotte Shooting Range
DESCRIPTION:11:30am
URL:https://www.goppca.com/calendar/skeet-shooting-competition-turcotte-shooting-range/
CATEGORIES:Athletics Calendar
END:VEVENT
BEGIN:VEVENT
DTSTART;VALUE=DATE:20241109
DTEND;VALUE=DATE:20241110
DTSTAMP:20260422T032446
CREATED:20241031T151049Z
LAST-MODIFIED:20241107T185240Z
UID:6974-1731110400-1731196799@www.goppca.com
SUMMARY:Pee Wee Basketball Game @ Central Hinds
DESCRIPTION:5th grade girls – 9:00am\n5th grade boys – 10:00am\n6th Grade Girls – 11:00pm\n6th Grade Boys – 12:00pm
URL:https://www.goppca.com/calendar/pee-wee-basketball-game-central-hinds-3/
LOCATION:Central Hinds Academy\, 2894 Raymond Bolton Rd\, Raymond\, MS\, 39154
CATEGORIES:Athletics Calendar
END:VEVENT
BEGIN:VEVENT
DTSTART;VALUE=DATE:20241111
DTEND;VALUE=DATE:20241112
DTSTAMP:20260422T032446
CREATED:20240903T134501Z
LAST-MODIFIED:20240903T134501Z
UID:6556-1731283200-1731369599@www.goppca.com
SUMMARY:7th Grade Girls\, JH/Var Basketball Game @ Copiah Academy
DESCRIPTION:7th grade girls – 3:00pm\njh girls – 4:00pm\njh boys – 5:00pm\nVarsity Girls – 6:00pm\nVarsity Boys – 7:30pm
URL:https://www.goppca.com/calendar/7th-grade-girls-jh-var-basketball-game-copiah-academy/
CATEGORIES:Athletics Calendar
END:VEVENT
BEGIN:VEVENT
DTSTART;VALUE=DATE:20241112
DTEND;VALUE=DATE:20241113
DTSTAMP:20260422T032446
CREATED:20241031T151316Z
LAST-MODIFIED:20241031T151357Z
UID:6976-1731369600-1731455999@www.goppca.com
SUMMARY:Pee Wee Basketball Game vs Christ Covenant
DESCRIPTION:5th grade girls – 4:30pm\n5th grade boys – 5:15pm\n6th Grade Girls – 6:00pm\n6th Grade Boys – 7:00pm
URL:https://www.goppca.com/calendar/pee-wee-basketball-game-vs-christ-covenant-4/
LOCATION:PPCA Campus Gym\, 5701 Hwy 80 East\, Pearl\, MS\, 39208
CATEGORIES:Athletics Calendar
END:VEVENT
BEGIN:VEVENT
DTSTART;VALUE=DATE:20241114
DTEND;VALUE=DATE:20241115
DTSTAMP:20260422T032446
CREATED:20240903T134623Z
LAST-MODIFIED:20241112T183426Z
UID:6558-1731542400-1731628799@www.goppca.com
SUMMARY:JH boys b team game/JH/Var Basketball Game vs ACCS
DESCRIPTION:jh boys b team – 3:00pm\njh girls – 4:00pm\njh boys – 5:00pm\nVarsity Girls – 6:00pm\nVarsity Boys – 7:30pm
URL:https://www.goppca.com/calendar/jh-var-basketball-game-vs-accs/
LOCATION:Pearl Gym\, 2420 Old Brandon Rd\, Pearl\, MS\, 39042
CATEGORIES:Athletics Calendar
END:VEVENT
BEGIN:VEVENT
DTSTART;VALUE=DATE:20241115
DTEND;VALUE=DATE:20241116
DTSTAMP:20260422T032446
CREATED:20240903T134826Z
LAST-MODIFIED:20241111T160015Z
UID:6560-1731628800-1731715199@www.goppca.com
SUMMARY:JH/Var Basketball Game @ Columbia Academy - CANCELLED
DESCRIPTION:jh girls – 4:00pm\njh boys – 5:00pm\nVar Girls – 6:00pm\nVar Boys – 7:30pm
URL:https://www.goppca.com/calendar/jh-var-basketball-game-columbia-academy/
CATEGORIES:Athletics Calendar
END:VEVENT
BEGIN:VEVENT
DTSTART;VALUE=DATE:20241118
DTEND;VALUE=DATE:20241119
DTSTAMP:20260422T032446
CREATED:20240903T135012Z
LAST-MODIFIED:20240903T135012Z
UID:6562-1731888000-1731974399@www.goppca.com
SUMMARY:7th Grade Boys\, JH/Var Basketball Game vs Starkville Academy
DESCRIPTION:7th grade boys – 3:00pm\njh girls – 4:00pm\njh boys – 5:00pm\nVar Girls – 6:00pm\nVar Boys – 7:30pm
URL:https://www.goppca.com/calendar/7th-grade-boys-jh-var-basketball-game-vs-starkville-academy/
LOCATION:Pearl Gym\, 2420 Old Brandon Rd\, Pearl\, MS\, 39042
CATEGORIES:Athletics Calendar
END:VEVENT
BEGIN:VEVENT
DTSTART;VALUE=DATE:20241118
DTEND;VALUE=DATE:20241119
DTSTAMP:20260422T032446
CREATED:20241031T151609Z
LAST-MODIFIED:20241031T151639Z
UID:6978-1731888000-1731974399@www.goppca.com
SUMMARY:Pee Wee Basketball Game @ Christ Covenant
DESCRIPTION:5th grade girls – 4:00pm\n5th grade boys – 5:00pm\n6th Grade Girls – 6:00pm\n6th Grade Boys – 7:00pm
URL:https://www.goppca.com/calendar/pee-wee-basketball-game-christ-covenant-3/
LOCATION:Christ Covenant\, 752 S Pear Orchard Rd\, Ridgeland\, MS\, 39157
CATEGORIES:Athletics Calendar
END:VEVENT
BEGIN:VEVENT
DTSTART;VALUE=DATE:20241121
DTEND;VALUE=DATE:20241122
DTSTAMP:20260422T032446
CREATED:20240903T135137Z
LAST-MODIFIED:20240903T135137Z
UID:6564-1732147200-1732233599@www.goppca.com
SUMMARY:JH/Var Basketball Game vs Cathedral
DESCRIPTION:jh girls – 4:00pm\njh boys – 5:00pm\nVar Girls – 6:00pm\nVar Boys – 7:30pm
URL:https://www.goppca.com/calendar/jh-var-basketball-game-vs-cathedral/
CATEGORIES:Athletics Calendar
END:VEVENT
BEGIN:VEVENT
DTSTART;VALUE=DATE:20241121
DTEND;VALUE=DATE:20241122
DTSTAMP:20260422T032446
CREATED:20241025T172012Z
LAST-MODIFIED:20241029T153354Z
UID:6968-1732147200-1732233599@www.goppca.com
SUMMARY:Pee Wee Basketball & Shooting Team Pics by Bruckners
DESCRIPTION:Pee Wee Basketball – 8:10am\nShooting Team – 8:45am \n 
URL:https://www.goppca.com/calendar/pee-wee-basketball-shooting-team-pics-by-bruckners/
CATEGORIES:Athletics Calendar
END:VEVENT
BEGIN:VEVENT
DTSTART;VALUE=DATE:20241121
DTEND;VALUE=DATE:20241122
DTSTAMP:20260422T032446
CREATED:20241031T151825Z
LAST-MODIFIED:20241031T151842Z
UID:6980-1732147200-1732233599@www.goppca.com
SUMMARY:Pee Wee Basketball Game vs 1st Pres
DESCRIPTION:5th grade girls – 4:30pm\n5th grade boys – 5:15pm\n6th Grade Girls – 6:00pm\n6th Grade Boys – 7:00pm
URL:https://www.goppca.com/calendar/pee-wee-basketball-game-vs-1st-pres-3/
LOCATION:PPCA Campus Gym\, 5701 Hwy 80 East\, Pearl\, MS\, 39208
CATEGORIES:Athletics Calendar
END:VEVENT
BEGIN:VEVENT
DTSTART;VALUE=DATE:20241122
DTEND;VALUE=DATE:20241123
DTSTAMP:20260422T032446
CREATED:20240903T140839Z
LAST-MODIFIED:20241101T142134Z
UID:6566-1732233600-1732319999@www.goppca.com
SUMMARY:7th gr girls/JH/Var Basketball Game @ Discovery
DESCRIPTION:7th grade girls – 3:15pm\njh girls – 4:00pm\njh boys – 5:00pm\nVar Girls – 6:00pm\nVar Boys – 7:30pm
URL:https://www.goppca.com/calendar/jh-var-basketball-game-discovery/
LOCATION:Discovery Christian\, 111 Wesley Cir\, Florence\, MS\, 39073
CATEGORIES:Athletics Calendar
END:VEVENT
BEGIN:VEVENT
DTSTART;VALUE=DATE:20241125
DTEND;VALUE=DATE:20241130
DTSTAMP:20260422T032446
CREATED:20240722T152516Z
LAST-MODIFIED:20240722T152516Z
UID:5991-1732492800-1732924799@www.goppca.com
SUMMARY:NO SCHOOL: Thanksgiving Break
DESCRIPTION:NO SCHOOL: Thanksgiving Break
URL:https://www.goppca.com/calendar/no-school-thanksgiving-break-3/
CATEGORIES:Athletics Calendar,PPCA School Calendar
END:VEVENT
BEGIN:VEVENT
DTSTART;VALUE=DATE:20241125
DTEND;VALUE=DATE:20241126
DTSTAMP:20260422T032446
CREATED:20240903T141032Z
LAST-MODIFIED:20241122T170304Z
UID:6568-1732492800-1732579199@www.goppca.com
SUMMARY:Boys B-Team\, JH/Var Basketball Game @ Canton Academy
DESCRIPTION:b b-team – 12:30\njh girls – 1:00pm\njh boys – 2:00pm\nVar Girls – 3:00pm\nVar Boys – 4:30pm
URL:https://www.goppca.com/calendar/jh-var-basketball-game-canton-academy/
LOCATION:Canton Academy\, 365 Van Buren St\, Canton\, MS\, 39046
CATEGORIES:Athletics Calendar
END:VEVENT
END:VCALENDAR