BEGIN:VCALENDAR
VERSION:2.0
PRODID:-//Park Place Christian Academy - ECPv6.15.20//NONSGML v1.0//EN
CALSCALE:GREGORIAN
METHOD:PUBLISH
X-WR-CALNAME:Park Place Christian Academy
X-ORIGINAL-URL:https://www.goppca.com
X-WR-CALDESC:Events for Park Place Christian Academy
REFRESH-INTERVAL;VALUE=DURATION:PT1H
X-Robots-Tag:noindex
X-PUBLISHED-TTL:PT1H
BEGIN:VTIMEZONE
TZID:America/Chicago
BEGIN:DAYLIGHT
TZOFFSETFROM:-0600
TZOFFSETTO:-0500
TZNAME:CDT
DTSTART:20240310T080000
END:DAYLIGHT
BEGIN:STANDARD
TZOFFSETFROM:-0500
TZOFFSETTO:-0600
TZNAME:CST
DTSTART:20241103T070000
END:STANDARD
BEGIN:DAYLIGHT
TZOFFSETFROM:-0600
TZOFFSETTO:-0500
TZNAME:CDT
DTSTART:20250309T080000
END:DAYLIGHT
BEGIN:STANDARD
TZOFFSETFROM:-0500
TZOFFSETTO:-0600
TZNAME:CST
DTSTART:20251102T070000
END:STANDARD
BEGIN:DAYLIGHT
TZOFFSETFROM:-0600
TZOFFSETTO:-0500
TZNAME:CDT
DTSTART:20260308T080000
END:DAYLIGHT
BEGIN:STANDARD
TZOFFSETFROM:-0500
TZOFFSETTO:-0600
TZNAME:CST
DTSTART:20261101T070000
END:STANDARD
END:VTIMEZONE
BEGIN:VEVENT
DTSTART;VALUE=DATE:20250201
DTEND;VALUE=DATE:20250202
DTSTAMP:20260421T225445
CREATED:20250131T164157Z
LAST-MODIFIED:20250131T165942Z
UID:7473-1738368000-1738454399@www.goppca.com
SUMMARY:Varsity District Tourn @ Lamar School
DESCRIPTION:Varsity Boys vs Wayne Academy – 1:15pm
URL:https://www.goppca.com/calendar/varsity-district-tourn-lamar-school/
CATEGORIES:Athletics Calendar
END:VEVENT
BEGIN:VEVENT
DTSTART;VALUE=DATE:20250203
DTEND;VALUE=DATE:20250204
DTSTAMP:20260421T225445
CREATED:20250124T164022Z
LAST-MODIFIED:20250127T151143Z
UID:7330-1738540800-1738627199@www.goppca.com
SUMMARY:Cheer Interest Meeting (Current 6th-11th Gr Girls)
DESCRIPTION:5:45pm in the upstairs chapel room of the 201 building
URL:https://www.goppca.com/calendar/cheer-meeting/
CATEGORIES:Athletics Calendar
END:VEVENT
BEGIN:VEVENT
DTSTART;VALUE=DATE:20250204
DTEND;VALUE=DATE:20250205
DTSTAMP:20260421T225445
CREATED:20240903T151242Z
LAST-MODIFIED:20250203T153006Z
UID:6603-1738627200-1738713599@www.goppca.com
SUMMARY:North State Basketball Tourn @ East Rankin
DESCRIPTION:5:15pm – Var Boys vs Heritage
URL:https://www.goppca.com/calendar/north-state-basketball-tourn/
LOCATION:East Rankin Academy\, 400 MS-43\, Pelahatchie\, MS\, 39145
CATEGORIES:Athletics Calendar
END:VEVENT
BEGIN:VEVENT
DTSTART;VALUE=DATE:20250206
DTEND;VALUE=DATE:20250207
DTSTAMP:20260421T225445
CREATED:20250122T153952Z
LAST-MODIFIED:20250205T154142Z
UID:7258-1738800000-1738886399@www.goppca.com
SUMMARY:Tennis Match vs McLaurin
DESCRIPTION:3:30pm
URL:https://www.goppca.com/calendar/tennis-match-vs-mclaurin/
LOCATION:The Club at Crossgates\, 100 Professional Drive\, Brandon\, MS\, 39042
CATEGORIES:Athletics Calendar
END:VEVENT
BEGIN:VEVENT
DTSTART;VALUE=DATE:20250206
DTEND;VALUE=DATE:20250207
DTSTAMP:20260421T225446
CREATED:20250128T190023Z
LAST-MODIFIED:20250128T190058Z
UID:7387-1738800000-1738886399@www.goppca.com
SUMMARY:JV/V Baseball Game vs Victors
DESCRIPTION:JV – 5:00pm\nV – 7:00pm
URL:https://www.goppca.com/calendar/jv-v-baseball-game-vs-victors/
LOCATION:Park Place Christian Academy\, 201 Park Place Drive\, Pearl\, MS\, 39208\, United States
CATEGORIES:Athletics Calendar
END:VEVENT
BEGIN:VEVENT
DTSTART;TZID=America/Chicago:20250206T173000
DTEND;TZID=America/Chicago:20250206T193000
DTSTAMP:20260421T225446
CREATED:20250205T153422Z
LAST-MODIFIED:20250205T153437Z
UID:7488-1738863000-1738870200@www.goppca.com
SUMMARY:Boys Soccer Playoffs @ Adams County Christian School
DESCRIPTION:5:30pm
URL:https://www.goppca.com/calendar/boys-soccer-playoffs-adams-county-christian-school/
CATEGORIES:Athletics Calendar
END:VEVENT
BEGIN:VEVENT
DTSTART;VALUE=DATE:20250207
DTEND;VALUE=DATE:20250208
DTSTAMP:20260421T225446
CREATED:20250128T190152Z
LAST-MODIFIED:20250207T185958Z
UID:7389-1738886400-1738972799@www.goppca.com
SUMMARY:JV/V Baseball Game @ St. Aloysius
DESCRIPTION:JV – 4:30pm\nV – 6:30pm
URL:https://www.goppca.com/calendar/jv-v-baseball-game-st-aloysius/
CATEGORIES:Athletics Calendar
END:VEVENT
BEGIN:VEVENT
DTSTART;VALUE=DATE:20250210
DTEND;VALUE=DATE:20250211
DTSTAMP:20260421T225446
CREATED:20250122T154028Z
LAST-MODIFIED:20250207T185638Z
UID:7260-1739145600-1739231999@www.goppca.com
SUMMARY:Tennis Match vs Pisgah
DESCRIPTION:2:30pm
URL:https://www.goppca.com/calendar/tennis-match-vs-pisgah/
LOCATION:The Club at Crossgates\, 100 Professional Drive\, Brandon\, MS\, 39042
CATEGORIES:Athletics Calendar
END:VEVENT
BEGIN:VEVENT
DTSTART;VALUE=DATE:20250210
DTEND;VALUE=DATE:20250211
DTSTAMP:20260421T225446
CREATED:20250127T162710Z
LAST-MODIFIED:20250127T162710Z
UID:7361-1739145600-1739231999@www.goppca.com
SUMMARY:Pictures by Bruckners
DESCRIPTION:This will include:\nJH/JV/Var Baseball\nTennis\nWinter Guard\nTrack
URL:https://www.goppca.com/calendar/pictures-by-bruckners/
CATEGORIES:Athletics Calendar
END:VEVENT
BEGIN:VEVENT
DTSTART;VALUE=DATE:20250210
DTEND;VALUE=DATE:20250211
DTSTAMP:20260421T225446
CREATED:20250128T190247Z
LAST-MODIFIED:20250128T190247Z
UID:7391-1739145600-1739231999@www.goppca.com
SUMMARY:JV/V Baseball Game vs Copiah
DESCRIPTION:JV – 4:30pm\nV – 6:30pm
URL:https://www.goppca.com/calendar/jv-v-baseball-game-vs-copiah/
LOCATION:Park Place Christian Academy\, 201 Park Place Drive\, Pearl\, MS\, 39208\, United States
CATEGORIES:Athletics Calendar
END:VEVENT
BEGIN:VEVENT
DTSTART;VALUE=DATE:20250211
DTEND;VALUE=DATE:20250212
DTSTAMP:20260421T225446
CREATED:20250122T181526Z
LAST-MODIFIED:20250122T181526Z
UID:7287-1739232000-1739318399@www.goppca.com
SUMMARY:Archery Meet vs Florence (6th-12th)
DESCRIPTION:4:00pm
URL:https://www.goppca.com/calendar/archery-meet-vs-florence-6th-12th/
LOCATION:Park Place Christian Academy\, 201 Park Place Drive\, Pearl\, MS\, 39208\, United States
CATEGORIES:Athletics Calendar
END:VEVENT
BEGIN:VEVENT
DTSTART;VALUE=DATE:20250211
DTEND;VALUE=DATE:20250212
DTSTAMP:20260421T225446
CREATED:20250128T200736Z
LAST-MODIFIED:20250211T170913Z
UID:7444-1739232000-1739318399@www.goppca.com
SUMMARY:JH Baseball Game @ Simpson
DESCRIPTION:3:00pm & 5:00pm
URL:https://www.goppca.com/calendar/jh-baseball-game-simpson/
LOCATION:Simpson Academy\, 124 Academy Circle\, Mendenhall\, MS\, 39114
CATEGORIES:Athletics Calendar
END:VEVENT
BEGIN:VEVENT
DTSTART;VALUE=DATE:20250213
DTEND;VALUE=DATE:20250214
DTSTAMP:20260421T225446
CREATED:20250122T154230Z
LAST-MODIFIED:20250213T180910Z
UID:7264-1739404800-1739491199@www.goppca.com
SUMMARY:Tennis Match vs Discovery
DESCRIPTION:4:00pm
URL:https://www.goppca.com/calendar/tennis-match-vs-discovery/
LOCATION:The Club at Crossgates\, 100 Professional Drive\, Brandon\, MS\, 39042
CATEGORIES:Athletics Calendar
END:VEVENT
BEGIN:VEVENT
DTSTART;VALUE=DATE:20250213
DTEND;VALUE=DATE:20250214
DTSTAMP:20260421T225446
CREATED:20250128T190340Z
LAST-MODIFIED:20250128T190340Z
UID:7393-1739404800-1739491199@www.goppca.com
SUMMARY:JV/V Baseball Game @ Copiah
DESCRIPTION:JV – 4:00pm\nV – 6:00pm
URL:https://www.goppca.com/calendar/jv-v-baseball-game-copiah/
CATEGORIES:Athletics Calendar
END:VEVENT
BEGIN:VEVENT
DTSTART;VALUE=DATE:20250215
DTEND;VALUE=DATE:20250216
DTSTAMP:20260421T225446
CREATED:20241122T192830Z
LAST-MODIFIED:20250214T203751Z
UID:7110-1739577600-1739663999@www.goppca.com
SUMMARY:Winter Guard Competition @ Neshoba Central HS
DESCRIPTION:2:56pm (please arrive 15 minutes early) \nThe cost of Admission is $10.
URL:https://www.goppca.com/calendar/winter-guard-competition-neshoba-central-hs/
LOCATION:Neshoba Central HS\, 1123 Golf Course Road\, Philadelphia\, MS\, 39350
CATEGORIES:Athletics Calendar
END:VEVENT
BEGIN:VEVENT
DTSTART;VALUE=DATE:20250217
DTEND;VALUE=DATE:20250218
DTSTAMP:20260421T225446
CREATED:20240722T153843Z
LAST-MODIFIED:20240722T153843Z
UID:6028-1739750400-1739836799@www.goppca.com
SUMMARY:NO SCHOOL: President’s Day
DESCRIPTION:NO SCHOOL: President’s Day
URL:https://www.goppca.com/calendar/no-school-presidents-day-3/
CATEGORIES:Athletics Calendar,PPCA School Calendar
END:VEVENT
BEGIN:VEVENT
DTSTART;VALUE=DATE:20250217
DTEND;VALUE=DATE:20250218
DTSTAMP:20260421T225446
CREATED:20250128T190514Z
LAST-MODIFIED:20250214T201537Z
UID:7395-1739750400-1739836799@www.goppca.com
SUMMARY:JV/V Baseball Game @ Central Hinds
DESCRIPTION:JV – 1:00pm\nV – 3:00pm
URL:https://www.goppca.com/calendar/jv-v-baseball-game-central-hinds/
LOCATION:Central Hinds Academy\, 2894 Raymond Bolton Rd\, Raymond\, MS\, 39154
CATEGORIES:Athletics Calendar
END:VEVENT
BEGIN:VEVENT
DTSTART;VALUE=DATE:20250218
DTEND;VALUE=DATE:20250219
DTSTAMP:20260421T225446
CREATED:20250122T154330Z
LAST-MODIFIED:20250122T154330Z
UID:7266-1739836800-1739923199@www.goppca.com
SUMMARY:Tennis Match vs Victors
DESCRIPTION:3:00pm
URL:https://www.goppca.com/calendar/tennis-match-vs-victors-3/
LOCATION:The Club at Crossgates\, 100 Professional Drive\, Brandon\, MS\, 39042
CATEGORIES:Athletics Calendar
END:VEVENT
BEGIN:VEVENT
DTSTART;VALUE=DATE:20250218
DTEND;VALUE=DATE:20250219
DTSTAMP:20260421T225446
CREATED:20250122T181611Z
LAST-MODIFIED:20250122T181611Z
UID:7289-1739836800-1739923199@www.goppca.com
SUMMARY:Archery Meet vs Copiah (6th-12th)
DESCRIPTION:4:00pm
URL:https://www.goppca.com/calendar/archery-meet-vs-copiah-6th-12th/
LOCATION:Park Place Christian Academy\, 201 Park Place Drive\, Pearl\, MS\, 39208\, United States
CATEGORIES:Athletics Calendar
END:VEVENT
BEGIN:VEVENT
DTSTART;VALUE=DATE:20250218
DTEND;VALUE=DATE:20250219
DTSTAMP:20260421T225446
CREATED:20250128T190634Z
LAST-MODIFIED:20250128T190634Z
UID:7397-1739836800-1739923199@www.goppca.com
SUMMARY:JV/V Baseball Game vs Porters Chapel
DESCRIPTION:JV – 4:30pm\nV – 6:30pm
URL:https://www.goppca.com/calendar/jv-v-baseball-game-vs-porters-chapel/
LOCATION:Park Place Christian Academy\, 201 Park Place Drive\, Pearl\, MS\, 39208\, United States
CATEGORIES:Athletics Calendar
END:VEVENT
BEGIN:VEVENT
DTSTART;VALUE=DATE:20250220
DTEND;VALUE=DATE:20250221
DTSTAMP:20260421T225446
CREATED:20250122T154502Z
LAST-MODIFIED:20250219T164823Z
UID:7268-1740009600-1740095999@www.goppca.com
SUMMARY:Tennis Match @ Central Hinds (Brighton Park Clinton) POSTPONED
DESCRIPTION:3:00pm – POSTPONED(Date TBD)
URL:https://www.goppca.com/calendar/tennis-match-central-hinds-brighton-park-clinton/
CATEGORIES:Athletics Calendar
END:VEVENT
BEGIN:VEVENT
DTSTART;VALUE=DATE:20250220
DTEND;VALUE=DATE:20250221
DTSTAMP:20260421T225446
CREATED:20250122T181701Z
LAST-MODIFIED:20250122T181701Z
UID:7291-1740009600-1740095999@www.goppca.com
SUMMARY:Archery Meet vs Providence Christian & Central Hinds (6th-12th)
DESCRIPTION:4:00pm
URL:https://www.goppca.com/calendar/archery-meet-vs-providence-christian-central-hinds-6th-12th/
LOCATION:Park Place Christian Academy\, 201 Park Place Drive\, Pearl\, MS\, 39208\, United States
CATEGORIES:Athletics Calendar
END:VEVENT
BEGIN:VEVENT
DTSTART;VALUE=DATE:20250221
DTEND;VALUE=DATE:20250222
DTSTAMP:20260421T225446
CREATED:20250128T192213Z
LAST-MODIFIED:20250219T170813Z
UID:7399-1740096000-1740182399@www.goppca.com
SUMMARY:Varsity Baseball Game @ Porters Chapel
DESCRIPTION:V – 2:30pm
URL:https://www.goppca.com/calendar/jv-v-baseball-game-porters-chapel/
LOCATION:Porter’s Chapel\, 3460 Porters Chapel Rd\, Vicksburg\, Mississippi\, 39180
CATEGORIES:Athletics Calendar
END:VEVENT
BEGIN:VEVENT
DTSTART;TZID=America/Chicago:20250221T180000
DTEND;TZID=America/Chicago:20250221T200000
DTSTAMP:20260421T225446
CREATED:20250205T171821Z
LAST-MODIFIED:20250205T174602Z
UID:7494-1740160800-1740168000@www.goppca.com
SUMMARY:Boys Soccer Awards Ceremony
DESCRIPTION:6:00pm – Upstairs Gathering Area in 201 Bldg
URL:https://www.goppca.com/calendar/boys-soccer-awards-ceremony-2/
CATEGORIES:Athletics Calendar
END:VEVENT
BEGIN:VEVENT
DTSTART;VALUE=DATE:20250224
DTEND;VALUE=DATE:20250225
DTSTAMP:20260421T225446
CREATED:20250128T192341Z
LAST-MODIFIED:20250222T195156Z
UID:7401-1740355200-1740441599@www.goppca.com
SUMMARY:JV/V Baseball Game vs Central Hinds - CANCELLED
DESCRIPTION:JV – 4:30pm – CANCELLED\nV – 6:30pm – CANCELLED
URL:https://www.goppca.com/calendar/jv-v-baseball-game-vs-central-hinds/
LOCATION:Park Place Christian Academy\, 201 Park Place Drive\, Pearl\, MS\, 39208\, United States
CATEGORIES:Athletics Calendar
END:VEVENT
BEGIN:VEVENT
DTSTART;VALUE=DATE:20250224
DTEND;VALUE=DATE:20250225
DTSTAMP:20260421T225446
CREATED:20250221T172456Z
LAST-MODIFIED:20250221T172456Z
UID:7588-1740355200-1740441599@www.goppca.com
SUMMARY:Varsity Golf Tourn @ Hattiesburg CC
DESCRIPTION:Hosted by: Simpson – 10am shotgun
URL:https://www.goppca.com/calendar/varsity-golf-tourn-hattiesburg-cc/
CATEGORIES:Athletics Calendar
END:VEVENT
BEGIN:VEVENT
DTSTART;TZID=America/Chicago:20250224T180000
DTEND;TZID=America/Chicago:20250224T200000
DTSTAMP:20260421T225446
CREATED:20250129T180944Z
LAST-MODIFIED:20250129T180944Z
UID:7462-1740420000-1740427200@www.goppca.com
SUMMARY:Boys Soccer Awards Ceremony
DESCRIPTION:6:00pm – Upstairs Gathering Area in 201 Building
URL:https://www.goppca.com/calendar/boys-soccer-awards-ceremony/
LOCATION:Park Place Christian Academy\, 201 Park Place Drive\, Pearl\, MS\, 39208\, United States
CATEGORIES:Athletics Calendar
END:VEVENT
BEGIN:VEVENT
DTSTART;VALUE=DATE:20250225
DTEND;VALUE=DATE:20250226
DTSTAMP:20260421T225446
CREATED:20250122T154547Z
LAST-MODIFIED:20250225T154325Z
UID:7270-1740441600-1740527999@www.goppca.com
SUMMARY:Tennis Match vs Sylva Bay
DESCRIPTION:3:30pm
URL:https://www.goppca.com/calendar/tennis-match-vs-sylva-bay/
LOCATION:The Club at Crossgates\, 100 Professional Drive\, Brandon\, MS\, 39042
CATEGORIES:Athletics Calendar
END:VEVENT
BEGIN:VEVENT
DTSTART;VALUE=DATE:20250225
DTEND;VALUE=DATE:20250226
DTSTAMP:20260421T225446
CREATED:20250122T181812Z
LAST-MODIFIED:20250122T181812Z
UID:7293-1740441600-1740527999@www.goppca.com
SUMMARY:Archery Meet vs Velma Jackson @ Luther Branson (6th-12th)
DESCRIPTION:4:30pm
URL:https://www.goppca.com/calendar/archery-meet-vs-velma-jackson-luther-branson-6th-12th/
CATEGORIES:Athletics Calendar
END:VEVENT
BEGIN:VEVENT
DTSTART;VALUE=DATE:20250225
DTEND;VALUE=DATE:20250226
DTSTAMP:20260421T225446
CREATED:20250128T200819Z
LAST-MODIFIED:20250221T191418Z
UID:7446-1740441600-1740527999@www.goppca.com
SUMMARY:JH Baseball Game vs Christ Covenant
DESCRIPTION:4:30pm & 6:00pm
URL:https://www.goppca.com/calendar/jh-baseball-game-vs-christ-covenant/
CATEGORIES:Athletics Calendar
END:VEVENT
END:VCALENDAR