BEGIN:VCALENDAR
VERSION:2.0
PRODID:-//Park Place Christian Academy - ECPv6.15.20//NONSGML v1.0//EN
CALSCALE:GREGORIAN
METHOD:PUBLISH
X-ORIGINAL-URL:https://www.goppca.com
X-WR-CALDESC:Events for Park Place Christian Academy
REFRESH-INTERVAL;VALUE=DURATION:PT1H
X-Robots-Tag:noindex
X-PUBLISHED-TTL:PT1H
BEGIN:VTIMEZONE
TZID:America/Chicago
BEGIN:DAYLIGHT
TZOFFSETFROM:-0600
TZOFFSETTO:-0500
TZNAME:CDT
DTSTART:20240310T080000
END:DAYLIGHT
BEGIN:STANDARD
TZOFFSETFROM:-0500
TZOFFSETTO:-0600
TZNAME:CST
DTSTART:20241103T070000
END:STANDARD
BEGIN:DAYLIGHT
TZOFFSETFROM:-0600
TZOFFSETTO:-0500
TZNAME:CDT
DTSTART:20250309T080000
END:DAYLIGHT
BEGIN:STANDARD
TZOFFSETFROM:-0500
TZOFFSETTO:-0600
TZNAME:CST
DTSTART:20251102T070000
END:STANDARD
BEGIN:DAYLIGHT
TZOFFSETFROM:-0600
TZOFFSETTO:-0500
TZNAME:CDT
DTSTART:20260308T080000
END:DAYLIGHT
BEGIN:STANDARD
TZOFFSETFROM:-0500
TZOFFSETTO:-0600
TZNAME:CST
DTSTART:20261101T070000
END:STANDARD
END:VTIMEZONE
BEGIN:VEVENT
DTSTART;VALUE=DATE:20250904
DTEND;VALUE=DATE:20250905
DTSTAMP:20260421T123544
CREATED:20250507T145906Z
LAST-MODIFIED:20250507T145906Z
UID:8074-1756944000-1757030399@www.goppca.com
SUMMARY:JH Football Game @ Discovery Christian
DESCRIPTION:6:00pm
URL:https://www.goppca.com/calendar/jh-football-game-discovery-christian/
LOCATION:Discovery Christian\, 111 Wesley Cir\, Florence\, MS\, 39073
CATEGORIES:Athletics Calendar
END:VEVENT
BEGIN:VEVENT
DTSTART;VALUE=DATE:20250904
DTEND;VALUE=DATE:20250905
DTSTAMP:20260421T123544
CREATED:20250507T144657Z
LAST-MODIFIED:20250507T150252Z
UID:8064-1756944000-1757030399@www.goppca.com
SUMMARY:Pee Wee Football Game @ Discovery Christian
DESCRIPTION:5:00pm
URL:https://www.goppca.com/calendar/pee-wee-football-game-discovery-christian/
LOCATION:Discovery Christian\, 111 Wesley Cir\, Florence\, MS\, 39073
CATEGORIES:Athletics Calendar
END:VEVENT
BEGIN:VEVENT
DTSTART;VALUE=DATE:20250905
DTEND;VALUE=DATE:20250906
DTSTAMP:20260421T123544
CREATED:20250424T172442Z
LAST-MODIFIED:20250424T172442Z
UID:7971-1757030400-1757116799@www.goppca.com
SUMMARY:Varsity Football Game vs Amite
DESCRIPTION:7:00pm
URL:https://www.goppca.com/calendar/varsity-football-game-vs-amite/
CATEGORIES:Athletics Calendar
END:VEVENT
BEGIN:VEVENT
DTSTART;VALUE=DATE:20250906
DTEND;VALUE=DATE:20250907
DTSTAMP:20260421T123544
CREATED:20250815T135137Z
LAST-MODIFIED:20250815T135338Z
UID:8556-1757116800-1757203199@www.goppca.com
SUMMARY:MC XC Opener
DESCRIPTION:9:30 @ Choctaw Trails in Clinton\, MS
URL:https://www.goppca.com/calendar/mc-opener/
LOCATION:Choctaw Trails\, 5201 N. McRaven Rd\, Jackson\, Mississippi\, 39209
CATEGORIES:Athletics Calendar
END:VEVENT
BEGIN:VEVENT
DTSTART;VALUE=DATE:20250908
DTEND;VALUE=DATE:20250909
DTSTAMP:20260421T123544
CREATED:20250610T174453Z
LAST-MODIFIED:20250725T193315Z
UID:8177-1757289600-1757375999@www.goppca.com
SUMMARY:JV/Var Softball Game vs Brookhaven Academy
DESCRIPTION:JV – 4:30pmVar – 6:00pm
URL:https://www.goppca.com/calendar/jv-var-softball-game-vs-brookhaven-academy/
LOCATION:Park Place Christian Academy\, 201 Park Place Drive\, Pearl\, MS\, 39208\, United States
CATEGORIES:Athletics Calendar
END:VEVENT
BEGIN:VEVENT
DTSTART;VALUE=DATE:20250908
DTEND;VALUE=DATE:20250909
DTSTAMP:20260421T123544
CREATED:20250904T171717Z
LAST-MODIFIED:20250904T172544Z
UID:8862-1757289600-1757375999@www.goppca.com
SUMMARY:PPCA Elem Running Club Race
DESCRIPTION:4:00pm
URL:https://www.goppca.com/calendar/ppca-elem-running-club-race/
LOCATION:Park Place Christian Academy\, 201 Park Place Drive\, Pearl\, MS\, 39208\, United States
CATEGORIES:Athletics Calendar
END:VEVENT
BEGIN:VEVENT
DTSTART;VALUE=DATE:20250909
DTEND;VALUE=DATE:20250910
DTSTAMP:20260421T123544
CREATED:20250610T174715Z
LAST-MODIFIED:20250725T194535Z
UID:8176-1757376000-1757462399@www.goppca.com
SUMMARY:JV/Var Softball Game @ Simpson
DESCRIPTION:JV – 5:00pmVar – 6:15pm
URL:https://www.goppca.com/calendar/jv-var-softball-game-simpson/
LOCATION:Simpson Academy\, 124 Academy Circle\, Mendenhall\, MS\, 39114
CATEGORIES:Athletics Calendar
END:VEVENT
BEGIN:VEVENT
DTSTART;VALUE=DATE:20250911
DTEND;VALUE=DATE:20250912
DTSTAMP:20260421T123544
CREATED:20250507T151235Z
LAST-MODIFIED:20250507T151516Z
UID:8079-1757548800-1757635199@www.goppca.com
SUMMARY:JH Football Game vs Mt. Zion
DESCRIPTION:6:00pm
URL:https://www.goppca.com/calendar/jh-football-game-vs-mt-zion/
LOCATION:Park Place Christian Academy\, 201 Park Place Drive\, Pearl\, MS\, 39208\, United States
CATEGORIES:Athletics Calendar
END:VEVENT
BEGIN:VEVENT
DTSTART;VALUE=DATE:20250912
DTEND;VALUE=DATE:20250913
DTSTAMP:20260421T123544
CREATED:20250424T172517Z
LAST-MODIFIED:20250424T172517Z
UID:7973-1757635200-1757721599@www.goppca.com
SUMMARY:Varsity Football Game vs Stringer
DESCRIPTION:7:00pm
URL:https://www.goppca.com/calendar/varsity-football-game-vs-stringer/
CATEGORIES:Athletics Calendar
END:VEVENT
BEGIN:VEVENT
DTSTART;VALUE=DATE:20250915
DTEND;VALUE=DATE:20250916
DTSTAMP:20260421T123544
CREATED:20250610T174821Z
LAST-MODIFIED:20250725T193709Z
UID:8183-1757894400-1757980799@www.goppca.com
SUMMARY:JV/Var Softball Game vs Parklane
DESCRIPTION:JV – 4:30pmVar – 6:00pm
URL:https://www.goppca.com/calendar/jv-var-softball-game-vs-parklane/
LOCATION:Park Place Christian Academy\, 201 Park Place Drive\, Pearl\, MS\, 39208\, United States
CATEGORIES:Athletics Calendar
END:VEVENT
BEGIN:VEVENT
DTSTART;VALUE=DATE:20250915
DTEND;VALUE=DATE:20250916
DTSTAMP:20260421T123544
CREATED:20250815T135629Z
LAST-MODIFIED:20250815T135629Z
UID:8562-1757894400-1757980799@www.goppca.com
SUMMARY:JA/Prep XC Invitational @ The Quarry
DESCRIPTION:4:00pm – The Brandon Quarry
URL:https://www.goppca.com/calendar/ja-prep-xc-invitational-the-quarry/
CATEGORIES:Athletics Calendar
END:VEVENT
BEGIN:VEVENT
DTSTART;VALUE=DATE:20250916
DTEND;VALUE=DATE:20250917
DTSTAMP:20260421T123544
CREATED:20250610T174914Z
LAST-MODIFIED:20250725T195000Z
UID:8185-1757980800-1758067199@www.goppca.com
SUMMARY:JV/Var Softball Game @ MRA
DESCRIPTION:JV – 5:00pm\nVar – 6:30pm
URL:https://www.goppca.com/calendar/jv-var-softball-game-mra/
LOCATION:Madison Ridgeland Academy\, 7601 Old Canton Road\, Madison\, MS\, 39110
CATEGORIES:Athletics Calendar
END:VEVENT
BEGIN:VEVENT
DTSTART;VALUE=DATE:20250918
DTEND;VALUE=DATE:20250919
DTSTAMP:20260421T123544
CREATED:20250715T210754Z
LAST-MODIFIED:20250715T210754Z
UID:8250-1758153600-1758239999@www.goppca.com
SUMMARY:Pee Wee Football Game @ Central Holmes
DESCRIPTION:5:00pm
URL:https://www.goppca.com/calendar/pee-wee-football-game-central-holmes/
CATEGORIES:Athletics Calendar
END:VEVENT
BEGIN:VEVENT
DTSTART;VALUE=DATE:20250918
DTEND;VALUE=DATE:20250919
DTSTAMP:20260421T123544
CREATED:20250715T210849Z
LAST-MODIFIED:20250715T210849Z
UID:8252-1758153600-1758239999@www.goppca.com
SUMMARY:JH Football Game @ Central Holmes
DESCRIPTION:6:00pm
URL:https://www.goppca.com/calendar/jh-football-game-central-holmes/
CATEGORIES:Athletics Calendar
END:VEVENT
BEGIN:VEVENT
DTSTART;VALUE=DATE:20250919
DTEND;VALUE=DATE:20250920
DTSTAMP:20260421T123544
CREATED:20250424T172553Z
LAST-MODIFIED:20250424T172553Z
UID:7975-1758240000-1758326399@www.goppca.com
SUMMARY:Varsity Football Game @ Discovery
DESCRIPTION:7:00pm
URL:https://www.goppca.com/calendar/varsity-football-game-discovery/
CATEGORIES:Athletics Calendar
END:VEVENT
BEGIN:VEVENT
DTSTART;VALUE=DATE:20250920
DTEND;VALUE=DATE:20250921
DTSTAMP:20260421T123544
CREATED:20250815T135722Z
LAST-MODIFIED:20250815T135722Z
UID:8564-1758326400-1758412799@www.goppca.com
SUMMARY:PPCA XC Invitational
DESCRIPTION:9:00am @ PPCA
URL:https://www.goppca.com/calendar/ppca-xc-invitational/
LOCATION:Park Place Christian Academy\, 201 Park Place Drive\, Pearl\, MS\, 39208\, United States
CATEGORIES:Athletics Calendar
END:VEVENT
BEGIN:VEVENT
DTSTART;VALUE=DATE:20250922
DTEND;VALUE=DATE:20250923
DTSTAMP:20260421T123544
CREATED:20250610T175022Z
LAST-MODIFIED:20250917T172248Z
UID:8187-1758499200-1758585599@www.goppca.com
SUMMARY:Var Softball Game vs Prentiss Christian - SENIOR NIGHT
DESCRIPTION:Varsity – 5:30pm \nSenior Recognition will begin at 5:10pm. 
URL:https://www.goppca.com/calendar/var-softball-game-vs-prentiss-christian-senior-night/
LOCATION:Park Place Christian Academy\, 201 Park Place Drive\, Pearl\, MS\, 39208\, United States
CATEGORIES:Athletics Calendar
END:VEVENT
BEGIN:VEVENT
DTSTART;VALUE=DATE:20250926
DTEND;VALUE=DATE:20250927
DTSTAMP:20260421T123544
CREATED:20250424T172621Z
LAST-MODIFIED:20250424T172621Z
UID:7977-1758844800-1758931199@www.goppca.com
SUMMARY:Varsity Football Game @ East Rankin
DESCRIPTION:7:00pm
URL:https://www.goppca.com/calendar/varsity-football-game-east-rankin/
CATEGORIES:Athletics Calendar
END:VEVENT
BEGIN:VEVENT
DTSTART;VALUE=DATE:20250929
DTEND;VALUE=DATE:20250930
DTSTAMP:20260421T123544
CREATED:20250815T140821Z
LAST-MODIFIED:20250815T141005Z
UID:8567-1759104000-1759190399@www.goppca.com
SUMMARY:Forerunner XC Invitational
DESCRIPTION:4:30pm\nHattiesburg:  Lake Shore Trails – 276 Classic Dr (Old USM Van Hook Golf Course)
URL:https://www.goppca.com/calendar/forerunner-xc-invitational/
LOCATION:Lake Shore Trails\, 276 Classic Dr.\, Hattiesburg\, Mississippi\, 39401
CATEGORIES:Athletics Calendar
END:VEVENT
BEGIN:VEVENT
DTSTART;TZID=America/Chicago:20250930T183000
DTEND;TZID=America/Chicago:20250930T193000
DTSTAMP:20260421T123544
CREATED:20250930T171253Z
LAST-MODIFIED:20250930T171253Z
UID:9066-1759257000-1759260600@www.goppca.com
SUMMARY:Winter Guard Parent Meeting
DESCRIPTION:6:30pm in the upstairs chapel room in the 201 building.
URL:https://www.goppca.com/calendar/winter-guard-parent-meeting/
LOCATION:Park Place Christian Academy\, 201 Park Place Drive\, Pearl\, MS\, 39208\, United States
CATEGORIES:Athletics Calendar
END:VEVENT
END:VCALENDAR