BEGIN:VCALENDAR
VERSION:2.0
PRODID:-//Park Place Christian Academy - ECPv6.15.20//NONSGML v1.0//EN
CALSCALE:GREGORIAN
METHOD:PUBLISH
X-WR-CALNAME:Park Place Christian Academy
X-ORIGINAL-URL:https://www.goppca.com
X-WR-CALDESC:Events for Park Place Christian Academy
REFRESH-INTERVAL;VALUE=DURATION:PT1H
X-Robots-Tag:noindex
X-PUBLISHED-TTL:PT1H
BEGIN:VTIMEZONE
TZID:America/Chicago
BEGIN:DAYLIGHT
TZOFFSETFROM:-0600
TZOFFSETTO:-0500
TZNAME:CDT
DTSTART:20240310T080000
END:DAYLIGHT
BEGIN:STANDARD
TZOFFSETFROM:-0500
TZOFFSETTO:-0600
TZNAME:CST
DTSTART:20241103T070000
END:STANDARD
BEGIN:DAYLIGHT
TZOFFSETFROM:-0600
TZOFFSETTO:-0500
TZNAME:CDT
DTSTART:20250309T080000
END:DAYLIGHT
BEGIN:STANDARD
TZOFFSETFROM:-0500
TZOFFSETTO:-0600
TZNAME:CST
DTSTART:20251102T070000
END:STANDARD
BEGIN:DAYLIGHT
TZOFFSETFROM:-0600
TZOFFSETTO:-0500
TZNAME:CDT
DTSTART:20260308T080000
END:DAYLIGHT
BEGIN:STANDARD
TZOFFSETFROM:-0500
TZOFFSETTO:-0600
TZNAME:CST
DTSTART:20261101T070000
END:STANDARD
END:VTIMEZONE
BEGIN:VEVENT
DTSTART;VALUE=DATE:20251002
DTEND;VALUE=DATE:20251003
DTSTAMP:20260421T105948
CREATED:20250507T151327Z
LAST-MODIFIED:20250507T151327Z
UID:8081-1759363200-1759449599@www.goppca.com
SUMMARY:JH Football Game @ Central Hinds
DESCRIPTION:6:00pm
URL:https://www.goppca.com/calendar/jh-football-game-central-hinds-2/
LOCATION:Central Hinds Academy\, 2894 Raymond Bolton Rd\, Raymond\, MS\, 39154
CATEGORIES:Athletics Calendar
END:VEVENT
BEGIN:VEVENT
DTSTART;VALUE=DATE:20251002
DTEND;VALUE=DATE:20251003
DTSTAMP:20260421T105948
CREATED:20250507T145046Z
LAST-MODIFIED:20250507T150449Z
UID:8068-1759363200-1759449599@www.goppca.com
SUMMARY:Pee Wee Football Game @ Central Hinds
DESCRIPTION:5:00pm
URL:https://www.goppca.com/calendar/pee-wee-football-game-central-hinds-3/
LOCATION:Central Hinds Academy\, 2894 Raymond Bolton Rd\, Raymond\, MS\, 39154
CATEGORIES:Athletics Calendar
END:VEVENT
BEGIN:VEVENT
DTSTART;VALUE=DATE:20251003
DTEND;VALUE=DATE:20251004
DTSTAMP:20260421T105948
CREATED:20250424T172759Z
LAST-MODIFIED:20250917T171941Z
UID:7982-1759449600-1759535999@www.goppca.com
SUMMARY:Varsity Football Game vs Bogue Chitto
DESCRIPTION:7:00pm – SENIOR NIGHT
URL:https://www.goppca.com/calendar/varsity-football-game-vs-bogue-chitto/
LOCATION:Yazoo City\, MS
CATEGORIES:Athletics Calendar
END:VEVENT
BEGIN:VEVENT
DTSTART;VALUE=DATE:20251006
DTEND;VALUE=DATE:20251007
DTSTAMP:20260421T105948
CREATED:20250815T141101Z
LAST-MODIFIED:20250815T141101Z
UID:8571-1759708800-1759795199@www.goppca.com
SUMMARY:MRA XC Invitational
DESCRIPTION:4:00pm @ Choctaw Trails
URL:https://www.goppca.com/calendar/mra-xc-invitational-2/
LOCATION:Choctaw Trails\, 5201 N. McRaven Rd\, Jackson\, Mississippi\, 39209
CATEGORIES:Athletics Calendar
END:VEVENT
BEGIN:VEVENT
DTSTART;VALUE=DATE:20251007
DTEND;VALUE=DATE:20251008
DTSTAMP:20260421T105948
CREATED:20250507T151425Z
LAST-MODIFIED:20250507T151425Z
UID:8083-1759795200-1759881599@www.goppca.com
SUMMARY:JH Football Game vs Manchester
DESCRIPTION:6:00pm
URL:https://www.goppca.com/calendar/jh-football-game-vs-manchester-2/
LOCATION:Manchester Academy\, 2132 Gordon Avenue\, Yazoo City\, MS\, 39194
CATEGORIES:Athletics Calendar
END:VEVENT
BEGIN:VEVENT
DTSTART;VALUE=DATE:20251007
DTEND;VALUE=DATE:20251008
DTSTAMP:20260421T105948
CREATED:20250507T145133Z
LAST-MODIFIED:20250507T150705Z
UID:8070-1759795200-1759881599@www.goppca.com
SUMMARY:Pee Wee Football Game vs Manchester
DESCRIPTION:5:00pm
URL:https://www.goppca.com/calendar/pee-wee-football-game-vs-manchester/
LOCATION:Park Place Christian Academy\, 201 Park Place Drive\, Pearl\, MS\, 39208\, United States
CATEGORIES:Athletics Calendar
END:VEVENT
BEGIN:VEVENT
DTSTART;VALUE=DATE:20251008
DTEND;VALUE=DATE:20251009
DTSTAMP:20260421T105948
CREATED:20250904T172459Z
LAST-MODIFIED:20250904T172459Z
UID:8864-1759881600-1759967999@www.goppca.com
SUMMARY:PPCA Elem Running Club Race
DESCRIPTION:1:00pm and 1:30pm
URL:https://www.goppca.com/calendar/ppca-elem-running-club-race-2/
LOCATION:Park Place Christian Academy\, 201 Park Place Drive\, Pearl\, MS\, 39208\, United States
CATEGORIES:Athletics Calendar
END:VEVENT
BEGIN:VEVENT
DTSTART;TZID=America/Chicago:20251009T173000
DTEND;TZID=America/Chicago:20251009T193000
DTSTAMP:20260421T105948
CREATED:20250604T144001Z
LAST-MODIFIED:20250604T144001Z
UID:8141-1760031000-1760038200@www.goppca.com
SUMMARY:PPCA Family Event: Community Pep Rally
DESCRIPTION:A fun-filled family event during HOCO week. This event will take place in The GAPP and Crusader Football Field.
URL:https://www.goppca.com/calendar/ppca-family-event-community-pep-rally/
LOCATION:Yazoo City\, MS
CATEGORIES:Athletics Calendar,PPCA School Calendar
END:VEVENT
BEGIN:VEVENT
DTSTART;VALUE=DATE:20251010
DTEND;VALUE=DATE:20251011
DTSTAMP:20260421T105948
CREATED:20250424T172855Z
LAST-MODIFIED:20250610T175854Z
UID:7984-1760054400-1760140799@www.goppca.com
SUMMARY:Varsity Football Game vs Clinton Christian - HOMECOMING
DESCRIPTION:7:00pm
URL:https://www.goppca.com/calendar/varsity-football-game-vs-clinton-christian/
LOCATION:Yazoo City\, MS
CATEGORIES:Athletics Calendar
END:VEVENT
BEGIN:VEVENT
DTSTART;VALUE=DATE:20251017
DTEND;VALUE=DATE:20251018
DTSTAMP:20260421T105948
CREATED:20250424T172943Z
LAST-MODIFIED:20250424T173610Z
UID:7986-1760659200-1760659200@www.goppca.com
SUMMARY:Varsity Football Game @ Christian Collegiate
DESCRIPTION:7:00pm
URL:https://www.goppca.com/calendar/varsity-football-game-christian-collegiate/
LOCATION:Yazoo City\, MS
CATEGORIES:Athletics Calendar
END:VEVENT
BEGIN:VEVENT
DTSTART;VALUE=DATE:20251018
DTEND;VALUE=DATE:20251019
DTSTAMP:20260421T105948
CREATED:20250815T141148Z
LAST-MODIFIED:20250815T141148Z
UID:8573-1760745600-1760831999@www.goppca.com
SUMMARY:Watson XC Classic
DESCRIPTION:10:15am @ Choctaw Trails
URL:https://www.goppca.com/calendar/watson-xc-classic/
LOCATION:Choctaw Trails\, 5201 N. McRaven Rd\, Jackson\, Mississippi\, 39209
CATEGORIES:Athletics Calendar
END:VEVENT
BEGIN:VEVENT
DTSTART;VALUE=DATE:20251027
DTEND;VALUE=DATE:20251028
DTSTAMP:20260421T105948
CREATED:20250815T141246Z
LAST-MODIFIED:20250815T141246Z
UID:8575-1761523200-1761609599@www.goppca.com
SUMMARY:XC State Meet
DESCRIPTION:Time – TBD @ Choctaw Trails
URL:https://www.goppca.com/calendar/xc-state-meet/
LOCATION:Choctaw Trails\, 5201 N. McRaven Rd\, Jackson\, Mississippi\, 39209
CATEGORIES:Athletics Calendar
END:VEVENT
BEGIN:VEVENT
DTSTART;VALUE=DATE:20251027
DTEND;VALUE=DATE:20251028
DTSTAMP:20260421T105948
CREATED:20250904T183727Z
LAST-MODIFIED:20250904T183945Z
UID:8875-1761523200-1761609599@www.goppca.com
SUMMARY:Pee Wee Basketball Game vs Discovery
DESCRIPTION:5/6g -5:00pm\n5/6b – 6:00pm
URL:https://www.goppca.com/calendar/pee-wee-basketball-game-vs-discovery/
LOCATION:Yazoo City\, MS
CATEGORIES:Athletics Calendar
END:VEVENT
BEGIN:VEVENT
DTSTART;TZID=America/Chicago:20251027T090000
DTEND;TZID=America/Chicago:20251027T100000
DTSTAMP:20260421T105948
CREATED:20250930T171404Z
LAST-MODIFIED:20250930T171404Z
UID:9068-1761555600-1761559200@www.goppca.com
SUMMARY:Letterman Jacket Interest Meeting
DESCRIPTION:Little Cafeteria – 9:30am
URL:https://www.goppca.com/calendar/letterman-jacket-interest-meeting/
LOCATION:Park Place Christian Academy\, 201 Park Place Drive\, Pearl\, MS\, 39208\, United States
CATEGORIES:Athletics Calendar
END:VEVENT
BEGIN:VEVENT
DTSTART;VALUE=DATE:20251028
DTEND;VALUE=DATE:20251029
DTSTAMP:20260421T105948
CREATED:20250929T210537Z
LAST-MODIFIED:20250929T213601Z
UID:9000-1761609600-1761695999@www.goppca.com
SUMMARY:JH boys\, Var Girls/Boys Basketball Game vs New Life Christian
DESCRIPTION:jh boys – 5:00pm\nVarsity Girls – 6:00pm\nVarsity Boys – 7:30pm \n 
URL:https://www.goppca.com/calendar/jh-boys-varsity-girls-boys-basketball-game-vs-new-life-christian/
LOCATION:PPCA Campus Gym\, 5701 Hwy 80 East\, Pearl\, MS\, 39208
CATEGORIES:Athletics Calendar
END:VEVENT
BEGIN:VEVENT
DTSTART;VALUE=DATE:20251030
DTEND;VALUE=DATE:20251031
DTSTAMP:20260421T105948
CREATED:20250424T173153Z
LAST-MODIFIED:20250424T173153Z
UID:7990-1761782400-1761868799@www.goppca.com
SUMMARY:Varsity Football Game @ McLaurin
DESCRIPTION:7:00pm
URL:https://www.goppca.com/calendar/varsity-football-game-mclaurin/
LOCATION:Yazoo City\, MS
CATEGORIES:Athletics Calendar
END:VEVENT
BEGIN:VEVENT
DTSTART;TZID=America/Chicago:20251031T093000
DTEND;TZID=America/Chicago:20251031T100000
DTSTAMP:20260421T105948
CREATED:20250930T171459Z
LAST-MODIFIED:20250930T172401Z
UID:9070-1761903000-1761904800@www.goppca.com
SUMMARY:Letterman Jacket Orders
DESCRIPTION:Little Cafeteria – 9:30am
URL:https://www.goppca.com/calendar/letterman-jacket-orders/
LOCATION:Park Place Christian Academy\, 201 Park Place Drive\, Pearl\, MS\, 39208\, United States
CATEGORIES:Athletics Calendar
END:VEVENT
END:VCALENDAR