BEGIN:VCALENDAR
VERSION:2.0
PRODID:-//Park Place Christian Academy - ECPv6.15.20//NONSGML v1.0//EN
CALSCALE:GREGORIAN
METHOD:PUBLISH
X-WR-CALNAME:Park Place Christian Academy
X-ORIGINAL-URL:https://www.goppca.com
X-WR-CALDESC:Events for Park Place Christian Academy
REFRESH-INTERVAL;VALUE=DURATION:PT1H
X-Robots-Tag:noindex
X-PUBLISHED-TTL:PT1H
BEGIN:VTIMEZONE
TZID:America/Chicago
BEGIN:DAYLIGHT
TZOFFSETFROM:-0600
TZOFFSETTO:-0500
TZNAME:CDT
DTSTART:20240310T080000
END:DAYLIGHT
BEGIN:STANDARD
TZOFFSETFROM:-0500
TZOFFSETTO:-0600
TZNAME:CST
DTSTART:20241103T070000
END:STANDARD
BEGIN:DAYLIGHT
TZOFFSETFROM:-0600
TZOFFSETTO:-0500
TZNAME:CDT
DTSTART:20250309T080000
END:DAYLIGHT
BEGIN:STANDARD
TZOFFSETFROM:-0500
TZOFFSETTO:-0600
TZNAME:CST
DTSTART:20251102T070000
END:STANDARD
BEGIN:DAYLIGHT
TZOFFSETFROM:-0600
TZOFFSETTO:-0500
TZNAME:CDT
DTSTART:20260308T080000
END:DAYLIGHT
BEGIN:STANDARD
TZOFFSETFROM:-0500
TZOFFSETTO:-0600
TZNAME:CST
DTSTART:20261101T070000
END:STANDARD
END:VTIMEZONE
BEGIN:VEVENT
DTSTART;VALUE=DATE:20251201
DTEND;VALUE=DATE:20251202
DTSTAMP:20260421T075516
CREATED:20250929T215139Z
LAST-MODIFIED:20250929T230617Z
UID:9033-1764547200-1764633599@www.goppca.com
SUMMARY:JH boys\, Var Basketball Game @ New Life Christian
DESCRIPTION:jh boys – 5:00pm\nVar Girls – 6:00pm\nVar Boys – 7:30pm
URL:https://www.goppca.com/calendar/jh-boys-var-basketball-game-new-life-christian/
LOCATION:New Life Christian Academy
CATEGORIES:Athletics Calendar
END:VEVENT
BEGIN:VEVENT
DTSTART;VALUE=DATE:20251204
DTEND;VALUE=DATE:20251205
DTSTAMP:20260421T075516
CREATED:20250929T215320Z
LAST-MODIFIED:20250929T215320Z
UID:9035-1764806400-1764892799@www.goppca.com
SUMMARY:7th gr girls\, JH/Var Basketball Game @ ERA
DESCRIPTION:7th gr girls – 3:15pm\njh girls – 4:00pm\njh boys – 5:00pm\nVar Girls – 6:00pm\nVar Boys – 7:30pm
URL:https://www.goppca.com/calendar/7th-gr-girls-jh-var-basketball-game-era/
LOCATION:East Rankin Academy\, 400 MS-43\, Pelahatchie\, MS\, 39145
CATEGORIES:Athletics Calendar
END:VEVENT
BEGIN:VEVENT
DTSTART;VALUE=DATE:20251205
DTEND;VALUE=DATE:20251206
DTSTAMP:20260421T075516
CREATED:20250929T215518Z
LAST-MODIFIED:20250929T222230Z
UID:9037-1764892800-1764979199@www.goppca.com
SUMMARY:7th gr boys\, JH/Var Basketball Game vs Discovery Christian
DESCRIPTION:7th gr boys – 3:00pm\njh girls – 4:00pm\njh boys – 5:00pm\nVar Girls – 6:00pm\nVar Boys – 7:30pm
URL:https://www.goppca.com/calendar/7th-gr-boys-jh-var-basketball-game-vs-discovery-christian/
LOCATION:PPCA Campus Gym\, 5701 Hwy 80 East\, Pearl\, MS\, 39208
CATEGORIES:Athletics Calendar
END:VEVENT
BEGIN:VEVENT
DTSTART;VALUE=DATE:20251205
DTEND;VALUE=DATE:20251206
DTSTAMP:20260421T075516
CREATED:20251006T134505Z
LAST-MODIFIED:20251204T172259Z
UID:9170-1764892800-1764979199@www.goppca.com
SUMMARY:Boys Soccer Game @ East Rankin - CANCELLED
DESCRIPTION:Time – TBD – CANCELLED
URL:https://www.goppca.com/calendar/boys-soccer-game-east-rankin-2/
LOCATION:East Rankin Academy\, 400 MS-43\, Pelahatchie\, MS\, 39145
CATEGORIES:Athletics Calendar
END:VEVENT
BEGIN:VEVENT
DTSTART;VALUE=DATE:20251208
DTEND;VALUE=DATE:20251209
DTSTAMP:20260421T075516
CREATED:20251008T164419Z
LAST-MODIFIED:20251008T164419Z
UID:9188-1765152000-1765238399@www.goppca.com
SUMMARY:Boys Soccer Game @ Copiah
DESCRIPTION:5:00pm
URL:https://www.goppca.com/calendar/boys-soccer-game-copiah/
LOCATION:Yazoo City\, MS
CATEGORIES:Athletics Calendar
END:VEVENT
BEGIN:VEVENT
DTSTART;VALUE=DATE:20251208
DTEND;VALUE=DATE:20251209
DTSTAMP:20260421T075516
CREATED:20251103T180942Z
LAST-MODIFIED:20251103T180942Z
UID:9301-1765152000-1765238399@www.goppca.com
SUMMARY:Girls/Boys Soccer & JH Baseball Pictures
DESCRIPTION:
URL:https://www.goppca.com/calendar/girls-boys-soccer-jh-baseball-pictures/
LOCATION:Yazoo City\, MS
CATEGORIES:Athletics Calendar
END:VEVENT
BEGIN:VEVENT
DTSTART;VALUE=DATE:20251209
DTEND;VALUE=DATE:20251210
DTSTAMP:20260421T075516
CREATED:20250929T222445Z
LAST-MODIFIED:20250929T222445Z
UID:9039-1765238400-1765324799@www.goppca.com
SUMMARY:7th gr girls\, JH/Var Basketball Game @ Brookhaven
DESCRIPTION:7th gr girls – 3:00pm\njh girls – 4:00pm\njh boys – 5:00pm\nVar Girls – 6:00pm\nVar Boys – 7:30pm
URL:https://www.goppca.com/calendar/7th-gr-girls-jh-var-basketball-game-brookhaven/
LOCATION:Brookhaven Academy\, 943 Brookway Boulevard Ext NW\, Brookhaven\, Mississippi\, 39601
CATEGORIES:Athletics Calendar
END:VEVENT
BEGIN:VEVENT
DTSTART;VALUE=DATE:20251209
DTEND;VALUE=DATE:20251210
DTSTAMP:20260421T075516
CREATED:20251006T134548Z
LAST-MODIFIED:20251209T145459Z
UID:9172-1765238400-1765324799@www.goppca.com
SUMMARY:Boys Soccer Game @ St. Augustine
DESCRIPTION:Time – 5:30pm @ Freedom Ridge Park (253 W School St\, Ridgeland\, MS 39157).
URL:https://www.goppca.com/calendar/boys-soccer-game-st-augustine/
LOCATION:Yazoo City\, MS
CATEGORIES:Athletics Calendar
END:VEVENT
BEGIN:VEVENT
DTSTART;VALUE=DATE:20251211
DTEND;VALUE=DATE:20251212
DTSTAMP:20260421T075516
CREATED:20250904T184303Z
LAST-MODIFIED:20250904T184303Z
UID:8882-1765411200-1765497599@www.goppca.com
SUMMARY:Pee Wee Basketball Game @ Central Hinds
DESCRIPTION:5g – 5:00\n5b – 5:45\n6g – 6:30\n6b – 7:15
URL:https://www.goppca.com/calendar/pee-wee-basketball-game-central-hinds-4/
LOCATION:Yazoo City\, MS
CATEGORIES:Athletics Calendar
END:VEVENT
BEGIN:VEVENT
DTSTART;VALUE=DATE:20251212
DTEND;VALUE=DATE:20251213
DTSTAMP:20260421T075516
CREATED:20250929T222736Z
LAST-MODIFIED:20250929T222736Z
UID:9041-1765497600-1765583999@www.goppca.com
SUMMARY:7th gr girls\, JH/Var Basketball Game vs Simpson
DESCRIPTION:7th gr girls – 3:00pm\njh girls – 4:00pm\njh boys – 5:00pm\nVar Girls – 6:00pm\nVar Boys – 7:30pm
URL:https://www.goppca.com/calendar/7th-gr-girls-jh-var-basketball-game-vs-simpson/
LOCATION:PPCA Campus Gym\, 5701 Hwy 80 East\, Pearl\, MS\, 39208
CATEGORIES:Athletics Calendar
END:VEVENT
BEGIN:VEVENT
DTSTART;VALUE=DATE:20251212
DTEND;VALUE=DATE:20251213
DTSTAMP:20260421T075516
CREATED:20251006T134636Z
LAST-MODIFIED:20251006T134636Z
UID:9174-1765497600-1765583999@www.goppca.com
SUMMARY:Boys Soccer Game vs Muddy Rivers
DESCRIPTION:4:00pm
URL:https://www.goppca.com/calendar/boys-soccer-game-vs-muddy-rivers/
LOCATION:Park Place Christian Academy\, 201 Park Place Drive\, Pearl\, MS\, 39208\, United States
CATEGORIES:Athletics Calendar
END:VEVENT
BEGIN:VEVENT
DTSTART;VALUE=DATE:20251213
DTEND;VALUE=DATE:20251214
DTSTAMP:20260421T075516
CREATED:20250904T184430Z
LAST-MODIFIED:20250904T184430Z
UID:8884-1765584000-1765670399@www.goppca.com
SUMMARY:Pee Wee Basketball Game @ St. Andrews
DESCRIPTION:5g – 9:00am\n5b – 10:00am\n6g – 11:00am\n6b – 12:00pm
URL:https://www.goppca.com/calendar/pee-wee-basketball-game-st-andrews/
LOCATION:Yazoo City\, MS
CATEGORIES:Athletics Calendar
END:VEVENT
BEGIN:VEVENT
DTSTART;VALUE=DATE:20251218
DTEND;VALUE=DATE:20251219
DTSTAMP:20260421T075516
CREATED:20250929T223052Z
LAST-MODIFIED:20250929T223052Z
UID:9043-1766016000-1766102399@www.goppca.com
SUMMARY:JH/Var Basketball Game @ Columbia Academy
DESCRIPTION:jh girls – 4:00pm\njh boys – 5:00pm\nVar Girls – 6:00pm\nVar Boys – 7:30pm
URL:https://www.goppca.com/calendar/jh-var-basketball-game-columbia-academy-2/
LOCATION:Columbia Academy\, 1548 Hwy 98 E\, Columbia\, Mississippi\, 39429
CATEGORIES:Athletics Calendar
END:VEVENT
END:VCALENDAR