BEGIN:VCALENDAR
VERSION:2.0
PRODID:-//Park Place Christian Academy - ECPv6.15.20//NONSGML v1.0//EN
CALSCALE:GREGORIAN
METHOD:PUBLISH
X-WR-CALNAME:Park Place Christian Academy
X-ORIGINAL-URL:https://www.goppca.com
X-WR-CALDESC:Events for Park Place Christian Academy
REFRESH-INTERVAL;VALUE=DURATION:PT1H
X-Robots-Tag:noindex
X-PUBLISHED-TTL:PT1H
BEGIN:VTIMEZONE
TZID:America/Chicago
BEGIN:DAYLIGHT
TZOFFSETFROM:-0600
TZOFFSETTO:-0500
TZNAME:CDT
DTSTART:20250309T080000
END:DAYLIGHT
BEGIN:STANDARD
TZOFFSETFROM:-0500
TZOFFSETTO:-0600
TZNAME:CST
DTSTART:20251102T070000
END:STANDARD
BEGIN:DAYLIGHT
TZOFFSETFROM:-0600
TZOFFSETTO:-0500
TZNAME:CDT
DTSTART:20260308T080000
END:DAYLIGHT
BEGIN:STANDARD
TZOFFSETFROM:-0500
TZOFFSETTO:-0600
TZNAME:CST
DTSTART:20261101T070000
END:STANDARD
BEGIN:DAYLIGHT
TZOFFSETFROM:-0600
TZOFFSETTO:-0500
TZNAME:CDT
DTSTART:20270314T080000
END:DAYLIGHT
BEGIN:STANDARD
TZOFFSETFROM:-0500
TZOFFSETTO:-0600
TZNAME:CST
DTSTART:20271107T070000
END:STANDARD
END:VTIMEZONE
BEGIN:VEVENT
DTSTART;VALUE=DATE:20260103
DTEND;VALUE=DATE:20260104
DTSTAMP:20260421T062100
CREATED:20250904T184605Z
LAST-MODIFIED:20250904T184605Z
UID:8886-1767398400-1767484799@www.goppca.com
SUMMARY:Pee Wee Basketball Game vs St. Andrews
DESCRIPTION:5g – 9:00am\n5b – 10:00am\n6g – 11:00am\n6b – 12:00pm
URL:https://www.goppca.com/calendar/pee-wee-basketball-game-vs-st-andrews/
LOCATION:Park Place Christian Academy\, 201 Park Place Drive\, Pearl\, MS\, 39208\, United States
CATEGORIES:Athletics Calendar
END:VEVENT
BEGIN:VEVENT
DTSTART;VALUE=DATE:20260105
DTEND;VALUE=DATE:20260106
DTSTAMP:20260421T062100
CREATED:20250904T184754Z
LAST-MODIFIED:20250904T184754Z
UID:8888-1767571200-1767657599@www.goppca.com
SUMMARY:Pee Wee Basketball Game vs Clinton Christian
DESCRIPTION:5g – 4:00\n5b – 5:00\n6g – 6:00\n6b – 7:00
URL:https://www.goppca.com/calendar/pee-wee-basketball-game-vs-clinton-christian/
LOCATION:Park Place Christian Academy\, 201 Park Place Drive\, Pearl\, MS\, 39208\, United States
CATEGORIES:Athletics Calendar
END:VEVENT
BEGIN:VEVENT
DTSTART;VALUE=DATE:20260106
DTEND;VALUE=DATE:20260107
DTSTAMP:20260421T062100
CREATED:20250929T223349Z
LAST-MODIFIED:20251010T173119Z
UID:9046-1767657600-1767743999@www.goppca.com
SUMMARY:7th gr boys\,JH/Var Basketball Game @ Parklane
DESCRIPTION:7th gr boys – 3:15pm\njh girls – 4:00pm\njh boys – 5:00pm\nVar Girls – 6:00pm\nVar Boys – 7:30pm
URL:https://www.goppca.com/calendar/jh-var-basketball-game-parklane/
LOCATION:Parklane Academy\, 1115 Parklane Rd\, McComb\, Mississippi\, 39648
CATEGORIES:Athletics Calendar
END:VEVENT
BEGIN:VEVENT
DTSTART;VALUE=DATE:20260108
DTEND;VALUE=DATE:20260109
DTSTAMP:20260421T062100
CREATED:20250904T184900Z
LAST-MODIFIED:20250904T184900Z
UID:8890-1767830400-1767916799@www.goppca.com
SUMMARY:Pee Wee Basketball Game @ Clinton Christian
DESCRIPTION:5g – 4:00\n5b – 5:00\n6g – 6:00\n6b – 7:00
URL:https://www.goppca.com/calendar/pee-wee-basketball-game-clinton-christian/
LOCATION:Yazoo City\, MS
CATEGORIES:Athletics Calendar
END:VEVENT
BEGIN:VEVENT
DTSTART;VALUE=DATE:20260109
DTEND;VALUE=DATE:20260110
DTSTAMP:20260421T062100
CREATED:20250929T223939Z
LAST-MODIFIED:20250929T223939Z
UID:9051-1767916800-1768003199@www.goppca.com
SUMMARY:JH/Var Basketball Game vs MRA
DESCRIPTION:jh girls – 4:00pm\njh boys – 5:00pm\nVar Girls – 6:00pm\nVar Boys – 7:30pm
URL:https://www.goppca.com/calendar/jh-var-basketball-game-vs-mra/
LOCATION:PPCA Campus Gym\, 5701 Hwy 80 East\, Pearl\, MS\, 39208
CATEGORIES:Athletics Calendar
END:VEVENT
BEGIN:VEVENT
DTSTART;VALUE=DATE:20260112
DTEND;VALUE=DATE:20260113
DTSTAMP:20260421T062100
CREATED:20251006T135308Z
LAST-MODIFIED:20251006T140059Z
UID:9176-1768176000-1768262399@www.goppca.com
SUMMARY:Boys Soccer Game vs MRA
DESCRIPTION:4:00pm
URL:https://www.goppca.com/calendar/boys-soccer-game-vs-mra/
LOCATION:Park Place Christian Academy\, 201 Park Place Drive\, Pearl\, MS\, 39208\, United States
CATEGORIES:Athletics Calendar
END:VEVENT
BEGIN:VEVENT
DTSTART;VALUE=DATE:20260113
DTEND;VALUE=DATE:20260114
DTSTAMP:20260421T062100
CREATED:20250929T224137Z
LAST-MODIFIED:20250929T224137Z
UID:9053-1768262400-1768348799@www.goppca.com
SUMMARY:7th gr boys\, JH/Var Basketball Game @ Lamar School
DESCRIPTION:7th gr boys – 3:15pm\njh girls – 4:00pm\njh boys – 5:00pm\nVar Girls – 6:00pm\nVar Boys – 7:30pm
URL:https://www.goppca.com/calendar/7th-gr-boys-jh-var-basketball-game-lamar-school/
LOCATION:Lamar School\, 544 Lindley Rd\, Meridian\, MS\, 39305
CATEGORIES:Athletics Calendar
END:VEVENT
BEGIN:VEVENT
DTSTART;VALUE=DATE:20260115
DTEND;VALUE=DATE:20260116
DTSTAMP:20260421T062100
CREATED:20250904T185009Z
LAST-MODIFIED:20250904T185009Z
UID:8892-1768435200-1768521599@www.goppca.com
SUMMARY:Pee Wee Basketball Game vs Central Hinds
DESCRIPTION:5g – 4:00\n5b – 5:00\n6g – 6:00\n6b – 7:00
URL:https://www.goppca.com/calendar/pee-wee-basketball-game-vs-central-hinds-3/
LOCATION:Park Place Christian Academy\, 201 Park Place Drive\, Pearl\, MS\, 39208\, United States
CATEGORIES:Athletics Calendar
END:VEVENT
BEGIN:VEVENT
DTSTART;VALUE=DATE:20260115
DTEND;VALUE=DATE:20260116
DTSTAMP:20260421T062100
CREATED:20251006T140147Z
LAST-MODIFIED:20251010T174316Z
UID:9178-1768435200-1768521599@www.goppca.com
SUMMARY:Boys Soccer Game @ Brookhaven Academy
DESCRIPTION:5:00pm
URL:https://www.goppca.com/calendar/boys-soccer-game-brookhaven-academy-2/
LOCATION:Yazoo City\, MS
CATEGORIES:Athletics Calendar
END:VEVENT
BEGIN:VEVENT
DTSTART;VALUE=DATE:20260116
DTEND;VALUE=DATE:20260117
DTSTAMP:20260421T062100
CREATED:20250929T224342Z
LAST-MODIFIED:20250929T224342Z
UID:9055-1768521600-1768607999@www.goppca.com
SUMMARY:7th gr boys\, JH/Var Basketball Game vs Brookhaven Academy
DESCRIPTION:7th gr boys – 3:00pm\njh girls – 4:00pm\njh boys – 5:00pm\nVar Girls – 6:00pm\nVar Boys – 7:30pm
URL:https://www.goppca.com/calendar/7th-gr-boys-jh-var-basketball-game-vs-brookhaven-academy/
LOCATION:PPCA Campus Gym\, 5701 Hwy 80 East\, Pearl\, MS\, 39208
CATEGORIES:Athletics Calendar
END:VEVENT
BEGIN:VEVENT
DTSTART;VALUE=DATE:20260119
DTEND;VALUE=DATE:20260120
DTSTAMP:20260421T062100
CREATED:20251006T140242Z
LAST-MODIFIED:20251006T140242Z
UID:9180-1768780800-1768867199@www.goppca.com
SUMMARY:Boys Soccer Game @ Parklane Academy
DESCRIPTION:Time – TBD
URL:https://www.goppca.com/calendar/boys-soccer-game-parklane-academy/
LOCATION:Yazoo City\, MS
CATEGORIES:Athletics Calendar
END:VEVENT
BEGIN:VEVENT
DTSTART;VALUE=DATE:20260120
DTEND;VALUE=DATE:20260121
DTSTAMP:20260421T062100
CREATED:20250929T224516Z
LAST-MODIFIED:20250929T224516Z
UID:9057-1768867200-1768953599@www.goppca.com
SUMMARY:7th gr boys\, JH/Var Basketball Game @ Simpson Academy
DESCRIPTION:7th gr boys – 3:00pm\njh girls – 4:00pm\njh boys – 5:00pm\nVar Girls – 6:00pm\nVar Boys – 7:30pm
URL:https://www.goppca.com/calendar/7th-gr-boys-jh-var-basketball-game-simpson-academy/
LOCATION:Simpson Academy\, 124 Academy Circle\, Mendenhall\, MS\, 39114
CATEGORIES:Athletics Calendar
END:VEVENT
BEGIN:VEVENT
DTSTART;VALUE=DATE:20260122
DTEND;VALUE=DATE:20260123
DTSTAMP:20260421T062100
CREATED:20251006T140432Z
LAST-MODIFIED:20251006T140432Z
UID:9182-1769040000-1769126399@www.goppca.com
SUMMARY:Boys Soccer Game vs Parklane Academy
DESCRIPTION:4:00pm
URL:https://www.goppca.com/calendar/boys-soccer-game-vs-parklane-academy/
LOCATION:Park Place Christian Academy\, 201 Park Place Drive\, Pearl\, MS\, 39208\, United States
CATEGORIES:Athletics Calendar
END:VEVENT
BEGIN:VEVENT
DTSTART;VALUE=DATE:20260123
DTEND;VALUE=DATE:20260124
DTSTAMP:20260421T062100
CREATED:20250929T224651Z
LAST-MODIFIED:20260123T175309Z
UID:9059-1769126400-1769212799@www.goppca.com
SUMMARY:JH/Var Basketball Game vs Parklane
DESCRIPTION:jh girls – 4:00pm\njh boys – 5:00pm\nVar Girls – 6:00pm\nVar Boys – 7:30pm
URL:https://www.goppca.com/calendar/jh-var-basketball-game-vs-parklane/
LOCATION:PPCA Campus Gym\, 5701 Hwy 80 East\, Pearl\, MS\, 39208
CATEGORIES:Athletics Calendar
END:VEVENT
BEGIN:VEVENT
DTSTART;VALUE=DATE:20260127
DTEND;VALUE=DATE:20260128
DTSTAMP:20260421T062100
CREATED:20251006T140531Z
LAST-MODIFIED:20260122T195335Z
UID:9184-1769472000-1769558399@www.goppca.com
SUMMARY:Boys Soccer Game vs Brookhaven Academy - Senior Night
DESCRIPTION:4:00pm\nWe will be recognizing the Seniors before the game at 3:40pm.
URL:https://www.goppca.com/calendar/boys-soccer-game-vs-brookhaven-academy-2/
LOCATION:Yazoo City\, MS
CATEGORIES:Athletics Calendar
END:VEVENT
BEGIN:VEVENT
DTSTART;VALUE=DATE:20260129
DTEND;VALUE=DATE:20260130
DTSTAMP:20260421T062100
CREATED:20250929T224801Z
LAST-MODIFIED:20260126T143635Z
UID:9061-1769644800-1769731199@www.goppca.com
SUMMARY:Var Basketball Game @ MRA
DESCRIPTION:Var Girls – 6:00pm\nVar Boys – 7:15pm
URL:https://www.goppca.com/calendar/jh-var-basketball-game-mra/
LOCATION:Madison Ridgeland Academy\, 7601 Old Canton Road\, Madison\, MS\, 39110
CATEGORIES:Athletics Calendar
END:VEVENT
BEGIN:VEVENT
DTSTART;VALUE=DATE:20260129
DTEND;VALUE=DATE:20260130
DTSTAMP:20260421T062100
CREATED:20251006T140639Z
LAST-MODIFIED:20260126T144930Z
UID:9186-1769644800-1769731199@www.goppca.com
SUMMARY:Boys Soccer Game @ MRA
DESCRIPTION:5:30pm
URL:https://www.goppca.com/calendar/boys-soccer-game-mra/
LOCATION:Yazoo City\, MS
CATEGORIES:Athletics Calendar
END:VEVENT
BEGIN:VEVENT
DTSTART;VALUE=DATE:20260131
DTEND;VALUE=DATE:20260201
DTSTAMP:20260421T062100
CREATED:20251121T163718Z
LAST-MODIFIED:20260128T174608Z
UID:9389-1769817600-1769903999@www.goppca.com
SUMMARY:Var Baseball Game vs Magnolia Homeschool Jamboree - CANCELLED
DESCRIPTION:Magnolia vs Prentiss Christian – 11am\nPrentiss Christian vs PPCA – 1pm        CANCELLED DUE TO THE WEATHER \nPPCA vs Magnolia – 3pm
URL:https://www.goppca.com/calendar/var-dh-baseball-game-vs-magnolia-homeschool-jamboree/
LOCATION:Park Place Christian Academy\, 201 Park Place Drive\, Pearl\, MS\, 39208\, United States
CATEGORIES:Athletics Calendar
END:VEVENT
BEGIN:VEVENT
DTSTART;VALUE=DATE:20260131
DTEND;VALUE=DATE:20260201
DTSTAMP:20260421T062100
CREATED:20260122T171138Z
LAST-MODIFIED:20260130T182721Z
UID:9534-1769817600-1769903999@www.goppca.com
SUMMARY:Winter Guard Competition @ Brandon HS
DESCRIPTION:3:16pm
URL:https://www.goppca.com/calendar/winter-guard-competition-brandon-hs-3/
LOCATION:Yazoo City\, MS
CATEGORIES:Athletics Calendar
END:VEVENT
BEGIN:VEVENT
DTSTART;VALUE=DATE:20260131
DTEND;VALUE=DATE:20260201
DTSTAMP:20260421T062100
CREATED:20260130T184350Z
LAST-MODIFIED:20260130T184350Z
UID:9597-1769817600-1769903999@www.goppca.com
SUMMARY:JH District Basketball Tourn @ Brookhaven Academy
DESCRIPTION:jh girls – 10:00am\njh boys – 12:30pm
URL:https://www.goppca.com/calendar/jh-district-basketball-tourn-brookhaven-academy/
LOCATION:Yazoo City\, MS
CATEGORIES:Athletics Calendar
END:VEVENT
END:VCALENDAR