BEGIN:VCALENDAR
VERSION:2.0
PRODID:-//Park Place Christian Academy - ECPv6.15.20//NONSGML v1.0//EN
CALSCALE:GREGORIAN
METHOD:PUBLISH
X-ORIGINAL-URL:https://www.goppca.com
X-WR-CALDESC:Events for Park Place Christian Academy
REFRESH-INTERVAL;VALUE=DURATION:PT1H
X-Robots-Tag:noindex
X-PUBLISHED-TTL:PT1H
BEGIN:VTIMEZONE
TZID:America/Chicago
BEGIN:DAYLIGHT
TZOFFSETFROM:-0600
TZOFFSETTO:-0500
TZNAME:CDT
DTSTART:20250309T080000
END:DAYLIGHT
BEGIN:STANDARD
TZOFFSETFROM:-0500
TZOFFSETTO:-0600
TZNAME:CST
DTSTART:20251102T070000
END:STANDARD
BEGIN:DAYLIGHT
TZOFFSETFROM:-0600
TZOFFSETTO:-0500
TZNAME:CDT
DTSTART:20260308T080000
END:DAYLIGHT
BEGIN:STANDARD
TZOFFSETFROM:-0500
TZOFFSETTO:-0600
TZNAME:CST
DTSTART:20261101T070000
END:STANDARD
BEGIN:DAYLIGHT
TZOFFSETFROM:-0600
TZOFFSETTO:-0500
TZNAME:CDT
DTSTART:20270314T080000
END:DAYLIGHT
BEGIN:STANDARD
TZOFFSETFROM:-0500
TZOFFSETTO:-0600
TZNAME:CST
DTSTART:20271107T070000
END:STANDARD
END:VTIMEZONE
BEGIN:VEVENT
DTSTART;VALUE=DATE:20260202
DTEND;VALUE=DATE:20260203
DTSTAMP:20260421T045659
CREATED:20260202T173951Z
LAST-MODIFIED:20260202T173951Z
UID:9605-1769990400-1770076799@www.goppca.com
SUMMARY:Boys Soccer Dist Tourn @ Cathedral\, Natchez\, MS
DESCRIPTION:5:30pm
URL:https://www.goppca.com/calendar/boys-soccer-dist-tourn-cathedral-natchez-ms/
LOCATION:Yazoo City\, MS
CATEGORIES:Athletics Calendar
END:VEVENT
BEGIN:VEVENT
DTSTART;VALUE=DATE:20260205
DTEND;VALUE=DATE:20260206
DTSTAMP:20260421T045659
CREATED:20251106T155655Z
LAST-MODIFIED:20251106T155914Z
UID:9321-1770249600-1770335999@www.goppca.com
SUMMARY:Tennis Match vs Sylva Bay
DESCRIPTION:3:30pm
URL:https://www.goppca.com/calendar/tennis-match-vs-sylva-bay-2/
LOCATION:The Club at Crossgates\, 100 Professional Drive\, Brandon\, MS\, 39042
CATEGORIES:Athletics Calendar
END:VEVENT
BEGIN:VEVENT
DTSTART;VALUE=DATE:20260205
DTEND;VALUE=DATE:20260206
DTSTAMP:20260421T045659
CREATED:20251121T163812Z
LAST-MODIFIED:20260205T155327Z
UID:9391-1770249600-1770335999@www.goppca.com
SUMMARY:Var Baseball Game vs Leake Academy - CANCELLED
DESCRIPTION:Var – 6:00pm CANCELLED
URL:https://www.goppca.com/calendar/jv-var-baseball-game-vs-leake-academy/
LOCATION:Park Place Christian Academy\, 201 Park Place Drive\, Pearl\, MS\, 39208\, United States
CATEGORIES:Athletics Calendar
END:VEVENT
BEGIN:VEVENT
DTSTART;VALUE=DATE:20260205
DTEND;VALUE=DATE:20260206
DTSTAMP:20260421T045659
CREATED:20260204T145946Z
LAST-MODIFIED:20260204T164217Z
UID:9616-1770249600-1770335999@www.goppca.com
SUMMARY:Boys Soccer Play-Offs vs Copiah @ PPCA
DESCRIPTION:4:30pm
URL:https://www.goppca.com/calendar/boys-soccer-play-offs-vs-copiah/
LOCATION:Park Place Christian Academy\, 201 Park Place Drive\, Pearl\, MS\, 39208\, United States
CATEGORIES:Athletics Calendar
END:VEVENT
BEGIN:VEVENT
DTSTART;VALUE=DATE:20260207
DTEND;VALUE=DATE:20260208
DTSTAMP:20260421T045659
CREATED:20251121T163913Z
LAST-MODIFIED:20260205T155453Z
UID:9393-1770422400-1770508799@www.goppca.com
SUMMARY:Var (DH) Baseball Game vs Forest
DESCRIPTION:JV – 2:00pm\nVar – 4:00pm
URL:https://www.goppca.com/calendar/var-dh-baseball-game-forest/
LOCATION:Yazoo City\, MS
CATEGORIES:Athletics Calendar
END:VEVENT
BEGIN:VEVENT
DTSTART;VALUE=DATE:20260209
DTEND;VALUE=DATE:20260210
DTSTAMP:20260421T045659
CREATED:20251121T164039Z
LAST-MODIFIED:20260206T164103Z
UID:9395-1770595200-1770681599@www.goppca.com
SUMMARY:Var Baseball Game vs Puckett
DESCRIPTION:Var – 6:00pm
URL:https://www.goppca.com/calendar/jv-var-baseball-game-vs-puckett/
LOCATION:Park Place Christian Academy\, 201 Park Place Drive\, Pearl\, MS\, 39208\, United States
CATEGORIES:Athletics Calendar
END:VEVENT
BEGIN:VEVENT
DTSTART;VALUE=DATE:20260209
DTEND;VALUE=DATE:20260210
DTSTAMP:20260421T045659
CREATED:20260204T175327Z
LAST-MODIFIED:20260204T175327Z
UID:9629-1770595200-1770681599@www.goppca.com
SUMMARY:4th-8th Grade Archery Meet vs Magee Middle School
DESCRIPTION:4:30pm
URL:https://www.goppca.com/calendar/4th-8th-grade-archery-meet-vs-magee-middle-school/
LOCATION:Yazoo City\, MS
CATEGORIES:Athletics Calendar
END:VEVENT
BEGIN:VEVENT
DTSTART;VALUE=DATE:20260209
DTEND;VALUE=DATE:20260210
DTSTAMP:20260421T045659
CREATED:20260206T173957Z
LAST-MODIFIED:20260206T173957Z
UID:9652-1770595200-1770681599@www.goppca.com
SUMMARY:Boys Soccer Play-Offs vs Oak Forest
DESCRIPTION:4:00pm
URL:https://www.goppca.com/calendar/boys-soccer-play-offs-vs-oak-forest/
LOCATION:Yazoo City\, MS
CATEGORIES:Athletics Calendar
END:VEVENT
BEGIN:VEVENT
DTSTART;VALUE=DATE:20260212
DTEND;VALUE=DATE:20260213
DTSTAMP:20260421T045659
CREATED:20251106T155739Z
LAST-MODIFIED:20251106T161215Z
UID:9323-1770854400-1770940799@www.goppca.com
SUMMARY:Tennis Match vs McLaurin
DESCRIPTION:3:00pm
URL:https://www.goppca.com/calendar/tennis-match-vs-mclaurin-2/
LOCATION:The Club at Crossgates\, 100 Professional Drive\, Brandon\, MS\, 39042
CATEGORIES:Athletics Calendar
END:VEVENT
BEGIN:VEVENT
DTSTART;VALUE=DATE:20260212
DTEND;VALUE=DATE:20260213
DTSTAMP:20260421T045659
CREATED:20251121T164324Z
LAST-MODIFIED:20260210T163400Z
UID:9399-1770854400-1770940799@www.goppca.com
SUMMARY:Var Baseball Game vs Benton Academy
DESCRIPTION:Var – 6:00pm
URL:https://www.goppca.com/calendar/jv-var-baseball-game-vs-benton-academy/
LOCATION:Park Place Christian Academy\, 201 Park Place Drive\, Pearl\, MS\, 39208\, United States
CATEGORIES:Athletics Calendar
END:VEVENT
BEGIN:VEVENT
DTSTART;VALUE=DATE:20260213
DTEND;VALUE=DATE:20260214
DTSTAMP:20260421T045659
CREATED:20251120T161652Z
LAST-MODIFIED:20251120T161652Z
UID:9363-1770940800-1771027199@www.goppca.com
SUMMARY:JH Baseball Game vs Madison St. Joe
DESCRIPTION:4:00pm & 6:00pm
URL:https://www.goppca.com/calendar/jh-baseball-game-vs-madison-st-joe-2/
LOCATION:Park Place Christian Academy\, 201 Park Place Drive\, Pearl\, MS\, 39208\, United States
CATEGORIES:Athletics Calendar
END:VEVENT
BEGIN:VEVENT
DTSTART;VALUE=DATE:20260214
DTEND;VALUE=DATE:20260215
DTSTAMP:20260421T045659
CREATED:20260122T171219Z
LAST-MODIFIED:20260204T155420Z
UID:9536-1771027200-1771113599@www.goppca.com
SUMMARY:Winter Guard Competition @ Neshoba
DESCRIPTION:3:40pm  – Please arrive 15 mins prior to the performance.  The cost of admission is $10.
URL:https://www.goppca.com/calendar/winter-guard-competition-neshoba/
LOCATION:Yazoo City\, MS
CATEGORIES:Athletics Calendar
END:VEVENT
BEGIN:VEVENT
DTSTART;VALUE=DATE:20260216
DTEND;VALUE=DATE:20260218
DTSTAMP:20260421T045659
CREATED:20260305T145709Z
LAST-MODIFIED:20260305T145709Z
UID:9815-1771200000-1771372799@www.goppca.com
SUMMARY:Varsity Golf Tourn @ Old Waverly
DESCRIPTION:12:00pm/8:00am shotgun – Old Waverly – hosted by Oak Hill
URL:https://www.goppca.com/calendar/varsity-golf-tourn-old-waverly/
LOCATION:Yazoo City\, MS
CATEGORIES:Athletics Calendar
END:VEVENT
BEGIN:VEVENT
DTSTART;VALUE=DATE:20260217
DTEND;VALUE=DATE:20260218
DTSTAMP:20260421T045659
CREATED:20251106T155840Z
LAST-MODIFIED:20251106T155840Z
UID:9325-1771286400-1771372799@www.goppca.com
SUMMARY:Tennis Match vs Victors
DESCRIPTION:3:00pm
URL:https://www.goppca.com/calendar/tennis-match-vs-victors-4/
LOCATION:The Club at Crossgates\, 100 Professional Drive\, Brandon\, MS\, 39042
CATEGORIES:Athletics Calendar
END:VEVENT
BEGIN:VEVENT
DTSTART;VALUE=DATE:20260219
DTEND;VALUE=DATE:20260220
DTSTAMP:20260421T045659
CREATED:20251106T161305Z
LAST-MODIFIED:20260219T155445Z
UID:9327-1771459200-1771545599@www.goppca.com
SUMMARY:Tennis Match @ East Rankin
DESCRIPTION:3:30pm
URL:https://www.goppca.com/calendar/tennis-match-east-rankin-3/
LOCATION:East Rankin Academy\, 400 MS-43\, Pelahatchie\, MS\, 39145
CATEGORIES:Athletics Calendar
END:VEVENT
BEGIN:VEVENT
DTSTART;VALUE=DATE:20260219
DTEND;VALUE=DATE:20260220
DTSTAMP:20260421T045659
CREATED:20251217T142635Z
LAST-MODIFIED:20251217T142635Z
UID:9479-1771459200-1771545599@www.goppca.com
SUMMARY:Var Baseball Game @ Pelahatchie
DESCRIPTION:7:00pm
URL:https://www.goppca.com/calendar/var-baseball-game-pelahatchie/
LOCATION:Yazoo City\, MS
CATEGORIES:Athletics Calendar
END:VEVENT
BEGIN:VEVENT
DTSTART;VALUE=DATE:20260220
DTEND;VALUE=DATE:20260221
DTSTAMP:20260421T045659
CREATED:20251121T165038Z
LAST-MODIFIED:20260205T155357Z
UID:9403-1771545600-1771631999@www.goppca.com
SUMMARY:JV/Var Baseball Game vs Leake
DESCRIPTION:JV – 4:00pm\nVar – 6:00pm
URL:https://www.goppca.com/calendar/jv-var-baseball-game-vs-manchester/
LOCATION:Park Place Christian Academy\, 201 Park Place Drive\, Pearl\, MS\, 39208\, United States
CATEGORIES:Athletics Calendar
END:VEVENT
BEGIN:VEVENT
DTSTART;VALUE=DATE:20260221
DTEND;VALUE=DATE:20260222
DTSTAMP:20260421T045659
CREATED:20251106T161423Z
LAST-MODIFIED:20260226T174248Z
UID:9329-1771632000-1771718399@www.goppca.com
SUMMARY:Tennis Match @ REZ YMCA vs Pisgah
DESCRIPTION:10:00
URL:https://www.goppca.com/calendar/ppcs-dcs-pisgah-tournament-brandon-city-courts/
LOCATION:Yazoo City\, MS
CATEGORIES:Athletics Calendar
END:VEVENT
BEGIN:VEVENT
DTSTART;VALUE=DATE:20260223
DTEND;VALUE=DATE:20260224
DTSTAMP:20260421T045659
CREATED:20251121T165200Z
LAST-MODIFIED:20251121T170016Z
UID:9405-1771804800-1771891199@www.goppca.com
SUMMARY:JV/Var Baseball Game @ Central Hinds
DESCRIPTION:JV – 4:00pm\nVar – 6:00pm
URL:https://www.goppca.com/calendar/jv-var-baseball-game-central-hinds-2/
LOCATION:Central Hinds Academy\, 2894 Raymond Bolton Rd\, Raymond\, MS\, 39154
CATEGORIES:Athletics Calendar
END:VEVENT
BEGIN:VEVENT
DTSTART;VALUE=DATE:20260223
DTEND;VALUE=DATE:20260224
DTSTAMP:20260421T045659
CREATED:20260204T175512Z
LAST-MODIFIED:20260204T175512Z
UID:9631-1771804800-1771891199@www.goppca.com
SUMMARY:6th-12th Grade Archery Meet vs Copiah
DESCRIPTION:4:00pm
URL:https://www.goppca.com/calendar/6th-12th-grade-archery-meet-vs-copiah/
LOCATION:Yazoo City\, MS
CATEGORIES:Athletics Calendar
END:VEVENT
BEGIN:VEVENT
DTSTART;VALUE=DATE:20260223
DTEND;VALUE=DATE:20260224
DTSTAMP:20260421T045659
CREATED:20260305T145804Z
LAST-MODIFIED:20260305T145804Z
UID:9817-1771804800-1771891199@www.goppca.com
SUMMARY:Varsity Golf Tourn @ Hattiesburg CC
DESCRIPTION:9:00am shotgun – Hattiesburg CC – hosted by Simpson Academy
URL:https://www.goppca.com/calendar/varsity-golf-tourn-hattiesburg-cc-2/
LOCATION:Yazoo City\, MS
CATEGORIES:Athletics Calendar
END:VEVENT
BEGIN:VEVENT
DTSTART;VALUE=DATE:20260224
DTEND;VALUE=DATE:20260225
DTSTAMP:20260421T045659
CREATED:20251121T170122Z
LAST-MODIFIED:20251121T170328Z
UID:9408-1771891200-1771977599@www.goppca.com
SUMMARY:JV/Var Baseball Game vs Victor's
DESCRIPTION:JV – 5:00pm\nVar – 7:00pm
URL:https://www.goppca.com/calendar/jv-var-baseball-game-vs-victors/
LOCATION:Park Place Christian Academy\, 201 Park Place Drive\, Pearl\, MS\, 39208\, United States
CATEGORIES:Athletics Calendar
END:VEVENT
BEGIN:VEVENT
DTSTART;VALUE=DATE:20260225
DTEND;VALUE=DATE:20260226
DTSTAMP:20260421T045659
CREATED:20260218T160801Z
LAST-MODIFIED:20260218T160801Z
UID:9713-1771977600-1772063999@www.goppca.com
SUMMARY:Var Girls Soccer Game vs Porters Chapel
DESCRIPTION:3:00pm
URL:https://www.goppca.com/calendar/var-girls-soccer-game-vs-porters-chapel/
LOCATION:Park Place Christian Academy\, 201 Park Place Drive\, Pearl\, MS\, 39208\, United States
CATEGORIES:Athletics Calendar
END:VEVENT
BEGIN:VEVENT
DTSTART;VALUE=DATE:20260225
DTEND;VALUE=DATE:20260226
DTSTAMP:20260421T045659
CREATED:20260305T145912Z
LAST-MODIFIED:20260305T145912Z
UID:9819-1771977600-1772063999@www.goppca.com
SUMMARY:JV Golf Tourn @ Lake Caroline
DESCRIPTION:8:00am tee times – Lake Caroline – hosted by Tri-County
URL:https://www.goppca.com/calendar/jv-golf-tourn-lake-caroline/
LOCATION:Yazoo City\, MS
CATEGORIES:Athletics Calendar
END:VEVENT
BEGIN:VEVENT
DTSTART;VALUE=DATE:20260226
DTEND;VALUE=DATE:20260227
DTSTAMP:20260421T045659
CREATED:20251120T161747Z
LAST-MODIFIED:20251120T161939Z
UID:9365-1772064000-1772150399@www.goppca.com
SUMMARY:JH Baseball Game @ Central Hinds
DESCRIPTION:4:00pm & 6:00pm
URL:https://www.goppca.com/calendar/jh-baseball-game-central-hinds-3/
LOCATION:Central Hinds Academy\, 2894 Raymond Bolton Rd\, Raymond\, MS\, 39154
CATEGORIES:Athletics Calendar
END:VEVENT
BEGIN:VEVENT
DTSTART;VALUE=DATE:20260226
DTEND;VALUE=DATE:20260227
DTSTAMP:20260421T045659
CREATED:20260204T175610Z
LAST-MODIFIED:20260204T175610Z
UID:9633-1772064000-1772150399@www.goppca.com
SUMMARY:6th-12th Grade Archery Meet vs Florence High School
DESCRIPTION:4:00pm
URL:https://www.goppca.com/calendar/6th-12th-grade-archery-meet-vs-florence-high-school/
LOCATION:Yazoo City\, MS
CATEGORIES:Athletics Calendar
END:VEVENT
BEGIN:VEVENT
DTSTART;VALUE=DATE:20260227
DTEND;VALUE=DATE:20260228
DTSTAMP:20260421T045659
CREATED:20251106T161525Z
LAST-MODIFIED:20260226T174046Z
UID:9331-1772150400-1772236799@www.goppca.com
SUMMARY:Tennis Match vs Brookhaven Academy
DESCRIPTION:2:30pm
URL:https://www.goppca.com/calendar/tennis-match-vs-brookhaven-academy/
LOCATION:The Club at Crossgates\, 100 Professional Drive\, Brandon\, MS\, 39042
CATEGORIES:Athletics Calendar
END:VEVENT
BEGIN:VEVENT
DTSTART;VALUE=DATE:20260228
DTEND;VALUE=DATE:20260301
DTSTAMP:20260421T045659
CREATED:20251121T170230Z
LAST-MODIFIED:20251121T170230Z
UID:9410-1772236800-1772323199@www.goppca.com
SUMMARY:JV/Var Baseball Game vs Central Hinds
DESCRIPTION:JV – 12:00pm\nVar – 2:00pm
URL:https://www.goppca.com/calendar/jv-var-baseball-game-vs-central-hinds/
LOCATION:Park Place Christian Academy\, 201 Park Place Drive\, Pearl\, MS\, 39208\, United States
CATEGORIES:Athletics Calendar
END:VEVENT
BEGIN:VEVENT
DTSTART;VALUE=DATE:20260228
DTEND;VALUE=DATE:20260301
DTSTAMP:20260421T045659
CREATED:20260218T143443Z
LAST-MODIFIED:20260218T143443Z
UID:9685-1772236800-1772323199@www.goppca.com
SUMMARY:Track Meet @ Canton Academy
DESCRIPTION:Time – TBA
URL:https://www.goppca.com/calendar/track-meet-canton-academy-8/
LOCATION:Canton Academy\, 365 Van Buren St\, Canton\, MS\, 39046
CATEGORIES:Athletics Calendar
END:VEVENT
BEGIN:VEVENT
DTSTART;VALUE=DATE:20260228
DTEND;VALUE=DATE:20260301
DTSTAMP:20260421T045659
CREATED:20260226T174352Z
LAST-MODIFIED:20260226T174352Z
UID:9771-1772236800-1772323199@www.goppca.com
SUMMARY:Tennis Match vs Discovery Christian @ Brandon City Courts
DESCRIPTION:11:30
URL:https://www.goppca.com/calendar/tennis-match-vs-discovery-christian-brandon-city-courts/
LOCATION:Yazoo City\, MS
CATEGORIES:Athletics Calendar
END:VEVENT
END:VCALENDAR