BEGIN:VCALENDAR
VERSION:2.0
PRODID:-//Park Place Christian Academy - ECPv6.15.20//NONSGML v1.0//EN
CALSCALE:GREGORIAN
METHOD:PUBLISH
X-ORIGINAL-URL:https://www.goppca.com
X-WR-CALDESC:Events for Park Place Christian Academy
REFRESH-INTERVAL;VALUE=DURATION:PT1H
X-Robots-Tag:noindex
X-PUBLISHED-TTL:PT1H
BEGIN:VTIMEZONE
TZID:America/Chicago
BEGIN:DAYLIGHT
TZOFFSETFROM:-0600
TZOFFSETTO:-0500
TZNAME:CDT
DTSTART:20250309T080000
END:DAYLIGHT
BEGIN:STANDARD
TZOFFSETFROM:-0500
TZOFFSETTO:-0600
TZNAME:CST
DTSTART:20251102T070000
END:STANDARD
BEGIN:DAYLIGHT
TZOFFSETFROM:-0600
TZOFFSETTO:-0500
TZNAME:CDT
DTSTART:20260308T080000
END:DAYLIGHT
BEGIN:STANDARD
TZOFFSETFROM:-0500
TZOFFSETTO:-0600
TZNAME:CST
DTSTART:20261101T070000
END:STANDARD
BEGIN:DAYLIGHT
TZOFFSETFROM:-0600
TZOFFSETTO:-0500
TZNAME:CDT
DTSTART:20270314T080000
END:DAYLIGHT
BEGIN:STANDARD
TZOFFSETFROM:-0500
TZOFFSETTO:-0600
TZNAME:CST
DTSTART:20271107T070000
END:STANDARD
END:VTIMEZONE
BEGIN:VEVENT
DTSTART;VALUE=DATE:20260803
DTEND;VALUE=DATE:20260804
DTSTAMP:20260421T092448
CREATED:20260420T143232Z
LAST-MODIFIED:20260420T143232Z
UID:10034-1785715200-1785801599@www.goppca.com
SUMMARY:JV/Var Softball Game @ Lamar Christian
DESCRIPTION:JV – 4:30\nVar – 6:00
URL:https://www.goppca.com/calendar/jv-var-softball-game-lamar-christian-2/
LOCATION:Yazoo City\, MS
CATEGORIES:Athletics Calendar
END:VEVENT
BEGIN:VEVENT
DTSTART;VALUE=DATE:20260806
DTEND;VALUE=DATE:20260807
DTSTAMP:20260421T092448
CREATED:20260420T143414Z
LAST-MODIFIED:20260420T143541Z
UID:10036-1785974400-1786060799@www.goppca.com
SUMMARY:JV/Var Softball Game vs Madison St. Joe
DESCRIPTION:JV – 4:30\nVar – 6:00
URL:https://www.goppca.com/calendar/jv-var-softball-game-vs-madison-st-joe/
LOCATION:Park Place Christian Academy\, 201 Park Place Drive\, Pearl\, MS\, 39208\, United States
CATEGORIES:Athletics Calendar
END:VEVENT
BEGIN:VEVENT
DTSTART;VALUE=DATE:20260810
DTEND;VALUE=DATE:20260811
DTSTAMP:20260421T092448
CREATED:20260420T143718Z
LAST-MODIFIED:20260420T143718Z
UID:10038-1786320000-1786406399@www.goppca.com
SUMMARY:JV/Var Softball Game vs Lamar Christian
DESCRIPTION:JV – 4:30\nVar – 6:00
URL:https://www.goppca.com/calendar/jv-var-softball-game-vs-lamar-christian-2/
LOCATION:Park Place Christian Academy\, 201 Park Place Drive\, Pearl\, MS\, 39208\, United States
CATEGORIES:Athletics Calendar
END:VEVENT
BEGIN:VEVENT
DTSTART;VALUE=DATE:20260813
DTEND;VALUE=DATE:20260814
DTSTAMP:20260421T092448
CREATED:20260420T143822Z
LAST-MODIFIED:20260420T143909Z
UID:10040-1786579200-1786665599@www.goppca.com
SUMMARY:JV/Var Softball Game @ Madison St. Joe
DESCRIPTION:JV – 4:30\nVar – 6:00
URL:https://www.goppca.com/calendar/jv-var-softball-game-madison-st-joe-2/
LOCATION:Yazoo City\, MS
CATEGORIES:Athletics Calendar
END:VEVENT
BEGIN:VEVENT
DTSTART;VALUE=DATE:20260817
DTEND;VALUE=DATE:20260818
DTSTAMP:20260421T092448
CREATED:20260420T144029Z
LAST-MODIFIED:20260420T144030Z
UID:10042-1786924800-1787011199@www.goppca.com
SUMMARY:JV/Var Softball Game @ MRA
DESCRIPTION:JV – 4:30\nVar – 6:30
URL:https://www.goppca.com/calendar/jv-var-softball-game-mra-2/
LOCATION:Yazoo City\, MS
CATEGORIES:Athletics Calendar
END:VEVENT
BEGIN:VEVENT
DTSTART;VALUE=DATE:20260820
DTEND;VALUE=DATE:20260821
DTSTAMP:20260421T092448
CREATED:20260420T144141Z
LAST-MODIFIED:20260420T144141Z
UID:10044-1787184000-1787270399@www.goppca.com
SUMMARY:JV/Var Softball Game vs Porter's Chapel
DESCRIPTION:JV – 4:30\nVar – 6:00
URL:https://www.goppca.com/calendar/jv-var-softball-game-vs-porters-chapel-2/
LOCATION:Park Place Christian Academy\, 201 Park Place Drive\, Pearl\, MS\, 39208\, United States
CATEGORIES:Athletics Calendar
END:VEVENT
BEGIN:VEVENT
DTSTART;VALUE=DATE:20260820
DTEND;VALUE=DATE:20260821
DTSTAMP:20260421T092448
CREATED:20260420T154239Z
LAST-MODIFIED:20260420T154239Z
UID:10092-1787184000-1787270399@www.goppca.com
SUMMARY:PW/JH Football Game @ St. Aloysius
DESCRIPTION:Pee Wee – 5:00\nJH – 6:00
URL:https://www.goppca.com/calendar/pw-jh-football-game-st-aloysius/
LOCATION:St. Aloysius\, 1900 Grove St\, Vicksburg\, Mississippi\, 39183
CATEGORIES:Athletics Calendar
END:VEVENT
BEGIN:VEVENT
DTSTART;VALUE=DATE:20260821
DTEND;VALUE=DATE:20260822
DTSTAMP:20260421T092448
CREATED:20260420T152044Z
LAST-MODIFIED:20260420T152044Z
UID:10067-1787270400-1787356799@www.goppca.com
SUMMARY:Varsity Football Game vs Mt. Zion
DESCRIPTION:7:00
URL:https://www.goppca.com/calendar/varsity-football-game-vs-mt-zion/
LOCATION:Park Place Christian Academy\, 201 Park Place Drive\, Pearl\, MS\, 39208\, United States
CATEGORIES:Athletics Calendar
END:VEVENT
BEGIN:VEVENT
DTSTART;VALUE=DATE:20260824
DTEND;VALUE=DATE:20260825
DTSTAMP:20260421T092448
CREATED:20260420T144251Z
LAST-MODIFIED:20260420T144251Z
UID:10046-1787529600-1787615999@www.goppca.com
SUMMARY:JV/Var Softball Game @ Leake Academy
DESCRIPTION:JV – 4:30\nVar – 6:00
URL:https://www.goppca.com/calendar/jv-var-softball-game-leake-academy-2/
LOCATION:Yazoo City\, MS
CATEGORIES:Athletics Calendar
END:VEVENT
BEGIN:VEVENT
DTSTART;VALUE=DATE:20260825
DTEND;VALUE=DATE:20260826
DTSTAMP:20260421T092448
CREATED:20260420T144412Z
LAST-MODIFIED:20260420T144412Z
UID:10048-1787616000-1787702399@www.goppca.com
SUMMARY:JV/Var Softball Game vs Leake Academy
DESCRIPTION:JV – 4:30\nVar – 6:00
URL:https://www.goppca.com/calendar/jv-var-softball-game-vs-leake-academy/
LOCATION:Park Place Christian Academy\, 201 Park Place Drive\, Pearl\, MS\, 39208\, United States
CATEGORIES:Athletics Calendar
END:VEVENT
BEGIN:VEVENT
DTSTART;VALUE=DATE:20260827
DTEND;VALUE=DATE:20260828
DTSTAMP:20260421T092448
CREATED:20260420T154330Z
LAST-MODIFIED:20260420T154330Z
UID:10094-1787788800-1787875199@www.goppca.com
SUMMARY:PW/JH Football Game @ TBD
DESCRIPTION:Pee Wee – 5:00\nJH – 6:00
URL:https://www.goppca.com/calendar/pw-jh-football-game-tbd/
LOCATION:Yazoo City\, MS
CATEGORIES:Athletics Calendar
END:VEVENT
BEGIN:VEVENT
DTSTART;VALUE=DATE:20260828
DTEND;VALUE=DATE:20260829
DTSTAMP:20260421T092448
CREATED:20260420T152140Z
LAST-MODIFIED:20260420T152140Z
UID:10069-1787875200-1787961599@www.goppca.com
SUMMARY:Varsity Football Game vs Faulkner
DESCRIPTION:7:00
URL:https://www.goppca.com/calendar/varsity-football-game-vs-faulkner/
LOCATION:Park Place Christian Academy\, 201 Park Place Drive\, Pearl\, MS\, 39208\, United States
CATEGORIES:Athletics Calendar
END:VEVENT
BEGIN:VEVENT
DTSTART;VALUE=DATE:20260831
DTEND;VALUE=DATE:20260901
DTSTAMP:20260421T092448
CREATED:20260420T144536Z
LAST-MODIFIED:20260420T144536Z
UID:10050-1788134400-1788220799@www.goppca.com
SUMMARY:JV/Var Softball Game vs Wayne Academy
DESCRIPTION:JV – 4:30\nVar – 6:00
URL:https://www.goppca.com/calendar/jv-var-softball-game-vs-wayne-academy/
LOCATION:Park Place Christian Academy\, 201 Park Place Drive\, Pearl\, MS\, 39208\, United States
CATEGORIES:Athletics Calendar
END:VEVENT
END:VCALENDAR