BEGIN:VCALENDAR
VERSION:2.0
PRODID:-//Park Place Christian Academy - ECPv6.15.20//NONSGML v1.0//EN
CALSCALE:GREGORIAN
METHOD:PUBLISH
X-WR-CALNAME:Park Place Christian Academy
X-ORIGINAL-URL:https://www.goppca.com
X-WR-CALDESC:Events for Park Place Christian Academy
REFRESH-INTERVAL;VALUE=DURATION:PT1H
X-Robots-Tag:noindex
X-PUBLISHED-TTL:PT1H
BEGIN:VTIMEZONE
TZID:America/Chicago
BEGIN:DAYLIGHT
TZOFFSETFROM:-0600
TZOFFSETTO:-0500
TZNAME:CDT
DTSTART:20250309T080000
END:DAYLIGHT
BEGIN:STANDARD
TZOFFSETFROM:-0500
TZOFFSETTO:-0600
TZNAME:CST
DTSTART:20251102T070000
END:STANDARD
BEGIN:DAYLIGHT
TZOFFSETFROM:-0600
TZOFFSETTO:-0500
TZNAME:CDT
DTSTART:20260308T080000
END:DAYLIGHT
BEGIN:STANDARD
TZOFFSETFROM:-0500
TZOFFSETTO:-0600
TZNAME:CST
DTSTART:20261101T070000
END:STANDARD
BEGIN:DAYLIGHT
TZOFFSETFROM:-0600
TZOFFSETTO:-0500
TZNAME:CDT
DTSTART:20270314T080000
END:DAYLIGHT
BEGIN:STANDARD
TZOFFSETFROM:-0500
TZOFFSETTO:-0600
TZNAME:CST
DTSTART:20271107T070000
END:STANDARD
END:VTIMEZONE
BEGIN:VEVENT
DTSTART;VALUE=DATE:20260901
DTEND;VALUE=DATE:20260902
DTSTAMP:20260421T105539
CREATED:20260420T145004Z
LAST-MODIFIED:20260420T145004Z
UID:10052-1788220800-1788307199@www.goppca.com
SUMMARY:JV/Var Softball Game @ Wayne Academy
DESCRIPTION:JV – 4:30\nVar – 6:00
URL:https://www.goppca.com/calendar/jv-var-softball-game-wayne-academy-2/
LOCATION:Yazoo City\, MS
CATEGORIES:Athletics Calendar
END:VEVENT
BEGIN:VEVENT
DTSTART;VALUE=DATE:20260903
DTEND;VALUE=DATE:20260904
DTSTAMP:20260421T105539
CREATED:20260420T154428Z
LAST-MODIFIED:20260420T154440Z
UID:10096-1788393600-1788479999@www.goppca.com
SUMMARY:PW/JH Football Game vs Discovery
DESCRIPTION:Pee Wee – 5:00\nJH – 6:00
URL:https://www.goppca.com/calendar/pw-jh-football-game-vs-discovery/
LOCATION:Yazoo City\, MS
CATEGORIES:Athletics Calendar
END:VEVENT
BEGIN:VEVENT
DTSTART;VALUE=DATE:20260904
DTEND;VALUE=DATE:20260905
DTSTAMP:20260421T105539
CREATED:20260420T152215Z
LAST-MODIFIED:20260420T152215Z
UID:10071-1788480000-1788566399@www.goppca.com
SUMMARY:Varsity Football Game @ Amite
DESCRIPTION:7:00
URL:https://www.goppca.com/calendar/varsity-football-game-amite/
LOCATION:Yazoo City\, MS
CATEGORIES:Athletics Calendar
END:VEVENT
BEGIN:VEVENT
DTSTART;VALUE=DATE:20260908
DTEND;VALUE=DATE:20260909
DTSTAMP:20260421T105539
CREATED:20260420T145107Z
LAST-MODIFIED:20260420T145107Z
UID:10054-1788825600-1788911999@www.goppca.com
SUMMARY:JV/Var Softball Game @ Porter's Chapel
DESCRIPTION:JV – 4:30\nVar – 6:00
URL:https://www.goppca.com/calendar/jv-var-softball-game-porters-chapel/
LOCATION:Porter’s Chapel\, 3460 Porters Chapel Rd\, Vicksburg\, Mississippi\, 39180
CATEGORIES:Athletics Calendar
END:VEVENT
BEGIN:VEVENT
DTSTART;VALUE=DATE:20260910
DTEND;VALUE=DATE:20260911
DTSTAMP:20260421T105539
CREATED:20260420T155249Z
LAST-MODIFIED:20260420T161121Z
UID:10099-1788998400-1789084799@www.goppca.com
SUMMARY:JH Football Game vs Mt. Zion
DESCRIPTION:6:00
URL:https://www.goppca.com/calendar/jh-football-game-vs-mt-zion-2/
LOCATION:Park Place Christian Academy\, 201 Park Place Drive\, Pearl\, MS\, 39208\, United States
CATEGORIES:Athletics Calendar
END:VEVENT
BEGIN:VEVENT
DTSTART;VALUE=DATE:20260911
DTEND;VALUE=DATE:20260912
DTSTAMP:20260421T105539
CREATED:20260420T152250Z
LAST-MODIFIED:20260420T152250Z
UID:10073-1789084800-1789171199@www.goppca.com
SUMMARY:Varsity Football Game @ Stringer
DESCRIPTION:7:00
URL:https://www.goppca.com/calendar/varsity-football-game-stringer/
LOCATION:Yazoo City\, MS
CATEGORIES:Athletics Calendar
END:VEVENT
BEGIN:VEVENT
DTSTART;VALUE=DATE:20260914
DTEND;VALUE=DATE:20260915
DTSTAMP:20260421T105539
CREATED:20260420T145212Z
LAST-MODIFIED:20260420T145212Z
UID:10056-1789344000-1789430399@www.goppca.com
SUMMARY:JV/Var Softball Game vs Victors
DESCRIPTION:JV – 4:30\nVar – 6:00
URL:https://www.goppca.com/calendar/jv-var-softball-game-vs-victors/
LOCATION:Park Place Christian Academy\, 201 Park Place Drive\, Pearl\, MS\, 39208\, United States
CATEGORIES:Athletics Calendar
END:VEVENT
BEGIN:VEVENT
DTSTART;VALUE=DATE:20260915
DTEND;VALUE=DATE:20260916
DTSTAMP:20260421T105539
CREATED:20260420T145327Z
LAST-MODIFIED:20260420T150813Z
UID:10058-1789430400-1789516799@www.goppca.com
SUMMARY:JV/Var Softball Game @ Victors
DESCRIPTION:JV – 4:30\nVar – 6:00 \nLocation – TBD
URL:https://www.goppca.com/calendar/jv-var-softball-game-victors/
LOCATION:Yazoo City\, MS
CATEGORIES:Athletics Calendar
END:VEVENT
BEGIN:VEVENT
DTSTART;VALUE=DATE:20260917
DTEND;VALUE=DATE:20260918
DTSTAMP:20260421T105539
CREATED:20260420T155348Z
LAST-MODIFIED:20260420T155348Z
UID:10101-1789603200-1789689599@www.goppca.com
SUMMARY:PW/JH Football Game vs Central Hinds
DESCRIPTION:Pee Wee – 5:00\nJH – 6:00
URL:https://www.goppca.com/calendar/pw-jh-football-game-vs-central-hinds/
LOCATION:Yazoo City\, MS
CATEGORIES:Athletics Calendar
END:VEVENT
BEGIN:VEVENT
DTSTART;VALUE=DATE:20260918
DTEND;VALUE=DATE:20260919
DTSTAMP:20260421T105539
CREATED:20260420T152335Z
LAST-MODIFIED:20260420T152634Z
UID:10075-1789689600-1789775999@www.goppca.com
SUMMARY:Varsity Football Game vs Manchester
DESCRIPTION:7:00
URL:https://www.goppca.com/calendar/varsity-football-game-vs-manchester/
LOCATION:Park Place Christian Academy\, 201 Park Place Drive\, Pearl\, MS\, 39208\, United States
CATEGORIES:Athletics Calendar
END:VEVENT
BEGIN:VEVENT
DTSTART;VALUE=DATE:20260921
DTEND;VALUE=DATE:20260922
DTSTAMP:20260421T105539
CREATED:20260420T150923Z
LAST-MODIFIED:20260420T150923Z
UID:10060-1789948800-1790035199@www.goppca.com
SUMMARY:Varsity Softball Game vs Discovery - SENIOR NIGHT
DESCRIPTION:Varsity Only – 6:00
URL:https://www.goppca.com/calendar/varsity-softball-game-vs-discovery-senior-night/
LOCATION:Park Place Christian Academy\, 201 Park Place Drive\, Pearl\, MS\, 39208\, United States
CATEGORIES:Athletics Calendar
END:VEVENT
BEGIN:VEVENT
DTSTART;VALUE=DATE:20260922
DTEND;VALUE=DATE:20260923
DTSTAMP:20260421T105539
CREATED:20260420T151025Z
LAST-MODIFIED:20260420T151040Z
UID:10062-1790035200-1790121599@www.goppca.com
SUMMARY:Varsity Softball Game @ Discovery
DESCRIPTION:Varsity Only – 4:30
URL:https://www.goppca.com/calendar/varsity-softball-game-discovery/
LOCATION:Yazoo City\, MS
CATEGORIES:Athletics Calendar
END:VEVENT
BEGIN:VEVENT
DTSTART;VALUE=DATE:20260924
DTEND;VALUE=DATE:20260925
DTSTAMP:20260421T105539
CREATED:20260420T155500Z
LAST-MODIFIED:20260420T161522Z
UID:10103-1790208000-1790294399@www.goppca.com
SUMMARY:PW/JH Football Game @ East Rankin
DESCRIPTION:Pee Wee – 5:00\nJH – 6:00
URL:https://www.goppca.com/calendar/pw-jh-football-game-east-rankin/
LOCATION:East Rankin Academy\, 400 MS-43\, Pelahatchie\, MS\, 39145
CATEGORIES:Athletics Calendar
END:VEVENT
BEGIN:VEVENT
DTSTART;VALUE=DATE:20260925
DTEND;VALUE=DATE:20260926
DTSTAMP:20260421T105539
CREATED:20260420T152429Z
LAST-MODIFIED:20260420T152500Z
UID:10077-1790294400-1790380799@www.goppca.com
SUMMARY:Varsity Football Game vs East Rankin
DESCRIPTION:7:00
URL:https://www.goppca.com/calendar/varsity-football-game-vs-east-rankin-2/
LOCATION:Park Place Christian Academy\, 201 Park Place Drive\, Pearl\, MS\, 39208\, United States
CATEGORIES:Athletics Calendar
END:VEVENT
END:VCALENDAR